BEGIN:VCALENDAR
VERSION:2.0
PRODID:-//Maryland Women&#039;s Business Center - ECPv6.15.11//NONSGML v1.0//EN
CALSCALE:GREGORIAN
METHOD:PUBLISH
X-ORIGINAL-URL:https://marylandwbc.org
X-WR-CALDESC:Events for Maryland Women&#039;s Business Center
REFRESH-INTERVAL;VALUE=DURATION:PT1H
X-Robots-Tag:noindex
X-PUBLISHED-TTL:PT1H
BEGIN:VTIMEZONE
TZID:America/New_York
BEGIN:DAYLIGHT
TZOFFSETFROM:-0500
TZOFFSETTO:-0400
TZNAME:EDT
DTSTART:20160313T070000
END:DAYLIGHT
BEGIN:STANDARD
TZOFFSETFROM:-0400
TZOFFSETTO:-0500
TZNAME:EST
DTSTART:20161106T060000
END:STANDARD
BEGIN:DAYLIGHT
TZOFFSETFROM:-0500
TZOFFSETTO:-0400
TZNAME:EDT
DTSTART:20170312T070000
END:DAYLIGHT
BEGIN:STANDARD
TZOFFSETFROM:-0400
TZOFFSETTO:-0500
TZNAME:EST
DTSTART:20171105T060000
END:STANDARD
BEGIN:DAYLIGHT
TZOFFSETFROM:-0500
TZOFFSETTO:-0400
TZNAME:EDT
DTSTART:20180311T070000
END:DAYLIGHT
BEGIN:STANDARD
TZOFFSETFROM:-0400
TZOFFSETTO:-0500
TZNAME:EST
DTSTART:20181104T060000
END:STANDARD
END:VTIMEZONE
BEGIN:VEVENT
DTSTART;TZID=America/New_York:20170105T093000
DTEND;TZID=America/New_York:20170105T123000
DTSTAMP:20260423T183924
CREATED:20161213T214349Z
LAST-MODIFIED:20161213T214349Z
UID:10001487-1483608600-1483619400@marylandwbc.org
SUMMARY:Bookkeeping for Small Business Owners- Prince George's County
DESCRIPTION:[su_button url=”http://mdwbc.ecenterdirect.com/events/786885″ background=”#ef2d3b” size=”12″ center=”yes” radius=”round”]Click Here to Register[/su_button] \nUnderstanding the importance of accurate financials in your business is critical. Expert Michael Hammelburger will teach you the basics of managing your books\, common mistakes business owners make and how to understand your financial reports. \nThe Maryland Women’s Business Center is located at Bowie State University – 14000 Jericho Park Road\, Bowie\, MD 20715. We are on the 2nd floor of the Center for Business & Graduate Studies in the Bowie Business Innovation Center (Bowie BIC): room 2312. Take the elevator to the 2nd floor. Turn right off of the elevator. We are a separate entity from the University. Our office phone number is 301-383-1550 ext. 104. \nNote our Policy: No refunds issued for workshops not attended. No walk-ins allowed in our Bowie or Frederick locations. \nYou MUST register online at www.marylandwbc.org so that we can save a place for you in the workshop. \n Inclement Weather Policy. MWBC in Prince George’s County follows Bowie State University weather closings. You can verify by Checking www.Marylandwbc.org to see if our workshop has been listed as rescheduled or cancelled.
URL:https://marylandwbc.org/workshops-and-seminars/bookkeeping-for-small-business-owners-prince-georges-county-2/
CATEGORIES:Bookkeeping,Prince George's County,Workshop
END:VEVENT
BEGIN:VEVENT
DTSTART;TZID=America/New_York:20170126T093000
DTEND;TZID=America/New_York:20170126T123000
DTSTAMP:20260423T183924
CREATED:20161213T204508Z
LAST-MODIFIED:20161213T204508Z
UID:10001485-1485423000-1485433800@marylandwbc.org
SUMMARY:QuickBooks Intro for Small Business-Prince George's County
DESCRIPTION:[su_button url=”http://mdwbc.ecenterdirect.com/events/786883″ background=”#ef2d3b” size=”12″ center=”yes” radius=”round”]Click Here to Register[/su_button] \n\nIn this workshop participants will learn how to set up and navigate company files\, the proper way to conduct data entry\, as well as how to appropriately classify expenses. Instructor Sherrell Martin will teach the desktop version of QuickBooks which will allow attendees to learn the basics of this accounting system. Please note that this is not the online version of QuickBooks. One can move forward to the online version once the basics have been mastered. Attendees do not need to bring a computer. \nMaryland Women’s Business Center is located at Bowie Business Innovation Center at Bowie State University\, Room #2312 \nNote our Policy: No refunds issued for workshops not attended. No walk-ins allowed in our Bowie or Frederick locations. \nYou MUST register online at www.marylandwbc.org/training so that we can save a place for you in the workshop. \nInclement Weather Policy: MWBC- Prince George’s County follows Bowie State University’s Weather Policy. If the University is closed\, then the workshop is cancelled. Please check our website for specific details regarding delays\, rescheduling or cancellation of this specific workshop.
URL:https://marylandwbc.org/workshops-and-seminars/quickbooks-intro-for-small-business-prince-georges-county/
CATEGORIES:Accounting/Budget,Bookkeeping,Prince George's County,Workshop
END:VEVENT
END:VCALENDAR