BEGIN:VCALENDAR
VERSION:2.0
PRODID:-//Maryland Women&#039;s Business Center - ECPv6.15.11//NONSGML v1.0//EN
CALSCALE:GREGORIAN
METHOD:PUBLISH
X-ORIGINAL-URL:https://marylandwbc.org
X-WR-CALDESC:Events for Maryland Women&#039;s Business Center
REFRESH-INTERVAL;VALUE=DURATION:PT1H
X-Robots-Tag:noindex
X-PUBLISHED-TTL:PT1H
BEGIN:VTIMEZONE
TZID:America/New_York
BEGIN:DAYLIGHT
TZOFFSETFROM:-0500
TZOFFSETTO:-0400
TZNAME:EDT
DTSTART:20160313T070000
END:DAYLIGHT
BEGIN:STANDARD
TZOFFSETFROM:-0400
TZOFFSETTO:-0500
TZNAME:EST
DTSTART:20161106T060000
END:STANDARD
BEGIN:DAYLIGHT
TZOFFSETFROM:-0500
TZOFFSETTO:-0400
TZNAME:EDT
DTSTART:20170312T070000
END:DAYLIGHT
BEGIN:STANDARD
TZOFFSETFROM:-0400
TZOFFSETTO:-0500
TZNAME:EST
DTSTART:20171105T060000
END:STANDARD
BEGIN:DAYLIGHT
TZOFFSETFROM:-0500
TZOFFSETTO:-0400
TZNAME:EDT
DTSTART:20180311T070000
END:DAYLIGHT
BEGIN:STANDARD
TZOFFSETFROM:-0400
TZOFFSETTO:-0500
TZNAME:EST
DTSTART:20181104T060000
END:STANDARD
END:VTIMEZONE
BEGIN:VEVENT
DTSTART;TZID=America/New_York:20170210T100000
DTEND;TZID=America/New_York:20170210T130000
DTSTAMP:20260424T122655
CREATED:20170102T200203Z
LAST-MODIFIED:20170102T200203Z
UID:10001511-1486720800-1486731600@marylandwbc.org
SUMMARY:Writing a Successful Business Plan-Montgomery County
DESCRIPTION:[su_button url=”http://mdwbc.ecenterdirect.com/events/786897″ background=”#ef2d3b” size=”12″ center=”yes” radius=”round”]Click Here to Register[/su_button] \n\nUnderstand why you need a strong business plan. Learn how to develop each critical piece of your plan. Workshop includes comprehensive outline and additional resources. \nNote our Policy: No refunds issued for workshops not attended. No walk-ins allowed in our Bowie or Frederick locations. No cash walk-ins allowed (credit cards accepted) in our Rockville location. You must register online at www.marylandwbc.org so that we can save a place for you in the workshop.
URL:https://marylandwbc.org/workshops-and-seminars/writing-a-successful-business-plan-montgomery-county-7/
CATEGORIES:Developing a Business Plan,Montgomery County,Workshop
END:VEVENT
BEGIN:VEVENT
DTSTART;TZID=America/New_York:20170212T143000
DTEND;TZID=America/New_York:20170212T173000
DTSTAMP:20260424T122655
CREATED:20170102T200439Z
LAST-MODIFIED:20170102T200439Z
UID:10001512-1486909800-1486920600@marylandwbc.org
SUMMARY:Writing a Successful Business Plan- Prince George's County
DESCRIPTION:[su_button url=”http://mdwbc.ecenterdirect.com/events/786898″ background=”#ef2d3b” size=”12″ center=”yes” radius=”round”]Click Here to Register[/su_button] \nUnderstand why you need a strong business plan. Learn how to develop each critical piece of your plan. A Business Plan is an essential road map to help steer your business in the right direction\, keep you on track and provide critical documentation when you are ready to seek funding. Workshop includes comprehensive outline and additional resources. \nMaryland Women’s Business Center is located at Bowie Business Innovation Center at Bowie State University\, Room #2312 \nNote our Policy: No refunds issued for workshops not attended. No walk-ins allowed in our Bowie or Frederick locations. \nYou MUST register online at www.marylandwbc.org/training so that we can save a place for you in the workshop.
URL:https://marylandwbc.org/workshops-and-seminars/writing-a-successful-business-plan-prince-georges-county-11/
CATEGORIES:Developing a Business Plan,Prince George's County,Workshop
END:VEVENT
BEGIN:VEVENT
DTSTART;TZID=America/New_York:20170215T130000
DTEND;TZID=America/New_York:20170215T160000
DTSTAMP:20260424T122655
CREATED:20170102T201044Z
LAST-MODIFIED:20170102T201044Z
UID:10001514-1487163600-1487174400@marylandwbc.org
SUMMARY:Write a Successful Business Plan - Frederick County
DESCRIPTION:[su_button url=”http://mdwbc.ecenterdirect.com/events/786899″ background=”#ef2d3b” size=”12″ center=”yes” radius=”round”]Click Here to Register[/su_button] \n\nUnderstand why you need a strong business plan. Learn how to develop each critical piece of your plan. Workshop includes comprehensive outline and additional resources \nNote our Policy: No refunds will be issued for workshops not attended\,/p>. \nNo walk-ins are allowed in our Bowie or Frederick locations. You must register online at www.marylandwbc.org so that we can save a place for you in the workshop.
URL:https://marylandwbc.org/workshops-and-seminars/write-a-successful-business-plan-frederick-county-2/
CATEGORIES:Developing a Business Plan,Frederick County,Location,Workshop
END:VEVENT
BEGIN:VEVENT
DTSTART;TZID=America/New_York:20170217T100000
DTEND;TZID=America/New_York:20170217T130000
DTSTAMP:20260424T122655
CREATED:20170102T201412Z
LAST-MODIFIED:20170102T201412Z
UID:10001516-1487325600-1487336400@marylandwbc.org
SUMMARY:Plan de Negocios Exitoso - Montgomery County
DESCRIPTION:[su_button url=”http://mdwbc.ecenterdirect.com/events/786900″ background=”#ef2d3b” size=”12″ center=”yes” radius=”round”]Click Here to Register[/su_button] \nAprenda por que usted necesita un Plan de Negocios sólido y robusto. Aprenda como desarrollar cada parte crítica de su plan.Este taller incluye un esbozo general y le orienta sobre otros recursos adicionales a los que usted puede acceder para elaborar un Exitoso Plan de Negocios en Rockville. \nCosto: $35
URL:https://marylandwbc.org/workshops-and-seminars/plan-de-negocios-exitoso-montgomery-county-6/
CATEGORIES:Developing a Business Plan,Language,Location,Montgomery County,Spanish,Workshop
END:VEVENT
END:VCALENDAR