BEGIN:VCALENDAR
VERSION:2.0
PRODID:-//Maryland Women&#039;s Business Center - ECPv6.15.11//NONSGML v1.0//EN
CALSCALE:GREGORIAN
METHOD:PUBLISH
X-ORIGINAL-URL:https://marylandwbc.org
X-WR-CALDESC:Events for Maryland Women&#039;s Business Center
REFRESH-INTERVAL;VALUE=DURATION:PT1H
X-Robots-Tag:noindex
X-PUBLISHED-TTL:PT1H
BEGIN:VTIMEZONE
TZID:America/New_York
BEGIN:DAYLIGHT
TZOFFSETFROM:-0500
TZOFFSETTO:-0400
TZNAME:EDT
DTSTART:20160313T070000
END:DAYLIGHT
BEGIN:STANDARD
TZOFFSETFROM:-0400
TZOFFSETTO:-0500
TZNAME:EST
DTSTART:20161106T060000
END:STANDARD
BEGIN:DAYLIGHT
TZOFFSETFROM:-0500
TZOFFSETTO:-0400
TZNAME:EDT
DTSTART:20170312T070000
END:DAYLIGHT
BEGIN:STANDARD
TZOFFSETFROM:-0400
TZOFFSETTO:-0500
TZNAME:EST
DTSTART:20171105T060000
END:STANDARD
BEGIN:DAYLIGHT
TZOFFSETFROM:-0500
TZOFFSETTO:-0400
TZNAME:EDT
DTSTART:20180311T070000
END:DAYLIGHT
BEGIN:STANDARD
TZOFFSETFROM:-0400
TZOFFSETTO:-0500
TZNAME:EST
DTSTART:20181104T060000
END:STANDARD
END:VTIMEZONE
BEGIN:VEVENT
DTSTART;TZID=America/New_York:20170809T173000
DTEND;TZID=America/New_York:20170809T193000
DTSTAMP:20260424T023247
CREATED:20170711T154107Z
LAST-MODIFIED:20170711T154107Z
UID:10001727-1502299800-1502307000@marylandwbc.org
SUMMARY:Business Plan: How to Create a Hot Executive Summary -Montgomery County
DESCRIPTION:[su_button url=”https://mdwbc.ecenterdirect.com/events/787061″ background=”#ef2d3b” size=”12″ center=”yes” radius=”round”]Click Here to Register[/su_button] \nThis workshop is for those who have previously attended any of our business plan workshops. We will incorporate the latest tools\, marketing strategies and develop\, revise and present the executive summary to the group for feedback and reactions. \nNote our Policy: You must register online at www.marylandwbc.org so that we can save a place for you in the workshop.
URL:https://marylandwbc.org/workshops-and-seminars/business-plan-how-to-create-a-hot-executive-summary-montgomery-county/
CATEGORIES:Business Development Strategies,Developing a Business Plan,Montgomery County,Workshop
END:VEVENT
BEGIN:VEVENT
DTSTART;TZID=America/New_York:20170814T130000
DTEND;TZID=America/New_York:20170814T160000
DTSTAMP:20260424T023247
CREATED:20170711T142619Z
LAST-MODIFIED:20170711T142619Z
UID:10001714-1502715600-1502726400@marylandwbc.org
SUMMARY:Writing a Successful Business Plan- Frederick County
DESCRIPTION:[su_button url=”https://mdwbc.ecenterdirect.com/events/787055″ background=”#ef2d3b” size=”12″ center=”yes” radius=”round”]Click Here to Register[/su_button] \nUnderstand why you need a strong business plan. Learn how to develop each critical piece of your plan. Workshop includes comprehensive outline and additional resources. \nNote our Policy: No refunds will be issued for workshops not attended\,/p>. \nNo walk-ins are allowed in our Bowie or Frederick locations. You must register online at www.marylandwbc.org so that we can save a place for you in the workshop.
URL:https://marylandwbc.org/workshops-and-seminars/writing-a-successful-business-plan-frederick-county-4/
LOCATION:our-mission
CATEGORIES:Business Development Strategies,Developing a Business Plan,Frederick County,Workshop
END:VEVENT
BEGIN:VEVENT
DTSTART;TZID=America/New_York:20170815T093000
DTEND;TZID=America/New_York:20170815T123000
DTSTAMP:20260424T023247
CREATED:20170622T172955Z
LAST-MODIFIED:20170622T172955Z
UID:10001690-1502789400-1502800200@marylandwbc.org
SUMMARY:Writing a Successful Business Plan- Prince George's County
DESCRIPTION:[su_button url=”https://mdwbc.ecenterdirect.com/events/787046″ background=”#ef2d3b” size=”12″ center=”yes” radius=”round”]Click Here to Register[/su_button] \nUnderstand why you need a strong business plan. Learn how to develop each critical piece of your plan. A Business Plan is an essential road map to help steer your business in the right direction\, keep you on track and provide critical documentation when you are ready to seek funding. Workshop includes comprehensive outline and additional resources. \nMaryland Women’s Business Center is located at Bowie Business Innovation Center at Bowie State University\, Room 2312. \nNote our Policy: No refunds issued for workshops not attended. No walk-ins allowed in our Bowie location. \nYou MUST register online at www.marylandwbc.org/training so that we can save a place for you in the workshop.
URL:https://marylandwbc.org/workshops-and-seminars/writing-a-successful-business-plan-prince-georges-county-17/
CATEGORIES:Developing a Business Plan,Prince George's County,Workshop
END:VEVENT
END:VCALENDAR