BEGIN:VCALENDAR
VERSION:2.0
PRODID:-//Maryland Women&#039;s Business Center - ECPv6.15.11//NONSGML v1.0//EN
CALSCALE:GREGORIAN
METHOD:PUBLISH
X-WR-CALNAME:Maryland Women&#039;s Business Center
X-ORIGINAL-URL:https://marylandwbc.org
X-WR-CALDESC:Events for Maryland Women&#039;s Business Center
REFRESH-INTERVAL;VALUE=DURATION:PT1H
X-Robots-Tag:noindex
X-PUBLISHED-TTL:PT1H
BEGIN:VTIMEZONE
TZID:America/New_York
BEGIN:DAYLIGHT
TZOFFSETFROM:-0500
TZOFFSETTO:-0400
TZNAME:EDT
DTSTART:20160313T070000
END:DAYLIGHT
BEGIN:STANDARD
TZOFFSETFROM:-0400
TZOFFSETTO:-0500
TZNAME:EST
DTSTART:20161106T060000
END:STANDARD
BEGIN:DAYLIGHT
TZOFFSETFROM:-0500
TZOFFSETTO:-0400
TZNAME:EDT
DTSTART:20170312T070000
END:DAYLIGHT
BEGIN:STANDARD
TZOFFSETFROM:-0400
TZOFFSETTO:-0500
TZNAME:EST
DTSTART:20171105T060000
END:STANDARD
BEGIN:DAYLIGHT
TZOFFSETFROM:-0500
TZOFFSETTO:-0400
TZNAME:EDT
DTSTART:20180311T070000
END:DAYLIGHT
BEGIN:STANDARD
TZOFFSETFROM:-0400
TZOFFSETTO:-0500
TZNAME:EST
DTSTART:20181104T060000
END:STANDARD
END:VTIMEZONE
BEGIN:VEVENT
DTSTART;TZID=America/New_York:20171008T143000
DTEND;TZID=America/New_York:20171008T173000
DTSTAMP:20260423T232748
CREATED:20170920T133939Z
LAST-MODIFIED:20170920T133939Z
UID:10001473-1507473000-1507483800@marylandwbc.org
SUMMARY:Writing a Successful Business Plan- Prince George's County
DESCRIPTION:[su_button url=”https://mdwbc.ecenterdirect.com/events/787099″ background=”#ef2d3b” size=”12″ center=”yes” radius=”round”]Click Here to Register[/su_button] \nUnderstand why you need a strong business plan. Learn how to develop each critical piece of your plan. A Business Plan is an essential road map to help steer your business in the right direction\, keep you on track and provide critical documentation when you are ready to seek funding. Workshop includes comprehensive outline and additional resources. \nMaryland Women’s Business Center is located at Bowie Business Innovation Center at Bowie State University\, Room 2312. \nNote our Policy: No refunds issued for workshops not attended. No walk-ins allowed in our Bowie location. \nYou MUST register online at www.marylandwbc.org/training so that we can save a place for you in the workshop.
URL:https://marylandwbc.org/workshops-and-seminars/writing-a-successful-business-plan-prince-georges-county-19/
LOCATION:About Us
CATEGORIES:Developing a Business Plan,Prince George's County,Workshop
END:VEVENT
BEGIN:VEVENT
DTSTART;TZID=America/New_York:20171013T100000
DTEND;TZID=America/New_York:20171013T130000
DTSTAMP:20260423T232748
CREATED:20170920T135925Z
LAST-MODIFIED:20170920T135925Z
UID:10001482-1507888800-1507899600@marylandwbc.org
SUMMARY:Writing a Successful Business Plan-Montgomery County
DESCRIPTION:[su_button url=”https://mdwbc.ecenterdirect.com/events/787103″ background=”#ef2d3b” size=”12″ center=”yes” radius=”round”]Click Here to Register[/su_button] \nUnderstand why you need a strong business plan. Learn how to develop each critical piece of your plan. Workshop includes comprehensive outline and additional resources. \nNote our Policy: No refunds issued for workshops not attended. No walk-ins allowed in our Bowie or Frederick locations. No cash walk-ins allowed (credit cards accepted) in our Rockville location. You must register online at www.marylandwbc.org so that we can save a place for you in the workshop.
URL:https://marylandwbc.org/workshops-and-seminars/writing-a-successful-business-plan-montgomery-county-15/
CATEGORIES:Developing a Business Plan,Montgomery County,Workshop
END:VEVENT
BEGIN:VEVENT
DTSTART;TZID=America/New_York:20171019T173000
DTEND;TZID=America/New_York:20171019T203000
DTSTAMP:20260423T232748
CREATED:20170920T140845Z
LAST-MODIFIED:20170920T140845Z
UID:10001780-1508434200-1508445000@marylandwbc.org
SUMMARY:Write an Effective Business Plan Intensive Series - Montgomery County
DESCRIPTION:[su_button url=”https://mdwbc.ecenterdirect.com/events/787108″ background=”#ef2d3b” size=”12″ center=”yes” radius=”round”]Click Here to Register[/su_button] \nThis six-week intensive course\, taught by Martha Jimenz\, runs Thursdays October 19 through Thursday\, Nov. 30. You will meet once a week for three hours. The series takes you through the process of developing a strong business plan. You will finish the program with a road map and complete plan in hand to guide you through the growth of your business. This series is great preparation for entering the 2018 StartRight! Business Plan Competition. Series Fee: $199 includes materials must be paid in full prior to start of class. \nyou MUST register. No walk-ins for this series as we must order books ahead of time. \nWe are located in Suite 20\, Plaza East\, co-located with Rockville Economic Development(REDI) offices. \nThere is parking in the garage below the building at 51 Monroe. The entrance is on Monroe Place. \nIf you park in the garage below our building\, take the elevator to PL for plaza level. We are unable to reimburse for parking. \nPlease Note: There are no refunds for workshops not attended. You must register in advance for this workshop so that materials may be prepared for you.
URL:https://marylandwbc.org/workshops-and-seminars/write-an-effective-business-plan-intensive-series-montgomery-county-4/
CATEGORIES:Developing a Business Plan,Montgomery County,Workshop
END:VEVENT
BEGIN:VEVENT
DTSTART;TZID=America/New_York:20171020T100000
DTEND;TZID=America/New_York:20171020T130000
DTSTAMP:20260423T232748
CREATED:20170920T141016Z
LAST-MODIFIED:20170920T141016Z
UID:10001781-1508493600-1508504400@marylandwbc.org
SUMMARY:Plan de Negocios Exitoso - Montgomery County
DESCRIPTION:[su_button url=”https://mdwbc.ecenterdirect.com/events/787109″ background=”#ef2d3b” size=”12″ center=”yes” radius=”round”]Click Here to Register[/su_button] \nAprenda por que usted necesita un Plan de Negocios sólido y robusto. Aprenda como desarrollar cada parte crítica de su plan.Este taller incluye un esbozo general y le orienta sobre otros recursos adicionales a los que usted puede acceder para elaborar un Exitoso Plan de Negocios en Rockville. \nCosto: $35
URL:https://marylandwbc.org/workshops-and-seminars/plan-de-negocios-exitoso-montgomery-county-14/
CATEGORIES:Developing a Business Plan,Montgomery County,Spanish,Workshop
END:VEVENT
BEGIN:VEVENT
DTSTART;TZID=America/New_York:20171024T093000
DTEND;TZID=America/New_York:20171024T123000
DTSTAMP:20260423T232748
CREATED:20170920T144424Z
LAST-MODIFIED:20170920T144424Z
UID:10001782-1508837400-1508848200@marylandwbc.org
SUMMARY:Write an Effective Business Plan Intensive Series- Prince George's County
DESCRIPTION:[su_button url=”https://mdwbc.ecenterdirect.com/events/787110″ background=”#ef2d3b” size=”12″ center=”yes” radius=”round”]Click Here to Register[/su_button] \nThis six-week intensive course\, taught by Angie Duncanson\, runs on Tuesdays from October 24 through November 28. You will meet once a week for three hours.The series takes you through the process of developing a strong business plan. You will finish the program with a road map and complete plan in hand to guide you through the growth of your business. Series fee is $199 and includes materials. Fee must be paid in full prior to start of class. \nThis series is great preparing for entering the 2018 StartRight! Business Plan Competition. \nYou must register online so that we can save a place for you in the workshop and prepare materials for you. NO WALKS-INS allowed. \nMaryland Women’s Business Center is located at Bowie Business Innovation Center at Bowie State University\, Room #2312 \nNote our Policy: No refunds issued for workshops not attended. No walk-ins permitted in our Bowie location.
URL:https://marylandwbc.org/workshops-and-seminars/write-an-effective-business-plan-intensive-series-prince-georges-county-4/
LOCATION:About Us
CATEGORIES:Developing a Business Plan,Prince George's County,Workshop
END:VEVENT
END:VCALENDAR