BEGIN:VCALENDAR
VERSION:2.0
PRODID:-//Maryland Women&#039;s Business Center - ECPv6.15.11//NONSGML v1.0//EN
CALSCALE:GREGORIAN
METHOD:PUBLISH
X-ORIGINAL-URL:https://marylandwbc.org
X-WR-CALDESC:Events for Maryland Women&#039;s Business Center
REFRESH-INTERVAL;VALUE=DURATION:PT1H
X-Robots-Tag:noindex
X-PUBLISHED-TTL:PT1H
BEGIN:VTIMEZONE
TZID:America/New_York
BEGIN:DAYLIGHT
TZOFFSETFROM:-0500
TZOFFSETTO:-0400
TZNAME:EDT
DTSTART:20170312T070000
END:DAYLIGHT
BEGIN:STANDARD
TZOFFSETFROM:-0400
TZOFFSETTO:-0500
TZNAME:EST
DTSTART:20171105T060000
END:STANDARD
BEGIN:DAYLIGHT
TZOFFSETFROM:-0500
TZOFFSETTO:-0400
TZNAME:EDT
DTSTART:20180311T070000
END:DAYLIGHT
BEGIN:STANDARD
TZOFFSETFROM:-0400
TZOFFSETTO:-0500
TZNAME:EST
DTSTART:20181104T060000
END:STANDARD
BEGIN:DAYLIGHT
TZOFFSETFROM:-0500
TZOFFSETTO:-0400
TZNAME:EDT
DTSTART:20190310T070000
END:DAYLIGHT
BEGIN:STANDARD
TZOFFSETFROM:-0400
TZOFFSETTO:-0500
TZNAME:EST
DTSTART:20191103T060000
END:STANDARD
END:VTIMEZONE
BEGIN:VEVENT
DTSTART;TZID=America/New_York:20180109T093000
DTEND;TZID=America/New_York:20180109T123000
DTSTAMP:20260423T190502
CREATED:20171205T200819Z
LAST-MODIFIED:20171205T200819Z
UID:10001504-1515490200-1515501000@marylandwbc.org
SUMMARY:Writing a Successful Business Plan- Prince George's County
DESCRIPTION:[su_button url=”https://mdwbc.ecenterdirect.com/events/787157″ background=”#ef2d3b” size=”12″ center=”yes” radius=”round”]Click Here to Register[/su_button] \nUnderstand why you need a strong business plan. Learn how to develop each critical piece of your plan. A Business Plan is an essential road map to help steer your business in the right direction\, keep you on track and provide critical documentation when you are ready to seek funding. Workshop includes comprehensive outline and additional resources. \nMaryland Women’s Business Center is located at Bowie Business Innovation Center at Bowie State University\, Room 2312. \nNote our Policy: No refunds issued for workshops not attended. No walk-ins allowed in our Bowie location. \nYou MUST register online at www.marylandwbc.org/training so that we can save a place for you in the workshop. \nInclment Weather Policy: MWBC Bowie follows Bowie State University School closings.
URL:https://marylandwbc.org/workshops-and-seminars/writing-a-successful-business-plan-prince-georges-county-22/
CATEGORIES:Developing a Business Plan,Prince George's County,Workshop
END:VEVENT
BEGIN:VEVENT
DTSTART;TZID=America/New_York:20180119T100000
DTEND;TZID=America/New_York:20180119T130000
DTSTAMP:20260423T190502
CREATED:20171205T203059Z
LAST-MODIFIED:20171205T203059Z
UID:10001522-1516356000-1516366800@marylandwbc.org
SUMMARY:Writing a Successful Business Plan-Montgomery County
DESCRIPTION:[su_button url=”https://mdwbc.ecenterdirect.com/events/787163″ background=”#ef2d3b” size=”12″ center=”yes” radius=”round”]Click Here to Register[/su_button] \nUnderstand why you need a strong business plan. Learn how to develop each critical piece of your plan. Workshop includes comprehensive outline and additional resources. \nNote our Policy: No refunds issued for workshops not attended. No walk-ins allowed in our Bowie or Frederick locations. No cash walk-ins allowed (credit cards accepted) in our Rockville location. You must register online at www.marylandwbc.org so that we can save a place for you in the workshop. \nInclement Wether Policy: MWBC Rockville follows Montgomery County Public School closings.
URL:https://marylandwbc.org/workshops-and-seminars/writing-a-successful-business-plan-montgomery-county-18/
CATEGORIES:Developing a Business Plan,Montgomery County,Workshop
END:VEVENT
END:VCALENDAR