BEGIN:VCALENDAR
VERSION:2.0
PRODID:-//Maryland Women&#039;s Business Center - ECPv6.15.11//NONSGML v1.0//EN
CALSCALE:GREGORIAN
METHOD:PUBLISH
X-ORIGINAL-URL:https://marylandwbc.org
X-WR-CALDESC:Events for Maryland Women&#039;s Business Center
REFRESH-INTERVAL;VALUE=DURATION:PT1H
X-Robots-Tag:noindex
X-PUBLISHED-TTL:PT1H
BEGIN:VTIMEZONE
TZID:America/New_York
BEGIN:DAYLIGHT
TZOFFSETFROM:-0500
TZOFFSETTO:-0400
TZNAME:EDT
DTSTART:20170312T070000
END:DAYLIGHT
BEGIN:STANDARD
TZOFFSETFROM:-0400
TZOFFSETTO:-0500
TZNAME:EST
DTSTART:20171105T060000
END:STANDARD
BEGIN:DAYLIGHT
TZOFFSETFROM:-0500
TZOFFSETTO:-0400
TZNAME:EDT
DTSTART:20180311T070000
END:DAYLIGHT
BEGIN:STANDARD
TZOFFSETFROM:-0400
TZOFFSETTO:-0500
TZNAME:EST
DTSTART:20181104T060000
END:STANDARD
BEGIN:DAYLIGHT
TZOFFSETFROM:-0500
TZOFFSETTO:-0400
TZNAME:EDT
DTSTART:20190310T070000
END:DAYLIGHT
BEGIN:STANDARD
TZOFFSETFROM:-0400
TZOFFSETTO:-0500
TZNAME:EST
DTSTART:20191103T060000
END:STANDARD
END:VTIMEZONE
BEGIN:VEVENT
DTSTART;TZID=America/New_York:20180604T130000
DTEND;TZID=America/New_York:20180604T160000
DTSTAMP:20260423T114332
CREATED:20180516T180100Z
LAST-MODIFIED:20180516T180100Z
UID:10001984-1528117200-1528128000@marylandwbc.org
SUMMARY:Group Counseling-Topic: New Business - Frederick County
DESCRIPTION:[su_button url=”https://mdwbc.ecenterdirect.com/events/787298″ background=”#ef2d3b” size=”12″ center=”yes” radius=”round”]Click Here to Register[/su_button] \nBusiness Start-up/Preplanning\, Woman-owned Businesses\nDescription: \n\nIn this group counseling session led by Maria McElhenny\, we will have an open question and answer forum where you can bring your ideas or explore and find tips to your challenges and learn about tools that can help you start or grow your business. \nSpace is limited and registration is required. \nNo walk-ins are allowed in our Bowie or Frederick locations. \nYou must register online at www.marylandwbc.org so that we can save a place for you in the workshop.
URL:https://marylandwbc.org/workshops-and-seminars/group-counseling-topic-new-business-frederick-county-12/
LOCATION:our-mission
CATEGORIES:Developing a Business Plan,Frederick County,Woman-Owned and Minority Certifications,Workshop
END:VEVENT
BEGIN:VEVENT
DTSTART;TZID=America/New_York:20180605T130000
DTEND;TZID=America/New_York:20180605T150000
DTSTAMP:20260423T114332
CREATED:20180516T175443Z
LAST-MODIFIED:20180516T175443Z
UID:10001983-1528203600-1528210800@marylandwbc.org
SUMMARY:Orientation to Small Business Resources-Frederick County
DESCRIPTION:[su_button url=”https://mdwbc.ecenterdirect.com/events/787297″ background=”#ef2d3b” size=”12″ center=”yes” radius=”round”]Click Here to Register[/su_button] \nBusiness Plan\, Business Start-up/Preplanning\, Woman-owned Businesses\nDescription: \n\nLearn about the Maryland Women’s Business Center and other resources to help you start and grow your business. \nNote our Policy: You must register online at www.marylandwbc.org so that we can save a place for you in the workshop.
URL:https://marylandwbc.org/workshops-and-seminars/orientation-to-small-business-resources-frederick-county-7/
LOCATION:our-mission
CATEGORIES:Developing a Business Plan,Frederick County,Woman-Owned and Minority Certifications,Workshop
END:VEVENT
BEGIN:VEVENT
DTSTART;TZID=America/New_York:20180611T093000
DTEND;TZID=America/New_York:20180611T123000
DTSTAMP:20260423T114332
CREATED:20180516T181517Z
LAST-MODIFIED:20180516T181517Z
UID:10001988-1528709400-1528720200@marylandwbc.org
SUMMARY:ABCs of Starting a Business- Prince George's County
DESCRIPTION:[su_button url=”https://mdwbc.ecenterdirect.com/events/787294″ background=”#ef2d3b” size=”12″ center=”yes” radius=”round”]Click Here to Register[/su_button] \nBusiness Start-up/Preplanning\nDescription: \n\nJoin us to find out what it really takes to start your own business. Learn more about the steps involved and discover the many resources available to support you. This workshop is for those thinking about starting a business and also for those with a new business who want to establish a strong foundation to grow. \nThis workshop will take place at Bowie City Hall. No registrations allowed after 12noon on the day prior to the workshop. \nNote our Policy: No refunds issued for workshops not attended. No walk-ins allowed in our Bowie location. \nYou MUST register online at www.marylandwbc.org so that we can save a place for you in the workshop.
URL:https://marylandwbc.org/workshops-and-seminars/abcs-of-starting-a-business-prince-georges-county-23/
CATEGORIES:Developing a Business Plan,Prince George's County,Starting a Business,Woman-Owned and Minority Certifications,Workshop
END:VEVENT
BEGIN:VEVENT
DTSTART;TZID=America/New_York:20180625T130000
DTEND;TZID=America/New_York:20180625T160000
DTSTAMP:20260423T114332
CREATED:20180516T180713Z
LAST-MODIFIED:20180516T180713Z
UID:10001986-1529931600-1529942400@marylandwbc.org
SUMMARY:ABCs of Starting a Business- Frederick County
DESCRIPTION:[su_button url=”https://mdwbc.ecenterdirect.com/events/787300″ background=”#ef2d3b” size=”12″ center=”yes” radius=”round”]Click Here to Register[/su_button] \nBusiness Start-up/Preplanning\, Woman-owned Businesses\nDescription: \n\nJoin us to find out what it really takes to start your own business. Learn more about the steps involved and discover the many resources available to support you. This workshop is for those thinking of starting a business or those with a new business that want to have a strong foundation to grow. \nNote our Policy: No refunds will be issued for workshops not attended\, \nNo walk-ins are allowed in our Bowie or Frederick locations. You must register online at www.marylandwbc.org so that we can save a place for you in the workshop.
URL:https://marylandwbc.org/workshops-and-seminars/abcs-of-starting-a-business-frederick-county-14/
LOCATION:our-mission
CATEGORIES:Developing a Business Plan,Frederick County,Starting a Business,Woman-Owned and Minority Certifications
END:VEVENT
BEGIN:VEVENT
DTSTART;TZID=America/New_York:20180626T093000
DTEND;TZID=America/New_York:20180626T110000
DTSTAMP:20260423T114332
CREATED:20180516T182141Z
LAST-MODIFIED:20180516T182141Z
UID:10001590-1530005400-1530010800@marylandwbc.org
SUMMARY:Intro to Business Ownership - Prince George's County
DESCRIPTION:[su_button url=”https://mdwbc.ecenterdirect.com/events/787296″ background=”#ef2d3b” size=”12″ center=”yes” radius=”round”]Click Here to Register[/su_button] \nBusiness Start-up/Preplanning\nDescription: \n\nDo you understand what entrepreneurship entails? Let Senior Business Trainer and Counselor\, Angie Duncanson\, help you understand the different paths and strategies to owning your own business. \nNote our Policy: No refunds issued for workshops not attended. \nNo walk-ins accepted.You must register online at www.marylandwbc.org so that we can save a place for you in the workshop.The Maryland Women’s Business Center is located at Bowie State University – 14000 Jericho Park Road\, Bowie\, MD 20715. We are on the 2nd floor of the Center for Business & Graduate Studies in the Bowie Business Innovation Center (Bowie BIC): room 2312. Take the elevator to the 2nd floor. Turn right off of the elevator. We are a separate entity from the University. Our office phone number is 301-383-1550 ext. 104
URL:https://marylandwbc.org/workshops-and-seminars/intro-to-business-ownership-prince-georges-county/
CATEGORIES:Developing a Business Plan,Prince George's County,Starting a Business,Workshop
END:VEVENT
BEGIN:VEVENT
DTSTART;TZID=America/New_York:20180626T130000
DTEND;TZID=America/New_York:20180626T160000
DTSTAMP:20260423T114332
CREATED:20180516T181058Z
LAST-MODIFIED:20180516T181058Z
UID:10001987-1530018000-1530028800@marylandwbc.org
SUMMARY:Group Counseling-Topic: New Business - Frederick County
DESCRIPTION:[su_button url=”https://mdwbc.ecenterdirect.com/events/787301″ background=”#ef2d3b” size=”12″ center=”yes” radius=”round”]Click Here to Register[/su_button] \nBusiness Start-up/Preplanning\, Woman-owned Businesses\nDescription: \n\nIn this group counseling session led by Maria McElhenny\, we will have an open question and answer forum where you can bring your ideas or explore and find tips to your challenges and learn about tools that can help you start or grow your business. \nSpace is limited and registration is required. \nNo walk-ins are allowed in our Bowie or Frederick locations. \nYou must register online at www.marylandwbc.org so that we can save a place for you in the workshop.
URL:https://marylandwbc.org/workshops-and-seminars/group-counseling-topic-new-business-frederick-county-13/
LOCATION:our-mission
CATEGORIES:Developing a Business Plan,Frederick County,Starting a Business,Woman-Owned and Minority Certifications,Workshop
END:VEVENT
END:VCALENDAR