BEGIN:VCALENDAR
VERSION:2.0
PRODID:-//Maryland Women&#039;s Business Center - ECPv6.15.11//NONSGML v1.0//EN
CALSCALE:GREGORIAN
METHOD:PUBLISH
X-ORIGINAL-URL:https://marylandwbc.org
X-WR-CALDESC:Events for Maryland Women&#039;s Business Center
REFRESH-INTERVAL;VALUE=DURATION:PT1H
X-Robots-Tag:noindex
X-PUBLISHED-TTL:PT1H
BEGIN:VTIMEZONE
TZID:America/New_York
BEGIN:DAYLIGHT
TZOFFSETFROM:-0500
TZOFFSETTO:-0400
TZNAME:EDT
DTSTART:20170312T070000
END:DAYLIGHT
BEGIN:STANDARD
TZOFFSETFROM:-0400
TZOFFSETTO:-0500
TZNAME:EST
DTSTART:20171105T060000
END:STANDARD
BEGIN:DAYLIGHT
TZOFFSETFROM:-0500
TZOFFSETTO:-0400
TZNAME:EDT
DTSTART:20180311T070000
END:DAYLIGHT
BEGIN:STANDARD
TZOFFSETFROM:-0400
TZOFFSETTO:-0500
TZNAME:EST
DTSTART:20181104T060000
END:STANDARD
BEGIN:DAYLIGHT
TZOFFSETFROM:-0500
TZOFFSETTO:-0400
TZNAME:EDT
DTSTART:20190310T070000
END:DAYLIGHT
BEGIN:STANDARD
TZOFFSETFROM:-0400
TZOFFSETTO:-0500
TZNAME:EST
DTSTART:20191103T060000
END:STANDARD
END:VTIMEZONE
BEGIN:VEVENT
DTSTART;TZID=America/New_York:20180702T093000
DTEND;TZID=America/New_York:20180702T103000
DTSTAMP:20260423T101700
CREATED:20180612T161451Z
LAST-MODIFIED:20180612T161451Z
UID:10001595-1530523800-1530527400@marylandwbc.org
SUMMARY:Orientation to Small Business Resources- Prince George's County
DESCRIPTION:[su_button url=”https://mdwbc.ecenterdirect.com/events/787311″ background=”#ef2d3b” size=”12″]CLICK HERE TO REGISTER![/su_button] \nLearn about the Maryland Women’s business Center and other resources to help you start and grow your business. \nNote our Policy: No walk-ins allowed in our Bowie location. \nYou must register online at www.marylandwbc.org so that we can save a place for you in the workshop. \nThe Maryland Women’s Business Center is located at Bowie State University – 14000 Jericho Park Road\, Bowie\, MD 20715. We are on the 2nd floor of the Center for Business & Graduate Studies in the Bowie Business Innovation Center (Bowie BIC): room 2312. Take the elevator to the 2nd floor. Turn right off of the elevator. We are a separate entity from the University. Our office phone number is 301-383-1550 ext. 104 \n 
URL:https://marylandwbc.org/workshops-and-seminars/orientation-to-small-business-resources-prince-georges-county-11/
CATEGORIES:Business Development Strategies,Developing a Business Plan,Orientation,Prince George's County,Starting a Business,Workshop
ATTACH;FMTTYPE=:
END:VEVENT
BEGIN:VEVENT
DTSTART;TZID=America/New_York:20180702T130000
DTEND;TZID=America/New_York:20180702T160000
DTSTAMP:20260423T101700
CREATED:20180613T135211Z
LAST-MODIFIED:20180613T135211Z
UID:10001992-1530536400-1530547200@marylandwbc.org
SUMMARY:Group Counseling-Topic: New Business - Frederick County
DESCRIPTION:[su_button url=”https://mdwbc.ecenterdirect.com/events/787307″ background=”#ef2d3b” size=”12″]CLICK HERE TO REGISTER![/su_button] \nTraining Topics: Business Start-up/Preplanning\, Woman-owned Businesses\nDescription: \n\nIn this group counseling session led by Maria McElhenny\, we will have an open question and answer forum where you can bring your ideas or explore and find tips to your challenges and learn about tools that can help you start or grow your business. \nSpace is limited and registration is required. \nNo walk-ins are allowed in our Bowie or Frederick locations. \nYou must register online at www.marylandwbc.org so that we can save a place for you in the workshop.
URL:https://marylandwbc.org/workshops-and-seminars/group-counseling-topic-new-business-frederick-county-14/
LOCATION:our-mission
CATEGORIES:Business Development Strategies,Developing a Business Plan,Frederick County,Starting a Business,Woman-Owned and Minority Certifications,Workshop
ATTACH;FMTTYPE=:
END:VEVENT
BEGIN:VEVENT
DTSTART;TZID=America/New_York:20180706T100000
DTEND;TZID=America/New_York:20180706T130000
DTSTAMP:20260423T101700
CREATED:20180612T161853Z
LAST-MODIFIED:20180612T161853Z
UID:10001596-1530871200-1530882000@marylandwbc.org
SUMMARY:Writing a Successful Business Plan-Montgomery County
DESCRIPTION:[su_button url=”https://mdwbc.ecenterdirect.com/events/787316″ background=”#ef2d3b” size=”12″]CLICK HERE TO REGISTER![/su_button] \nUnderstand why you need a strong business plan. Learn how to develop each critical piece of your plan. Workshop includes comprehensive outline and additional resources. \nNote our Policy: No refunds issued for workshops not attended. No walk-ins allowed in our Bowie or Frederick locations. No cash walk-ins allowed (credit cards accepted) in our Rockville location. You must register online at www.marylandwbc.org so that we can save a place for you in the workshop. \n 
URL:https://marylandwbc.org/workshops-and-seminars/writing-a-successful-business-plan-montgomery-county-24/
CATEGORIES:Business Development Strategies,Developing a Business Plan,Managing a Business,Montgomery County,Starting a Business,Workshop
ATTACH;FMTTYPE=:
END:VEVENT
BEGIN:VEVENT
DTSTART;TZID=America/New_York:20180710T130000
DTEND;TZID=America/New_York:20180710T140000
DTSTAMP:20260423T101700
CREATED:20180612T162400Z
LAST-MODIFIED:20180612T162400Z
UID:10001597-1531227600-1531231200@marylandwbc.org
SUMMARY:Orientation to Small Business Resources-Montgomery County
DESCRIPTION:[su_button url=”https://mdwbc.ecenterdirect.com/events/787305″ background=”#ef2d3b” size=”12″]CLICK HERE TO REGISTER![/su_button] \nLearn about the Maryland Women’s Business Center and other resources to help you start and grow your business. \nNote our Policy: You must register online at www.marylandwbc.org so that we can save a place for you in the workshop. \nInclement Weather Policy: MWBC Rockville follows Montgomery County Public School Closings. \n 
URL:https://marylandwbc.org/workshops-and-seminars/orientation-to-small-business-resources-montgomery-county-24/
CATEGORIES:Business Development Strategies,Developing a Business Plan,Managing a Business,Montgomery County,Orientation,Starting a Business,Workshop
ATTACH;FMTTYPE=:
END:VEVENT
BEGIN:VEVENT
DTSTART;TZID=America/New_York:20180710T130000
DTEND;TZID=America/New_York:20180710T160000
DTSTAMP:20260423T101700
CREATED:20180612T155344Z
LAST-MODIFIED:20180612T155344Z
UID:10001591-1531227600-1531238400@marylandwbc.org
SUMMARY:Start Your Business- Step One! - Frederick County
DESCRIPTION:[su_button url=”https://mdwbc.ecenterdirect.com/events/787310″ background=”#ef2d3b” size=”12″]CLICK HERE TO REGISTER![/su_button] \nIn this workshop\, Counselor-Trainer Maria McElhenny will guide you on how to select a business form and identify the steps to register your business and apply for a tax ID number. You will work on developing a smart business name and reserving your domain and social media names. \nNote our Policy: No refunds will be issued for workshops not attended\,/p>. \nNo walk-ins are allowed in our Bowie or Frederick locations. You must register online at www.marylandwbc.org so that we can save a place for you in the workshop. \n 
URL:https://marylandwbc.org/workshops-and-seminars/start-your-business-step-one-frederick-county-5/
LOCATION:our-mission
CATEGORIES:Business Development Strategies,Developing a Business Plan,Frederick County,Managing a Business,Workshop
ATTACH;FMTTYPE=:
END:VEVENT
BEGIN:VEVENT
DTSTART;TZID=America/New_York:20180713T093000
DTEND;TZID=America/New_York:20180713T123000
DTSTAMP:20260423T101700
CREATED:20180612T160358Z
LAST-MODIFIED:20180612T160358Z
UID:10001593-1531474200-1531485000@marylandwbc.org
SUMMARY:Writing a Successful Business Plan- Prince George's County
DESCRIPTION:[su_button url=”https://mdwbc.ecenterdirect.com/events/787315″ background=”#ef2d3b” size=”12″]CLICK HERE TO REGISTER![/su_button] \nUnderstand why you need a strong business plan. Learn how to develop each critical piece of your plan. A Business Plan is an essential roadmap to help steer your business in the right direction\, keep you on track and provide critical documentation when you are ready to seek funding. Workshop includes a comprehensive outline and additional resources. \nNote our Policy: No refunds issued for workshops not attended. No walk-ins allowed in our Bowie location. \nYou MUST register online at www.marylandwbc.org/training so that we can save a place for you in the workshop. \n 
URL:https://marylandwbc.org/workshops-and-seminars/writing-a-successful-business-plan-prince-georges-county-25/
CATEGORIES:Business Development Strategies,Developing a Business Plan,Managing a Business,Marketing,Prince George's County,Starting a Business,Workshop
ATTACH;FMTTYPE=:
END:VEVENT
BEGIN:VEVENT
DTSTART;TZID=America/New_York:20180713T100000
DTEND;TZID=America/New_York:20180713T130000
DTSTAMP:20260423T101700
CREATED:20180612T163247Z
LAST-MODIFIED:20180612T163247Z
UID:10001598-1531476000-1531486800@marylandwbc.org
SUMMARY:Plan de Negocios Exitoso - Montgomery County
DESCRIPTION:[su_button url=”https://mdwbc.ecenterdirect.com/events/787317″ background=”#ef2d3b” size=”12″]CLICK HERE TO REGISTER![/su_button] \nAprenda por que usted necesita un Plan de Negocios sólido y robusto. Aprenda como desarrollar cada parte crítica de su plan.Este taller incluye un esbozo general y le orienta sobre otros recursos adicionales a los que usted puede acceder para elaborar un Exitoso Plan de Negocios en Rockville. \nCosto: $35 \n 
URL:https://marylandwbc.org/workshops-and-seminars/plan-de-negocios-exitoso-montgomery-county-22/
CATEGORIES:Business Development Strategies,Developing a Business Plan,Managing a Business,Montgomery County,Orientation,Spanish,Starting a Business,Workshop
ATTACH;FMTTYPE=:
END:VEVENT
BEGIN:VEVENT
DTSTART;TZID=America/New_York:20180716T130000
DTEND;TZID=America/New_York:20180716T140000
DTSTAMP:20260423T101700
CREATED:20180612T155955Z
LAST-MODIFIED:20180612T155955Z
UID:10001592-1531746000-1531749600@marylandwbc.org
SUMMARY:Orientation to Small Business Resources-Frederick County
DESCRIPTION:[su_button url=”https://mdwbc.ecenterdirect.com/events/787309″ background=”#ef2d3b” size=”12″]CLICK HERE TO REGISTER![/su_button] \nLearn about the Maryland Women’s Business Center and other resources to help you start and grow your business. \nNote our Policy: You must register online at www.marylandwbc.org so that we can save a place for you in the workshop. \n 
URL:https://marylandwbc.org/workshops-and-seminars/orientation-to-small-business-resources-frederick-county-8/
LOCATION:our-mission
CATEGORIES:Business Development Strategies,Developing a Business Plan,Frederick County,Managing a Business,Orientation,Workshop
ATTACH;FMTTYPE=:
END:VEVENT
BEGIN:VEVENT
DTSTART;TZID=America/New_York:20180725T130000
DTEND;TZID=America/New_York:20180725T160000
DTSTAMP:20260423T101700
CREATED:20180612T164052Z
LAST-MODIFIED:20180612T164052Z
UID:10001990-1532523600-1532534400@marylandwbc.org
SUMMARY:ABCs of Starting a Business-Montgomery County
DESCRIPTION:[su_button url=”https://mdwbc.ecenterdirect.com/events/787304″ background=”#ef2d3b” size=”12″]CLICK HERE TO REGISTER![/su_button] \nJoin us to find out what it really takes to start your own business. Learn more about the steps involved and discover the many resources available to support you. Questions about legal structures are answered by an attorney. \nNote our Policy: No refunds issued for workshops not attended. \nNo cash walk-ins (credit cards accepted)in our Rockville location. You must register online at www.marylandwbc.org so that we can save a place for you in the workshop. \n 
URL:https://marylandwbc.org/workshops-and-seminars/abcs-of-starting-a-business-montgomery-county-25/
CATEGORIES:Business Development Strategies,Developing a Business Plan,Managing a Business,Montgomery County,Starting a Business,Workshop
ATTACH;FMTTYPE=:
END:VEVENT
BEGIN:VEVENT
DTSTART;TZID=America/New_York:20180726T100000
DTEND;TZID=America/New_York:20180726T120000
DTSTAMP:20260423T101700
CREATED:20180612T164431Z
LAST-MODIFIED:20180612T164431Z
UID:10001991-1532599200-1532606400@marylandwbc.org
SUMMARY:Using Tools on Social Media to Target Your Audience\, Be More Effective and Grow -Montgomery County
DESCRIPTION:[su_button url=”https://mdwbc.ecenterdirect.com/events/787306″ background=”#ef2d3b” size=”12″]CLICK HERE TO REGISTER![/su_button] \nDid you know that you can target your social media ads and posts to a very specific customer base-even targeting as specifically as age\, demographics\, income or buying behaviors? Let Nicole Krug of Social Light show you how to use various social media tools to connect with new customers on Facebook\, Instagram and LinkedIn. Nicole will teach you how using relevant and effective content can result in increased brand awareness\, more customers\, and greater revenue. \nNo cash walk-ins (credit cards accepted)in our Rockville location. You must register online at www.marylandwbc.org so that we can save a place for you in the workshop. \n 
URL:https://marylandwbc.org/workshops-and-seminars/using-tools-on-social-media-to-target-your-audience-be-more-effective-and-grow-montgomery-county/
CATEGORIES:Customer Relationships,Developing a Business Plan,Managing a Business,Marketing,Montgomery County,Networking,Public and Media Relations,Public Speaking,Social Media,Starting a Business,Workshop
ATTACH;FMTTYPE=:
END:VEVENT
END:VCALENDAR