BEGIN:VCALENDAR
VERSION:2.0
PRODID:-//Maryland Women&#039;s Business Center - ECPv6.15.11//NONSGML v1.0//EN
CALSCALE:GREGORIAN
METHOD:PUBLISH
X-WR-CALNAME:Maryland Women&#039;s Business Center
X-ORIGINAL-URL:https://marylandwbc.org
X-WR-CALDESC:Events for Maryland Women&#039;s Business Center
REFRESH-INTERVAL;VALUE=DURATION:PT1H
X-Robots-Tag:noindex
X-PUBLISHED-TTL:PT1H
BEGIN:VTIMEZONE
TZID:America/New_York
BEGIN:DAYLIGHT
TZOFFSETFROM:-0500
TZOFFSETTO:-0400
TZNAME:EDT
DTSTART:20170312T070000
END:DAYLIGHT
BEGIN:STANDARD
TZOFFSETFROM:-0400
TZOFFSETTO:-0500
TZNAME:EST
DTSTART:20171105T060000
END:STANDARD
BEGIN:DAYLIGHT
TZOFFSETFROM:-0500
TZOFFSETTO:-0400
TZNAME:EDT
DTSTART:20180311T070000
END:DAYLIGHT
BEGIN:STANDARD
TZOFFSETFROM:-0400
TZOFFSETTO:-0500
TZNAME:EST
DTSTART:20181104T060000
END:STANDARD
BEGIN:DAYLIGHT
TZOFFSETFROM:-0500
TZOFFSETTO:-0400
TZNAME:EDT
DTSTART:20190310T070000
END:DAYLIGHT
BEGIN:STANDARD
TZOFFSETFROM:-0400
TZOFFSETTO:-0500
TZNAME:EST
DTSTART:20191103T060000
END:STANDARD
END:VTIMEZONE
BEGIN:VEVENT
DTSTART;TZID=America/New_York:20180801T093000
DTEND;TZID=America/New_York:20180801T103000
DTSTAMP:20260423T084104
CREATED:20180614T132637Z
LAST-MODIFIED:20180614T132637Z
UID:10001996-1533115800-1533119400@marylandwbc.org
SUMMARY:Orientation to Small Business Resources- Prince George's County
DESCRIPTION:[su_button url=”https://mdwbc.ecenterdirect.com/events/787322″ background=”#ef2d3b” size=”12″]CLICK HERE TO REGISTER![/su_button] \nTraining Topics: Business Plan\, Business Start-up/Preplanning\, Woman-owned Businesses\nDescription: \n\nLearn about the Maryland Women’s business Center and other resources to help you start and grow your business. \nNote our Policy: No walk-ins allowed in our Bowie location. \nYou must register online at www.marylandwbc.org so that we can save a place for you in the workshop. \nThe Maryland Women’s Business Center is located at Bowie State University – 14000 Jericho Park Road\, Bowie\, MD 20715. We are on the 2nd floor of the Center for Business & Graduate Studies in the Bowie Business Innovation Center (Bowie BIC): room 2312. Take the elevator to the 2nd floor. Turn right off of the elevator. We are a separate entity from the University. Our office phone number is 301-383-1550 ext. 104
URL:https://marylandwbc.org/workshops-and-seminars/orientation-to-small-business-resources-prince-georges-county-12/
CATEGORIES:Business Development Strategies,Developing a Business Plan,Managing a Business,Orientation,Prince George's County,Starting a Business,Woman-Owned and Minority Certifications,Workshop
ATTACH;FMTTYPE=:
END:VEVENT
BEGIN:VEVENT
DTSTART;TZID=America/New_York:20180803T093000
DTEND;TZID=America/New_York:20180803T123000
DTSTAMP:20260423T084104
CREATED:20180614T132945Z
LAST-MODIFIED:20180614T132945Z
UID:10001997-1533288600-1533299400@marylandwbc.org
SUMMARY:Group Counseling- Prince George's County
DESCRIPTION:[su_button url=”https://mdwbc.ecenterdirect.com/events/787323″ background=”#ef2d3b” size=”12″]CLICK HERE TO REGISTER![/su_button] \nDescription: \n\nExplore topics such as starting a business\, developing key marketing strategies and efficiently managing your financials. Senior Business Counselor Angie Duncanson will guide you. Limited clients per session. Your business must be in Prince George’s County in order to attend. This session is Free. \nYou will be contacted\, once you register\, via email with your specific one-hour appointment time. There are limited slots. \nThe Maryland Women’s Business Center is located at Bowie State University – 14000 Jericho Park Road\, Bowie\, MD 20715. We are on the 2nd floor of the Center for Business & Graduate Studies in the Bowie Business Innovation Center (Bowie BIC)\, Room 2312. Take the elevator to the 2nd floor. Turn right off of the elevator. We are a separate entity from the University. Our office phone number is 301-383-1550 ext. 104.
URL:https://marylandwbc.org/workshops-and-seminars/group-counseling-prince-georges-county-23/
CATEGORIES:Accounting/Budget,Business Development Strategies,Business Finance,Developing a Business Plan,Managing a Business,Prince George's County,Starting a Business,Workshop
ATTACH;FMTTYPE=:
END:VEVENT
BEGIN:VEVENT
DTSTART;TZID=America/New_York:20180806T130000
DTEND;TZID=America/New_York:20180806T160000
DTSTAMP:20260423T084104
CREATED:20180614T133259Z
LAST-MODIFIED:20180614T133259Z
UID:10001999-1533560400-1533571200@marylandwbc.org
SUMMARY:Group Counseling-Topic: New Business - Frederick County
DESCRIPTION:[su_button url=”https://mdwbc.ecenterdirect.com/events/787327″ background=”#ef2d3b” size=”12″]CLICK HERE TO REGISTER![/su_button] \nTraining Topics: Business Start-up/Preplanning\, Woman-owned Businesses\nDescription: \n\nIn this group counseling session led by Maria McElhenny\, we will have an open question and answer forum where you can bring your ideas or explore and find tips to your challenges and learn about tools that can help you start or grow your business. \nSpace is limited and registration is required. \nNo walk-ins are allowed in our Bowie or Frederick locations. \nYou must register online at www.marylandwbc.org so that we can save a place for you in the workshop.
URL:https://marylandwbc.org/workshops-and-seminars/group-counseling-topic-new-business-frederick-county-15/
LOCATION:our-mission
CATEGORIES:Business Development Strategies,Developing a Business Plan,Frederick County,Starting a Business,Woman-Owned and Minority Certifications,Workshop
ATTACH;FMTTYPE=:
END:VEVENT
BEGIN:VEVENT
DTSTART;TZID=America/New_York:20180807T093000
DTEND;TZID=America/New_York:20180807T123000
DTSTAMP:20260423T084104
CREATED:20180614T133617Z
LAST-MODIFIED:20180614T133617Z
UID:10001998-1533634200-1533645000@marylandwbc.org
SUMMARY:Taking Charge of Your Website’s Future - Prince George's County
DESCRIPTION:[su_button url=”https://mdwbc.ecenterdirect.com/events/787324″ background=”#ef2d3b” size=”12″]CLICK HERE TO REGISTER![/su_button] \nTraining Topics: Marketing/Sales\, Social Media\, Woman-owned Businesses\nDescription: \n\nDo you need to design\, redesign or hire to create a website? Learn to understand\, plan and manage the web design process in order to create an effective marketing tool that will attract clients and satisfy search engine requirements. Maria Ryan McElhenny will guide you in web design options and help you create a list of requirements needed for an effective website. \nNote our Policy: No walk-ins allowed in our Bowie location. \nYou must register online at www.marylandwbc.org so that we can save a place for you in the workshop. \nThe Maryland Women’s Business Center is located at Bowie State University – 14000 Jericho Park Road\, Bowie\, MD 20715. We are on the 2nd floor of the Center for Business & Graduate Studies in the Bowie Business Innovation Center (Bowie BIC): room 2312. Take the elevator to the 2nd floor. Turn right off of the elevator. We are a separate entity from the University. Our office phone number is 301-383-1550 ext. 104
URL:https://marylandwbc.org/workshops-and-seminars/taking-charge-of-your-websites-future-prince-georges-county/
CATEGORIES:Business Development Strategies,Developing a Business Plan,eCommerce,Managing a Business,Marketing,Networking,Prince George's County,Public and Media Relations,Social Media,Starting a Business,Website Development,Woman-Owned and Minority Certifications,Workshop
ATTACH;FMTTYPE=:
END:VEVENT
BEGIN:VEVENT
DTSTART;TZID=America/New_York:20180810T100000
DTEND;TZID=America/New_York:20180810T130000
DTSTAMP:20260423T084104
CREATED:20180614T133839Z
LAST-MODIFIED:20180614T133839Z
UID:10002000-1533895200-1533906000@marylandwbc.org
SUMMARY:Writing a Successful Business Plan-Montgomery County
DESCRIPTION:[su_button url=”https://mdwbc.ecenterdirect.com/events/787319″ background=”#ef2d3b” size=”12″]CLICK HERE TO REGISTER![/su_button] \nTraining Topics: Business Plan\, Managing a Business\nDescription: \n\nUnderstand why you need a strong business plan. Learn how to develop each critical piece of your plan. Workshop includes comprehensive outline and additional resources. \nNote our Policy: No refunds issued for workshops not attended. No walk-ins allowed in our Bowie or Frederick locations. No cash walk-ins allowed (credit cards accepted) in our Rockville location. You must register online at www.marylandwbc.org so that we can save a place for you in the workshop.
URL:https://marylandwbc.org/workshops-and-seminars/writing-a-successful-business-plan-montgomery-county-25/
CATEGORIES:Business Development Strategies,Developing a Business Plan,Managing a Business,Montgomery County,Workshop
ATTACH;FMTTYPE=:
END:VEVENT
BEGIN:VEVENT
DTSTART;TZID=America/New_York:20180814T093000
DTEND;TZID=America/New_York:20180814T123000
DTSTAMP:20260423T084104
CREATED:20180614T134753Z
LAST-MODIFIED:20180614T134753Z
UID:10002002-1534239000-1534249800@marylandwbc.org
SUMMARY:ABCs of Starting a Business- Prince George's County
DESCRIPTION:[su_button url=”https://mdwbc.ecenterdirect.com/events/787325″ background=”#ef2d3b” size=”12″]CLICK HERE TO REGISTER![/su_button] \nTraining Topics: Business Start-up/Preplanning\nDescription: \n\nJoin us to find out what it really takes to start your own business. Learn more about the steps involved and discover the many resources available to support you. This workshop is for those thinking about starting a business and also for those with a new business who want to establish a strong foundation to grow. \nThis workshop will take place at Bowie City Hall. No registrations allowed after 12noon on the day prior to the workshop. \nNote our Policy: No refunds issued for workshops not attended. No walk-ins allowed in our Bowie location. \nYou MUST register online at www.marylandwbc.org so that we can save a place for you in the workshop. \n\n\n 
URL:https://marylandwbc.org/workshops-and-seminars/abcs-of-starting-a-business-prince-georges-county-24/
CATEGORIES:Business Development Strategies,Developing a Business Plan,Managing a Business,Prince George's County,Starting a Business,Woman-Owned and Minority Certifications,Workshop
ATTACH;FMTTYPE=:
END:VEVENT
BEGIN:VEVENT
DTSTART;TZID=America/New_York:20180814T130000
DTEND;TZID=America/New_York:20180814T160000
DTSTAMP:20260423T084104
CREATED:20180614T134335Z
LAST-MODIFIED:20180614T134335Z
UID:10002001-1534251600-1534262400@marylandwbc.org
SUMMARY:Writing a Successful Business Plan (Frederick County)
DESCRIPTION:[su_button url=”https://mdwbc.ecenterdirect.com/events/787386″ background=”#ef2d3b” size=”12″ center=”yes”]CLICK HERE TO REGISTER![/su_button] \n  \n\nA business plan is a road map to steer your business in the right direction and an essential component of success. It is also the key to securing funding from banks and investors. Writing your business plan requires a holistic analysis of your business\, which we will detail in this course. Topics include: \n\nBusiness mission\, vision and values\nMarket/competitive analysis\nMarketing goals\nBusiness operations and organizational structure\nFinancial analysis and sales projections\nSmall business accounting and compliance\n\nPlease note our policies: No refunds issued for workshops not attended. Walk-ins are not permitted in our Frederick county office. You must register through the link above so that we can save a place for you in the workshop. \n\nMWBC Frederick County follows Frederick County government closings. Delays are assessed on a case-by-case basis and a final decision will be communicated to attendees no later than 2 hours in advance of the course.
URL:https://marylandwbc.org/workshops-and-seminars/writing-a-successful-business-plan-frederick-county-7/
LOCATION:our-mission
CATEGORIES:Business Development Strategies,Developing a Business Plan,Frederick County,Managing a Business,Starting a Business,Woman-Owned and Minority Certifications,Workshop
ATTACH;FMTTYPE=:
END:VEVENT
BEGIN:VEVENT
DTSTART;TZID=America/New_York:20180817T100000
DTEND;TZID=America/New_York:20180817T130000
DTSTAMP:20260423T084104
CREATED:20180614T135140Z
LAST-MODIFIED:20180614T135140Z
UID:10001604-1534500000-1534510800@marylandwbc.org
SUMMARY:Plan de Negocios Exitoso - Montgomery County
DESCRIPTION:[su_button url=”https://mdwbc.ecenterdirect.com/events/787320″ background=”#ef2d3b” size=”12″]CLICK HERE TO REGISTER![/su_button] \nTraining Topics: Business Plan\, Managing a Business\nDescription: \n\nAprenda por que usted necesita un Plan de Negocios sólido y robusto. Aprenda como desarrollar cada parte crítica de su plan.Este taller incluye un esbozo general y le orienta sobre otros recursos adicionales a los que usted puede acceder para elaborar un Exitoso Plan de Negocios en Rockville. \nCosto: $35
URL:https://marylandwbc.org/workshops-and-seminars/plan-de-negocios-exitoso-montgomery-county-23/
CATEGORIES:Business Development Strategies,Developing a Business Plan,Managing a Business,Montgomery County,Spanish,Starting a Business,Woman-Owned and Minority Certifications,Workshop
ATTACH;FMTTYPE=:
END:VEVENT
BEGIN:VEVENT
DTSTART;TZID=America/New_York:20180820T100000
DTEND;TZID=America/New_York:20180820T120000
DTSTAMP:20260423T084104
CREATED:20180614T135441Z
LAST-MODIFIED:20180614T135441Z
UID:10001607-1534759200-1534766400@marylandwbc.org
SUMMARY:Develop a Marketing Plan for Small Business -Montgomery County
DESCRIPTION:[su_button url=”https://mdwbc.ecenterdirect.com/events/787321″ background=”#ef2d3b” size=”12″]CLICK HERE TO REGISTER![/su_button] \nTraining Topics: Business Plan\, Marketing/Sales\nDescription: \n\nCreating a strategic marketing plan that identifies your ideal market\, outlines actionable steps to reach that market and researches your competition requires a step-by-step plan. Learn how to identify and implement these critical steps with a plan that moves your business toward sustained success. \nNote our Policy: No refunds issued for workshops not attended. No walk-ins allowed in our Bowie or Frederick locations. No cash walk-ins allowed (credit cards accepted) in our Rockville location. You must register online at www.marylandwbc.org so that we can save a place for you in the workshop.
URL:https://marylandwbc.org/workshops-and-seminars/develop-a-marketing-plan-for-small-business-montgomery-county-7/
CATEGORIES:Business Development Strategies,Developing a Business Plan,Marketing,Montgomery County,Public and Media Relations,Sales,Woman-Owned and Minority Certifications,Workshop
ATTACH;FMTTYPE=:
END:VEVENT
END:VCALENDAR