BEGIN:VCALENDAR
VERSION:2.0
PRODID:-//Maryland Women&#039;s Business Center - ECPv6.15.11//NONSGML v1.0//EN
CALSCALE:GREGORIAN
METHOD:PUBLISH
X-WR-CALNAME:Maryland Women&#039;s Business Center
X-ORIGINAL-URL:https://marylandwbc.org
X-WR-CALDESC:Events for Maryland Women&#039;s Business Center
REFRESH-INTERVAL;VALUE=DURATION:PT1H
X-Robots-Tag:noindex
X-PUBLISHED-TTL:PT1H
BEGIN:VTIMEZONE
TZID:America/New_York
BEGIN:DAYLIGHT
TZOFFSETFROM:-0500
TZOFFSETTO:-0400
TZNAME:EDT
DTSTART:20170312T070000
END:DAYLIGHT
BEGIN:STANDARD
TZOFFSETFROM:-0400
TZOFFSETTO:-0500
TZNAME:EST
DTSTART:20171105T060000
END:STANDARD
BEGIN:DAYLIGHT
TZOFFSETFROM:-0500
TZOFFSETTO:-0400
TZNAME:EDT
DTSTART:20180311T070000
END:DAYLIGHT
BEGIN:STANDARD
TZOFFSETFROM:-0400
TZOFFSETTO:-0500
TZNAME:EST
DTSTART:20181104T060000
END:STANDARD
BEGIN:DAYLIGHT
TZOFFSETFROM:-0500
TZOFFSETTO:-0400
TZNAME:EDT
DTSTART:20190310T070000
END:DAYLIGHT
BEGIN:STANDARD
TZOFFSETFROM:-0400
TZOFFSETTO:-0500
TZNAME:EST
DTSTART:20191103T060000
END:STANDARD
END:VTIMEZONE
BEGIN:VEVENT
DTSTART;TZID=America/New_York:20180904T130000
DTEND;TZID=America/New_York:20180904T160000
DTSTAMP:20260423T070503
CREATED:20180712T133458Z
LAST-MODIFIED:20180712T133458Z
UID:10001616-1536066000-1536076800@marylandwbc.org
SUMMARY:Create Your Business Website & Publish to Google Online–Hands On Workshop - Frederick County
DESCRIPTION:[su_button url=”https://mdwbc.ecenterdirect.com/events/787334″ background=”#ef2d3b” size=”12″ center=”yes”]CLICK HERE TO REGISTER![/su_button] \nTraining Topics: Marketing/Sales\, Social Media\, Woman-owned Businesses\nDescription: \n\nBring your laptop and your WordPress website to this class for instruction and step-by-step guidance. Amira Armond\, CEO of Kieri Solutions\, will share her lessons learned in creating websites for small businesses. We will discuss how to write your posts so Google likes them. We will walk through using Yoast to connect your website to Google;and we’ll practice making posts and using search terms so you can be found. Remember your laptop and your login credentials to your WordPress website. \nNote our Policy: No refunds will be issued for workshops not attended\, \nNo walk-ins are allowed in our Bowie or Frederick locations. You must register online at www.marylandwbc.org so that we can save a place for you in the workshop.
URL:https://marylandwbc.org/workshops-and-seminars/create-your-business-website-publish-to-google-online-hands-on-workshop-frederick-county/
LOCATION:our-mission
CATEGORIES:Business Development Strategies,Developing a Business Plan,Frederick County,Managing a Business,Marketing,Networking,Public and Media Relations,Sales,Social Media,Starting a Business,Woman-Owned and Minority Certifications,Workshop
ATTACH;FMTTYPE=:
END:VEVENT
BEGIN:VEVENT
DTSTART;TZID=America/New_York:20180905T093000
DTEND;TZID=America/New_York:20180905T103000
DTSTAMP:20260423T070503
CREATED:20180712T134902Z
LAST-MODIFIED:20180712T134902Z
UID:10001618-1536139800-1536143400@marylandwbc.org
SUMMARY:Orientation to Small Business Resources- Prince George's County
DESCRIPTION:[su_button url=”https://mdwbc.ecenterdirect.com/events/787332″ background=”#ef2d3b” size=”12″ center=”yes”]CLICK HERE TO REGISTER![/su_button] \nTraining Topics: Business Plan\, Business Start-up/Preplanning\, Woman-owned Businesses\nDescription: \n\nLearn about the Maryland Women’s business Center and other resources to help you start and grow your business. \nNote our Policy: No walk-ins allowed in our Bowie location. \nYou must register online at www.marylandwbc.org so that we can save a place for you in the workshop. \nThe Maryland Women’s Business Center is located at Bowie State University – 14000 Jericho Park Road\, Bowie\, MD 20715. We are on the 2nd floor of the Center for Business & Graduate Studies in the Bowie Business Innovation Center (Bowie BIC): room 2312. Take the elevator to the 2nd floor. Turn right off of the elevator. We are a separate entity from the University. Our office phone number is 301-383-1550 ext. 104
URL:https://marylandwbc.org/workshops-and-seminars/orientation-to-small-business-resources-prince-georges-county-13/
CATEGORIES:Business Development Strategies,Developing a Business Plan,Managing a Business,Orientation,Prince George's County,Starting a Business,Woman-Owned and Minority Certifications,Workshop
ATTACH;FMTTYPE=:
END:VEVENT
BEGIN:VEVENT
DTSTART;TZID=America/New_York:20180911T093000
DTEND;TZID=America/New_York:20180911T123000
DTSTAMP:20260423T070503
CREATED:20180712T140240Z
LAST-MODIFIED:20180712T140240Z
UID:10001625-1536658200-1536669000@marylandwbc.org
SUMMARY:Writing a Successful Business Plan- Prince George's County
DESCRIPTION:[su_button url=”https://mdwbc.ecenterdirect.com/events/787335″ background=”#ef2d3b” size=”12″ center=”yes”]CLICK HERE TO REGISTER![/su_button] \nTraining Topics: Business Plan\, Managing a Business\nDescription: \n\nUnderstand why you need a strong business plan. Learn how to develop each critical piece of your plan. A Business Plan is an essential roadmap to help steer your business in the right direction\, keep you on track and provide critical documentation when you are ready to seek funding. Workshop includes a comprehensive outline and additional resources. \nNote our Policy: This workshop will take place at Bowie City Hall. No registrations allowed after 12 noon on the day prior to the workshop. No refunds issued for workshops not attended. No walk-ins allowed in our Bowie location. \nYou MUST register online at www.marylandwbc.org/training so that we can save a place for you in the workshop.
URL:https://marylandwbc.org/workshops-and-seminars/writing-a-successful-business-plan-prince-georges-county-26/
CATEGORIES:Business Development Strategies,Developing a Business Plan,Managing a Business,Prince George's County,Starting a Business,Woman-Owned and Minority Certifications,Workshop
ATTACH;FMTTYPE=:
END:VEVENT
BEGIN:VEVENT
DTSTART;TZID=America/New_York:20180917T130000
DTEND;TZID=America/New_York:20180917T160000
DTSTAMP:20260423T070503
CREATED:20180712T141319Z
LAST-MODIFIED:20180712T141319Z
UID:10002004-1537189200-1537200000@marylandwbc.org
SUMMARY:How to Create Financials in a Business Plan - Frederick County
DESCRIPTION:[su_button url=”https://mdwbc.ecenterdirect.com/events/787350″ background=”#ef2d3b” size=”12″ center=”yes”]CLICK HERE TO REGISTER![/su_button] \nTraining Topics: Business Financing\, Business Plan\, Cash Flow Management\, Woman-owned Businesses\nDescription: \n\nLearn why having accurate financials is crucial to your business plan. In this workshop representatives from M&T Bank will walk you through what numbers a lender looks for and how to organize and forecast your financials so your business plan is sound and in a better position for lender approval. \nNote our Policy: No refunds will be issued for workshops not attended\, \nNo walk-ins are allowed in our Bowie or Frederick locations. You must register online at www.marylandwbc.org so that we can save a place for you in the workshop.
URL:https://marylandwbc.org/workshops-and-seminars/how-to-create-financials-in-a-business-plan-frederick-county/
LOCATION:our-mission
CATEGORIES:Accounting/Budget,Bookkeeping,Business Development Strategies,Business Finance,Cash Flow Management,Developing a Business Plan,Frederick County,Woman-Owned and Minority Certifications,Workshop
ATTACH;FMTTYPE=:
END:VEVENT
BEGIN:VEVENT
DTSTART;TZID=America/New_York:20180918T093000
DTEND;TZID=America/New_York:20180918T123000
DTSTAMP:20260423T070503
CREATED:20180712T142325Z
LAST-MODIFIED:20180712T142325Z
UID:10002006-1537263000-1537273800@marylandwbc.org
SUMMARY:The Leasing Process: What to Expect During the Search for Commercial Space- Prince George's County
DESCRIPTION:[su_button url=”https://mdwbc.ecenterdirect.com/events/787339″ background=”#ef2d3b” size=”12″ center=”yes”]CLICK HERE TO REGISTER![/su_button] \nTraining Topics: Risk Management\nDescription: \n\nThis workshop will present an overview of the leasing process to include analysis of needs\, types and classes of commercial real estate\, market overview\, options assessment and common lease provisions. Session will be taught by Mike Oleru.. \nMaryland Women’s Business Center is located at Bowie Business Innovation Center at Bowie State University\, Room #2312 \nNote our Policy: No refunds issued for workshops not attended. No walk-ins allowed in our Bowie or Frederick locations. \nYou MUST register online at www.marylandwbc.org/training so that we can save a place for you in the workshop.
URL:https://marylandwbc.org/workshops-and-seminars/the-leasing-process-what-to-expect-during-the-search-for-commercial-space-prince-georges-county-2/
CATEGORIES:Business Development Strategies,Developing a Business Plan,Managing a Business,Prince George's County,Risk Management,Workshop
ATTACH;FMTTYPE=:
END:VEVENT
BEGIN:VEVENT
DTSTART;TZID=America/New_York:20180918T100000
DTEND;TZID=America/New_York:20180918T130000
DTSTAMP:20260423T070503
CREATED:20180712T141726Z
LAST-MODIFIED:20180712T141726Z
UID:10002005-1537264800-1537275600@marylandwbc.org
SUMMARY:Manage Your Goals with a One-Page Plan-Montgomery County
DESCRIPTION:[su_button url=”https://mdwbc.ecenterdirect.com/events/787340″ background=”#ef2d3b” size=”12″ center=”yes”]CLICK HERE TO REGISTER![/su_button] \nTraining Topics: Managing a Business\, Woman-owned Businesses\nDescription: \n\nYou have ambitious plans for your business and life. The year is filled with “to do’s”\, intentions\, actions\, celebrations\, commitments\, and demands. And you have new ideas to put into action. Can you find everything and make sense of it all? Do you make good decisions that yield accomplishments rather than actions? A One-Page-Plan™ lets you see everything you want to tackle\, and helps you focus on all your goals and intentions at a glance. Sylvia Henderson\, idea implementation expert\, will walk you through creating your own One-Page-Plan for business and personal success so you can stay focused and make better decisions. This is a hands-on session. \nNote our Policy: No refunds issued for workshops not attended. \nNo cash walk-ins (credit cards accepted)in our Rockville location. You must register online at www.marylandwbc.org so that we can save a place for you in the workshop.
URL:https://marylandwbc.org/workshops-and-seminars/manage-your-goals-with-a-one-page-plan-montgomery-county/
CATEGORIES:Business Development Strategies,Developing a Business Plan,Managing a Business,Montgomery County,Woman-Owned and Minority Certifications,Workshop
ATTACH;FMTTYPE=:
END:VEVENT
BEGIN:VEVENT
DTSTART;TZID=America/New_York:20180920T093000
DTEND;TZID=America/New_York:20180920T123000
DTSTAMP:20260423T070503
CREATED:20180712T143154Z
LAST-MODIFIED:20180712T143154Z
UID:10002008-1537435800-1537446600@marylandwbc.org
SUMMARY:Group Counseling- Prince George's County
DESCRIPTION:[su_button url=”https://mdwbc.ecenterdirect.com/events/787342″ background=”#ef2d3b” size=”12″ center=”yes”]CLICK HERE TO REGISTER![/su_button] \nTraining Topics: Other\nDescription: \n\nExplore topics such as starting a business\, developing key marketing strategies and efficiently managing your financials. Senior Business Counselor Angie Duncanson will guide you. Limited clients per session. Your business must be in Prince George’s County in order to attend. This session is Free. \nYou will be contacted\, once you register\, via email with your specific one-hour appointment time. There are limited slots. \nThe Maryland Women’s Business Center is located at Bowie State University – 14000 Jericho Park Road\, Bowie\, MD 20715. We are on the 2nd floor of the Center for Business & Graduate Studies in the Bowie Business Innovation Center (Bowie BIC)\, Room 2312. Take the elevator to the 2nd floor. Turn right off of the elevator. We are a separate entity from the University. Our office phone number is 301-383-1550 ext. 104.
URL:https://marylandwbc.org/workshops-and-seminars/group-counseling-prince-georges-county-24/
CATEGORIES:Business Development Strategies,Developing a Business Plan,Managing a Business,Prince George's County,Starting a Business,Woman-Owned and Minority Certifications,Workshop
ATTACH;FMTTYPE=:
END:VEVENT
BEGIN:VEVENT
DTSTART;TZID=America/New_York:20180921T093000
DTEND;TZID=America/New_York:20180921T123000
DTSTAMP:20260423T070503
CREATED:20180815T134255Z
LAST-MODIFIED:20180815T134255Z
UID:10001632-1537522200-1537533000@marylandwbc.org
SUMMARY:ABCs of Starting a Business- Prince George's County
DESCRIPTION:[su_button url=”https://mdwbc.ecenterdirect.com/events/787364″ background=”#ef2d3b” size=”12″ center=”yes”]CLICK HERE TO REGISTER![/su_button] \nTraining Topics: Business Start-up/Preplanning\nDescription: \n\nJoin us to find out what it really takes to start your own business. Learn more about the steps involved and discover the many resources available to support you. This workshop is for those thinking about starting a business and also for those with a new business who want to establish a strong foundation to grow. \nThis workshop will take place at Bowie City Hall. No registrations allowed after 12noon on the day prior to the workshop. \nNote our Policy: No refunds issued for workshops not attended. No walk-ins allowed in our Bowie location. \nYou MUST register online at www.marylandwbc.org so that we can save a place for you in the workshop.
URL:https://marylandwbc.org/workshops-and-seminars/abcs-of-starting-a-business-prince-georges-county-26/
CATEGORIES:Business Development Strategies,Developing a Business Plan,Managing a Business,Prince George's County,Starting a Business,Workshop
ATTACH;FMTTYPE=:
END:VEVENT
BEGIN:VEVENT
DTSTART;TZID=America/New_York:20180921T100000
DTEND;TZID=America/New_York:20180921T120000
DTSTAMP:20260423T070503
CREATED:20180712T143542Z
LAST-MODIFIED:20180712T143542Z
UID:10002009-1537524000-1537531200@marylandwbc.org
SUMMARY:Develop a Marketing Plan for Small Business -Montgomery County
DESCRIPTION:[su_button url=”https://mdwbc.ecenterdirect.com/events/787343″ background=”#ef2d3b” size=”12″ center=”yes”]CLICK HERE TO REGISTER![/su_button] \nTraining Topics: Business Plan\, Marketing/Sales\nDescription: \n\nCreating a strategic marketing plan that identifies your ideal market\, outlines actionable steps to reach that market and researches your competition requires a step-by-step plan. Learn how to identify and implement these critical steps with a plan that moves your business toward sustained success. \nNote our Policy: No refunds issued for workshops not attended. No walk-ins allowed in our Bowie or Frederick locations. No cash walk-ins allowed (credit cards accepted) in our Rockville location. You must register online at www.marylandwbc.org so that we can save a place for you in the workshop.
URL:https://marylandwbc.org/workshops-and-seminars/develop-a-marketing-plan-for-small-business-montgomery-county-8/
CATEGORIES:Business Development Strategies,Developing a Business Plan,Managing a Business,Montgomery County,Starting a Business,Woman-Owned and Minority Certifications,Workshop
ATTACH;FMTTYPE=:
END:VEVENT
BEGIN:VEVENT
DTSTART;TZID=America/New_York:20180925T093000
DTEND;TZID=America/New_York:20180925T123000
DTSTAMP:20260423T070503
CREATED:20180712T144656Z
LAST-MODIFIED:20180712T144656Z
UID:10002012-1537867800-1537878600@marylandwbc.org
SUMMARY:Assessing Your Business Idea - Prince George's County
DESCRIPTION:[su_button url=”https://mdwbc.ecenterdirect.com/events/787345″ background=”#ef2d3b” size=”12″ center=”yes”]CLICK HERE TO REGISTER![/su_button] \nTraining Topics: Business Start-up/Preplanning\nDescription: \n\nNot all ideas are good or profitable business ideas. In this workshop\, you will examine business types and choose a business idea while learning to understand niches\, market segmentation\, and target markets. You will assess who the customer is\, develop the research process\, and learn about resources and contingency plans so that you can be sure your business is on solid ground. \nNote our Policy: No refunds issued for workshops not attended. \nNo walk-ins accepted.You must register online at www.marylandwbc.org so that we can save a place for you in the workshop.The Maryland Women’s Business Center is located at Bowie State University – 14000 Jericho Park Road\, Bowie\, MD 20715. We are on the 2nd floor of the Center for Business & Graduate Studies in the Bowie Business Innovation Center (Bowie BIC): room 2312. Take the elevator to the 2nd floor. Turn right off of the elevator. We are a separate entity from the University. Our office phone number is 301-383-1550 ext. 104
URL:https://marylandwbc.org/workshops-and-seminars/assessing-your-business-idea-prince-georges-county-5/
CATEGORIES:Business Development Strategies,Developing a Business Plan,Prince George's County,Starting a Business,Workshop
ATTACH;FMTTYPE=:
END:VEVENT
END:VCALENDAR