BEGIN:VCALENDAR
VERSION:2.0
PRODID:-//Maryland Women&#039;s Business Center - ECPv6.15.11//NONSGML v1.0//EN
CALSCALE:GREGORIAN
METHOD:PUBLISH
X-WR-CALNAME:Maryland Women&#039;s Business Center
X-ORIGINAL-URL:https://marylandwbc.org
X-WR-CALDESC:Events for Maryland Women&#039;s Business Center
REFRESH-INTERVAL;VALUE=DURATION:PT1H
X-Robots-Tag:noindex
X-PUBLISHED-TTL:PT1H
BEGIN:VTIMEZONE
TZID:America/New_York
BEGIN:DAYLIGHT
TZOFFSETFROM:-0500
TZOFFSETTO:-0400
TZNAME:EDT
DTSTART:20170312T070000
END:DAYLIGHT
BEGIN:STANDARD
TZOFFSETFROM:-0400
TZOFFSETTO:-0500
TZNAME:EST
DTSTART:20171105T060000
END:STANDARD
BEGIN:DAYLIGHT
TZOFFSETFROM:-0500
TZOFFSETTO:-0400
TZNAME:EDT
DTSTART:20180311T070000
END:DAYLIGHT
BEGIN:STANDARD
TZOFFSETFROM:-0400
TZOFFSETTO:-0500
TZNAME:EST
DTSTART:20181104T060000
END:STANDARD
BEGIN:DAYLIGHT
TZOFFSETFROM:-0500
TZOFFSETTO:-0400
TZNAME:EDT
DTSTART:20190310T070000
END:DAYLIGHT
BEGIN:STANDARD
TZOFFSETFROM:-0400
TZOFFSETTO:-0500
TZNAME:EST
DTSTART:20191103T060000
END:STANDARD
END:VTIMEZONE
BEGIN:VEVENT
DTSTART;TZID=America/New_York:20181001T173000
DTEND;TZID=America/New_York:20181001T203000
DTSTAMP:20260423T052052
CREATED:20180716T135441Z
LAST-MODIFIED:20180716T135441Z
UID:10002015-1538415000-1538425800@marylandwbc.org
SUMMARY:Write an Effective Business Plan Intensive Series - Montgomery County
DESCRIPTION:[su_button url=”https://mdwbc.ecenterdirect.com/events/787362″ background=”#ef2d3b” size=”12″ center=”yes”]CLICK HERE TO REGISTER![/su_button] \nTraining Topics: Business Plan\nDescription: \n\nThis six-week intensive course\, taught by Maria McElhenny runs\, October 1 through November 5. You will meet once a week for three hours. The series takes you through the process of developing a strong business plan. You will finish the program with a roadmap and complete plan in hand to guide you through the growth of your business. Series Fee: $199 includes materials must be paid in full prior to start of class. \nNo walk-ins for this series. \nPlease Note: There are no refunds for workshops not attended. You must register in advance for this workshop so that materials may be prepared for you.
URL:https://marylandwbc.org/workshops-and-seminars/write-an-effective-business-plan-intensive-series-frederick-county-2/
CATEGORIES:Business Development Strategies,Developing a Business Plan,Managing a Business,Montgomery County,Woman-Owned and Minority Certifications,Workshop
ATTACH;FMTTYPE=:
END:VEVENT
BEGIN:VEVENT
DTSTART;TZID=America/New_York:20181002T093000
DTEND;TZID=America/New_York:20181002T103000
DTSTAMP:20260423T052052
CREATED:20180716T140135Z
LAST-MODIFIED:20180716T140135Z
UID:10002017-1538472600-1538476200@marylandwbc.org
SUMMARY:Orientation to Small Business Resources- Prince George's County
DESCRIPTION:[su_button url=”https://mdwbc.ecenterdirect.com/events/787351″ background=”#ef2d3b” size=”12″ center=”yes”]CLICK HERE TO REGISTER![/su_button] \nTraining Topics: Business Plan\, Business Start-up/Preplanning\, Woman-owned Businesses\nDescription: \n\nLearn about the Maryland Women’s business Center and other resources to help you start and grow your business. \nNote our Policy: No walk-ins allowed in our Bowie location. \nYou must register online at www.marylandwbc.org so that we can save a place for you in the workshop. \nThe Maryland Women’s Business Center is located at Bowie State University – 14000 Jericho Park Road\, Bowie\, MD 20715. We are on the 2nd floor of the Center for Business & Graduate Studies in the Bowie Business Innovation Center (Bowie BIC): room 2312. Take the elevator to the 2nd floor. Turn right off of the elevator. We are a separate entity from the University. Our office phone number is 301-383-1550 ext. 104
URL:https://marylandwbc.org/workshops-and-seminars/orientation-to-small-business-resources-prince-georges-county-14/
CATEGORIES:Developing a Business Plan,Orientation,Prince George's County,Starting a Business,Woman-Owned and Minority Certifications,Workshop
ATTACH;FMTTYPE=:
END:VEVENT
BEGIN:VEVENT
DTSTART;TZID=America/New_York:20181012T100000
DTEND;TZID=America/New_York:20181012T130000
DTSTAMP:20260423T052052
CREATED:20180716T140758Z
LAST-MODIFIED:20180716T140758Z
UID:10002019-1539338400-1539349200@marylandwbc.org
SUMMARY:Writing a Successful Business Plan-Montgomery County
DESCRIPTION:[su_button url=”https://mdwbc.ecenterdirect.com/events/787354″ background=”#ef2d3b” size=”12″ center=”yes”]CLICK HERE TO REGISTER![/su_button] \nTraining Topics: Business Plan\, Managing a Business\nDescription: \n\nUnderstand why you need a strong business plan. Learn how to develop each critical piece of your plan. Workshop includes comprehensive outline and additional resources. \nNote our Policy: No refunds issued for workshops not attended. No walk-ins allowed in our Bowie or Frederick locations. No cash walk-ins allowed (credit cards accepted) in our Rockville location. You must register online at www.marylandwbc.org so that we can save a place for you in the workshop.
URL:https://marylandwbc.org/workshops-and-seminars/writing-a-successful-business-plan-montgomery-county-27/
CATEGORIES:Business Development Strategies,Developing a Business Plan,Montgomery County,Starting a Business,Woman-Owned and Minority Certifications,Workshop
ATTACH;FMTTYPE=:
END:VEVENT
BEGIN:VEVENT
DTSTART;TZID=America/New_York:20181019T100000
DTEND;TZID=America/New_York:20181019T130000
DTSTAMP:20260423T052052
CREATED:20180716T144214Z
LAST-MODIFIED:20180716T144214Z
UID:10002024-1539943200-1539954000@marylandwbc.org
SUMMARY:Plan de Negocios Exitoso - Montgomery County
DESCRIPTION:[su_button url=”https://mdwbc.ecenterdirect.com/events/787358″ background=”#ef2d3b” size=”12″ center=”yes”]CLICK HERE TO REGISTER![/su_button] \nTraining Topics: Business Plan\, Managing a Business\nDescription: \n\nAprenda por que usted necesita un Plan de Negocios sólido y robusto. Aprenda como desarrollar cada parte crítica de su plan.Este taller incluye un esbozo general y le orienta sobre otros recursos adicionales a los que usted puede acceder para elaborar un Exitoso Plan de Negocios en Rockville. \nCosto: $35
URL:https://marylandwbc.org/workshops-and-seminars/plan-de-negocios-exitoso-montgomery-county-25/
CATEGORIES:Business Development Strategies,Developing a Business Plan,Managing a Business,Montgomery County,Spanish,Starting a Business,Woman-Owned and Minority Certifications,Workshop
ATTACH;FMTTYPE=:
END:VEVENT
BEGIN:VEVENT
DTSTART;TZID=America/New_York:20181023T100000
DTEND;TZID=America/New_York:20181023T130000
DTSTAMP:20260423T052052
CREATED:20180716T144527Z
LAST-MODIFIED:20180716T144527Z
UID:10002025-1540288800-1540299600@marylandwbc.org
SUMMARY:Get Found on Google Search and Maps and Grow Your Business Online. -Montgomery County
DESCRIPTION:[su_button url=”https://mdwbc.ecenterdirect.com/events/787349″ background=”#ef2d3b” size=”12″ center=”yes”]CLICK HERE TO REGISTER![/su_button] \nTraining Topics: Managing a Business\, Marketing/Sales\, Social Media\, Woman-owned Businesses\nDescription: \n\nExplore Google My Business\, a free tool for local businesses who want to connect with customers on Google Search and Maps. Get hands-on help creating or updating your listing and take advantage of talking with a Google Partner who can answer your questions. This two-for-one workshop will also teach you how customers find your business online and how to promote your online presence using search engine optimization ( SEO) and online advertising. We’ll introduce tools like Google Analytics and G Suite that will help you run your business online. \nThis is a FREE workshop. \nNo cash walk-ins (credit cards accepted)in our Rockville location. You must register online at www.marylandwbc.org so that we can save a place for you in the workshop.
URL:https://marylandwbc.org/workshops-and-seminars/get-found-on-google-search-and-maps-and-grow-your-business-online-montgomery-county/
CATEGORIES:Business Development Strategies,Customer Relationships,Developing a Business Plan,Managing a Business,Marketing,Montgomery County,Networking,Public and Media Relations,Sales,Social Media,Starting a Business,Technology,Website Development,Woman-Owned and Minority Certifications,Workshop
ATTACH;FMTTYPE=:
END:VEVENT
BEGIN:VEVENT
DTSTART;TZID=America/New_York:20181026T100000
DTEND;TZID=America/New_York:20181026T120000
DTSTAMP:20260423T052052
CREATED:20180716T145448Z
LAST-MODIFIED:20180716T145448Z
UID:10001628-1540548000-1540555200@marylandwbc.org
SUMMARY:Develop a Marketing Plan for Small Business -Montgomery County
DESCRIPTION:[su_button url=”https://mdwbc.ecenterdirect.com/events/787361″ background=”#ef2d3b” size=”12″ center=”yes”]CLICK HERE TO REGISTER![/su_button] \nTraining Topics: Business Plan\, Marketing/Sales\nDescription: \n\nCreating a strategic marketing plan that identifies your ideal market\, outlines actionable steps to reach that market and researches your competition requires a step-by-step plan. Learn how to identify and implement these critical steps with a plan that moves your business toward sustained success. \nNote our Policy: No refunds issued for workshops not attended. No walk-ins allowed in our Bowie or Frederick locations. No cash walk-ins allowed (credit cards accepted) in our Rockville location. You must register online at www.marylandwbc.org so that we can save a place for you in the workshop.
URL:https://marylandwbc.org/workshops-and-seminars/develop-a-marketing-plan-for-small-business-montgomery-county-9/
CATEGORIES:Business Development Strategies,Developing a Business Plan,Montgomery County,Woman-Owned and Minority Certifications,Workshop
ATTACH;FMTTYPE=:
END:VEVENT
END:VCALENDAR