BEGIN:VCALENDAR
VERSION:2.0
PRODID:-//Maryland Women&#039;s Business Center - ECPv6.15.11//NONSGML v1.0//EN
CALSCALE:GREGORIAN
METHOD:PUBLISH
X-WR-CALNAME:Maryland Women&#039;s Business Center
X-ORIGINAL-URL:https://marylandwbc.org
X-WR-CALDESC:Events for Maryland Women&#039;s Business Center
REFRESH-INTERVAL;VALUE=DURATION:PT1H
X-Robots-Tag:noindex
X-PUBLISHED-TTL:PT1H
BEGIN:VTIMEZONE
TZID:America/New_York
BEGIN:DAYLIGHT
TZOFFSETFROM:-0500
TZOFFSETTO:-0400
TZNAME:EDT
DTSTART:20170312T070000
END:DAYLIGHT
BEGIN:STANDARD
TZOFFSETFROM:-0400
TZOFFSETTO:-0500
TZNAME:EST
DTSTART:20171105T060000
END:STANDARD
BEGIN:DAYLIGHT
TZOFFSETFROM:-0500
TZOFFSETTO:-0400
TZNAME:EDT
DTSTART:20180311T070000
END:DAYLIGHT
BEGIN:STANDARD
TZOFFSETFROM:-0400
TZOFFSETTO:-0500
TZNAME:EST
DTSTART:20181104T060000
END:STANDARD
BEGIN:DAYLIGHT
TZOFFSETFROM:-0500
TZOFFSETTO:-0400
TZNAME:EDT
DTSTART:20190310T070000
END:DAYLIGHT
BEGIN:STANDARD
TZOFFSETFROM:-0400
TZOFFSETTO:-0500
TZNAME:EST
DTSTART:20191103T060000
END:STANDARD
END:VTIMEZONE
BEGIN:VEVENT
DTSTART;TZID=America/New_York:20181109T100000
DTEND;TZID=America/New_York:20181109T130000
DTSTAMP:20260423T035703
CREATED:20181024T174057Z
LAST-MODIFIED:20181024T174057Z
UID:10001645-1541757600-1541768400@marylandwbc.org
SUMMARY:Writing a Successful Business Plan - Montgomery County
DESCRIPTION:[su_button url=”https://mdwbc.ecenterdirect.com/events/787372″ background=”#ef2d3b” size=”12″ center=”yes”]CLICK HERE TO REGISTER![/su_button] \nDescription: Understand why you need a strong business plan. Learn how to develop each critical piece of your plan. Workshop includes comprehensive outline and additional resources. \nNote Our Policy: No refunds issued for workshops not attended. Walk-ins paying with credit cards are accepted in our Rockville location (no cash). You must register by clicking on the link above\, or at www.marylandwbc.org/events so that we can save a place for you in the workshop. \nTraining Topics: Business Plan\, Managing a Business
URL:https://marylandwbc.org/workshops-and-seminars/writing-a-successful-business-plan-montgomery-county-28/
CATEGORIES:Developing a Business Plan,Workshop
END:VEVENT
BEGIN:VEVENT
DTSTART;TZID=America/New_York:20181116T093000
DTEND;TZID=America/New_York:20181116T123000
DTSTAMP:20260423T035703
CREATED:20181024T204738Z
LAST-MODIFIED:20181024T204738Z
UID:10002029-1542360600-1542371400@marylandwbc.org
SUMMARY:Writing a Successful Business Plan - Prince George's County
DESCRIPTION:[su_button url=”https://mdwbc.ecenterdirect.com/events/787375″ background=”#ef2d3b” size=”12″ center=”yes”]CLICK HERE TO REGISTER![/su_button] \n  \nDescription: Understand why you need a strong business plan. Learn how to develop each critical piece of your plan. A Business Plan is an essential roadmap to help steer your business in the right direction\, keep you on track and provide critical documentation when you are ready to seek funding. Workshop includes a comprehensive outline and additional resources. \n\nNote Our Policy: This workshop will take place at Bowie City Hall. No registrations allowed after 12 noon on the day prior to the workshop. No refunds issued for workshops not attended. You must register through the link above or online at www.marylandwbc.org/events so that we can save a place for you in the workshop. No walk-ins allowed in our Bowie location.  \nTraining Topics: Business Plan\, Managing a Business
URL:https://marylandwbc.org/workshops-and-seminars/writing-a-successful-business-plan-prince-georges-county-28/
CATEGORIES:Developing a Business Plan,Prince George's County,Starting a Business,Workshop
END:VEVENT
BEGIN:VEVENT
DTSTART;TZID=America/New_York:20181130T100000
DTEND;TZID=America/New_York:20181130T130000
DTSTAMP:20260423T035703
CREATED:20181026T053910Z
LAST-MODIFIED:20181026T053910Z
UID:10002035-1543572000-1543582800@marylandwbc.org
SUMMARY:Plan de Negocios Exitoso - Montgomery County
DESCRIPTION:[su_button url=”https://mdwbc.ecenterdirect.com/events/787382″ background=”#ef2d3b” size=”12″ center=”yes”]CLICK HERE TO REGISTER![/su_button] \n  \nDescripción: Aprenda por que usted necesita un Plan de Negocios sólido y robusto. Aprenda como desarrollar cada parte crítica de su plan.Este taller incluye un esbozo general y le orienta sobre otros recursos adicionales a los que usted puede acceder para elaborar un Exitoso Plan de Negocios en Rockville. \n\nCosto: $35
URL:https://marylandwbc.org/workshops-and-seminars/plan-de-negocios-exitoso-montgomery-county-26/
CATEGORIES:Developing a Business Plan,Montgomery County,Spanish,Workshop
END:VEVENT
END:VCALENDAR