BEGIN:VCALENDAR
VERSION:2.0
PRODID:-//Maryland Women&#039;s Business Center - ECPv6.15.11//NONSGML v1.0//EN
CALSCALE:GREGORIAN
METHOD:PUBLISH
X-WR-CALNAME:Maryland Women&#039;s Business Center
X-ORIGINAL-URL:https://marylandwbc.org
X-WR-CALDESC:Events for Maryland Women&#039;s Business Center
REFRESH-INTERVAL;VALUE=DURATION:PT1H
X-Robots-Tag:noindex
X-PUBLISHED-TTL:PT1H
BEGIN:VTIMEZONE
TZID:America/New_York
BEGIN:DAYLIGHT
TZOFFSETFROM:-0500
TZOFFSETTO:-0400
TZNAME:EDT
DTSTART:20180311T070000
END:DAYLIGHT
BEGIN:STANDARD
TZOFFSETFROM:-0400
TZOFFSETTO:-0500
TZNAME:EST
DTSTART:20181104T060000
END:STANDARD
BEGIN:DAYLIGHT
TZOFFSETFROM:-0500
TZOFFSETTO:-0400
TZNAME:EDT
DTSTART:20190310T070000
END:DAYLIGHT
BEGIN:STANDARD
TZOFFSETFROM:-0400
TZOFFSETTO:-0500
TZNAME:EST
DTSTART:20191103T060000
END:STANDARD
BEGIN:DAYLIGHT
TZOFFSETFROM:-0500
TZOFFSETTO:-0400
TZNAME:EDT
DTSTART:20200308T070000
END:DAYLIGHT
BEGIN:STANDARD
TZOFFSETFROM:-0400
TZOFFSETTO:-0500
TZNAME:EST
DTSTART:20201101T060000
END:STANDARD
END:VTIMEZONE
BEGIN:VEVENT
DTSTART;TZID=America/New_York:20190108T093000
DTEND;TZID=America/New_York:20190108T123000
DTSTAMP:20260423T010305
CREATED:20181213T203046Z
LAST-MODIFIED:20181213T203046Z
UID:10002053-1546939800-1546950600@marylandwbc.org
SUMMARY:Writing a Successful Business Plan - Prince George's County
DESCRIPTION:[su_button url=”https://mdwbc.ecenterdirect.com/events/787403″ background=”#ef2d3b” size=”12″ center=”yes”]CLICK HERE TO REGISTER![/su_button] \n  \nA business plan is a road map to steer your business in the right direction and an essential component of success. It is also the key to securing funding from banks and investors. Writing your business plan requires a holistic analysis of your business\, which we will detail in this course. Topics include: \n\nBusiness mission\, vision and values\nMarket/competitive analysis\nMarketing goals\nBusiness operations and organizational structure\nFinancial analysis and sales projections\nSmall business accounting and compliance\n\n*Intended Audience: pre-venture\, start-up \n  \nNote Our Policies: This workshop will take place at Bowie City Hall. Registration is not permitted after 12:00pm on the day prior to the workshop. No refunds issued for workshops not attended and walk-ins are not permitted. \n Inclement Weather: MWBC Prince George’s County follows Bowie City weather closings since this event occurs at Bowie City Hall. Delays are assessed on a case-by-case basis and a final decision will be communicated to attendees no later than 2 hours in advance of the course.
URL:https://marylandwbc.org/workshops-and-seminars/writing-a-successful-business-plan-prince-georges-county-29/
CATEGORIES:Developing a Business Plan,Managing a Business,Prince George's County,Workshop
END:VEVENT
BEGIN:VEVENT
DTSTART;TZID=America/New_York:20190118T100000
DTEND;TZID=America/New_York:20190118T130000
DTSTAMP:20260423T010305
CREATED:20181226T153746Z
LAST-MODIFIED:20181226T153746Z
UID:10001662-1547805600-1547816400@marylandwbc.org
SUMMARY:Writing a Successful Business Plan - Montgomery County
DESCRIPTION:[su_button url=”https://mdwbc.ecenterdirect.com/events/787418″ background=”#ef2d3b” size=”12″ center=”yes”]CLICK HERE TO REGISTER![/su_button] \n  \nA business plan is a road map to steer your business in the right direction and an essential component of success. It is also the key to securing funding from banks and investors. Writing your business plan requires a holistic analysis of your business\, which we will detail in this course. Topics include: \n\nBusiness mission\, vision and values\nMarket/competitive analysis\nMarketing goals\nBusiness operations and organizational structure\nFinancial analysis and sales projections\nSmall business accounting and compliance\n\n*Intended Audience: Pre-venture\, Start-up \n  \nNote Our Policies: No refunds issued for workshops not attended. Walk-ins are accepted in our Montgomery county location (credit cards payment only). \n Inclement Weather: MWBC Montgomery County follows Rockville City government closings. Delays are assessed on a case-by-case basis and a final decision will be communicated to attendees no later than 2 hours in advance of the course.
URL:https://marylandwbc.org/workshops-and-seminars/writing-a-successful-business-plan-montgomery-county-30/
CATEGORIES:Developing a Business Plan,Montgomery County,Workshop
END:VEVENT
BEGIN:VEVENT
DTSTART;TZID=America/New_York:20190123T093000
DTEND;TZID=America/New_York:20190123T123000
DTSTAMP:20260423T010305
CREATED:20181222T190810Z
LAST-MODIFIED:20181222T190810Z
UID:10001659-1548235800-1548246600@marylandwbc.org
SUMMARY:Build a Successful Business Model - Prince George's County
DESCRIPTION:[su_button url=”https://mdwbc.ecenterdirect.com/events/787405″ background=”#ef2d3b” size=”12″ center=”yes”]CLICK HERE TO REGISTER![/su_button] \n  \nHow does your business intend to make money? Is your price competitive? Who are your customers? How will they learn about your project? A successful business model addresses the questions above by laying the foundation for your business. \nDuring this workshop\, discover how you can quantify these details and turn your ideas and dreams into a step-by-step plan. Eventually\, your business model will become a resource you will use to convince a potential investor(s) or other financial institution that your idea is feasible and profitable. \n*Intended audience: Pre-Venture\, Start-Up
URL:https://marylandwbc.org/workshops-and-seminars/build-a-successful-business-model-prince-georges-county/
LOCATION:About Us
CATEGORIES:Developing a Business Plan,Prince George's County,Workshop
END:VEVENT
BEGIN:VEVENT
DTSTART;TZID=America/New_York:20190125T100000
DTEND;TZID=America/New_York:20190125T130000
DTSTAMP:20260423T010305
CREATED:20181226T163338Z
LAST-MODIFIED:20181226T163338Z
UID:10002055-1548410400-1548421200@marylandwbc.org
SUMMARY:Plan de Negocios Exitoso - Montgomery County
DESCRIPTION:[su_button url=”https://mdwbc.ecenterdirect.com/events/787421″ background=”#ef2d3b” size=”12″ center=”yes”]CLICK HERE TO REGISTER![/su_button] \n  \n¡¡Escriba un plan de Negocio Exitoso!! \n  \nUn Plan de Negocio es el guía que usted necesita para dirigir su negocio en la dirección correcta y además es un componente esencial de éxito. \nEste documento es también un elemento clave para asegurar financiamiento bancario o la participación de potenciales inversionistas. Escribir un Plan de Negocios\, requiere de un análisis integral que usted podrá aprender en detalle durante este curso. \nLos tópicos que incluiremos: \n\nLa misión de la empresa\, la visión del negocio y los valores corporativos\nInvestigación y Análisis del mercado y de la industria\nEstableceremos Metas claras y realistas en el mercadeo de su negocio\nEstructura organizacional de su negocio y también analizaremos los procesos y operaciones más relevantes de su negocio\nAnálisis Financiero y Proyecciones de ventas\nAspectos básicos de la contabilidad y el cumplimiento de los pequeños negocios\n\n** Queremos entrenar a: Pequeños empresarios que se encuentren en la etapa de arranque y para aquellos que están en la etapa previa al emprendimiento.
URL:https://marylandwbc.org/workshops-and-seminars/plan-de-negocios-exitoso-montgomery-county-28/
CATEGORIES:Developing a Business Plan,Montgomery County,Spanish,Workshop
END:VEVENT
END:VCALENDAR