BEGIN:VCALENDAR
VERSION:2.0
PRODID:-//Maryland Women&#039;s Business Center - ECPv6.15.11//NONSGML v1.0//EN
CALSCALE:GREGORIAN
METHOD:PUBLISH
X-ORIGINAL-URL:https://marylandwbc.org
X-WR-CALDESC:Events for Maryland Women&#039;s Business Center
REFRESH-INTERVAL;VALUE=DURATION:PT1H
X-Robots-Tag:noindex
X-PUBLISHED-TTL:PT1H
BEGIN:VTIMEZONE
TZID:UTC
BEGIN:STANDARD
TZOFFSETFROM:+0000
TZOFFSETTO:+0000
TZNAME:UTC
DTSTART:20210101T000000
END:STANDARD
END:VTIMEZONE
BEGIN:VEVENT
DTSTART;TZID=UTC:20220621T100000
DTEND;TZID=UTC:20220621T113000
DTSTAMP:20260420T101609
CREATED:20220216T202853Z
LAST-MODIFIED:20220216T202853Z
UID:10002292-1655805600-1655811000@marylandwbc.org
SUMMARY:Introduction to Entrepreneurship Series (in Spanish)
DESCRIPTION:CLICK HERE TO REGISTER!\n\nIn partnership with Montgomery County Public Libraries\, we present a FREE INTRODUCTION TO ENTREPRENEURSHIP \n  \nConvertirse en un emprendedor exitoso requiere un trabajo arduo y una planificación minuciosa. Durante este taller: \n• Examinar las características de los empresarios exitosos. \n• Aclare algunos de los mitos y realidades de la propiedad de pequeñas empresas. \n• Inicie una autoevaluación para determinar si está preparado para convertirse en propietario de una pequeña empresa. \n• Establezca un plan de acción para completar sus autoevaluaciones buscando comentarios de las partes interesadas\, como familiares\, amigos y clientes potenciales. \n• Describir los servicios proporcionados por Maryland Women’s Business Center que pueden ayudarla a iniciar y hacer crecer su negocio. \n  \nTenga en cuenta nuestras políticas: Se invita a hombres y mujeres a asistir a nuestros talleres de capacitación. Se requiere preinscripción. Recibirá un enlace a la reunión de Zoom al registrarse. Si es la primera vez que usa Zoom\, le recomendamos que inicie sesión unos minutos antes\, ya que es posible que deba instalar la aplicación Zoom.
URL:https://marylandwbc.org/workshops-and-seminars/introduction-to-entrepreneurship-series-in-spanish-5/
CATEGORIES:Business Development Strategies,Developing a Business Plan,Starting a Business,Workshop
END:VEVENT
BEGIN:VEVENT
DTSTART;TZID=UTC:20220621T150000
DTEND;TZID=UTC:20220621T163000
DTSTAMP:20260420T101609
CREATED:20220610T173655Z
LAST-MODIFIED:20220610T175413Z
UID:10001925-1655823600-1655829000@marylandwbc.org
SUMMARY:Helping Small Businesses Thrive in Today’s Digital Economy (MD)
DESCRIPTION:CLICK HERE TO REGISTER!\n\nJoin us for a special in-person event for small businesses located throughout metro Washington\, D.C. Network with local business leaders and meet Verizon representatives to learn more about Verizon’s Small Business Digital Ready program—featuring FREE online training\, business tools\, and personalized coaching to enhance your success in a digital marketplace. Plus\, learn more about Verizon’s small business grant program. \nAddress: Bowie Business Innovation Center 14000 Jericho Park Road Suite A131 Bowie\, MD 20715
URL:https://marylandwbc.org/workshops-and-seminars/helping-small-businesses-thrive-in-todays-digital-economy-md/
LOCATION:Bowie Business Innovation Center\, 14000 Jericho Park Road Suite A131\, Bowie\, MD\, 20715\, United States
CATEGORIES:Business Development Strategies,Developing a Business Plan,Managing a Business,Starting a Business,Workshop
END:VEVENT
BEGIN:VEVENT
DTSTART;TZID=UTC:20220622T100000
DTEND;TZID=UTC:20220622T113000
DTSTAMP:20260420T101609
CREATED:20220523T190334Z
LAST-MODIFIED:20220523T190334Z
UID:10001924-1655892000-1655897400@marylandwbc.org
SUMMARY:Introduction to Entrepreneurship Series
DESCRIPTION:CLICK HERE TO REGISTER!\n\nMWBC presents Introduction to Entrepreneurship. \nBecoming a successful entrepreneur requires hard work and thorough planning. During this workshop we will:\n• Examine the characteristics of successful entrepreneurs.\n• Clarify some of the myths and realities of small business ownership.\n• Start a self-assessment to determine your readiness to become a small business owner.\n• Set a plan of action to complete your self-assessment by seeking feedback from stakeholders\, such as family\, friends\, and potential customers.\n• Describe the services provided by the Maryland Women’s Business Center that can aid you in starting and growing your business. \nIf you are just starting your entrepreneurial journey\, we recommended that you take this workshop first. It is recommended that you take workshops in the following order:\n1. Introduction to Entrepreneurship and MWBC\n2. Steps to Start Your Business\n3. Develop Your Business Plan
URL:https://marylandwbc.org/workshops-and-seminars/introduction-to-entrepreneurship-series/
CATEGORIES:Business Development Strategies,Developing a Business Plan,Starting a Business,Workshop
END:VEVENT
BEGIN:VEVENT
DTSTART;TZID=UTC:20220622T150000
DTEND;TZID=UTC:20220622T163000
DTSTAMP:20260420T101609
CREATED:20220610T174657Z
LAST-MODIFIED:20220610T174657Z
UID:10002304-1655910000-1655915400@marylandwbc.org
SUMMARY:Helping Small Businesses Thrive in Today’s Digital Economy (VA)
DESCRIPTION:CLICK HERE TO REGISTER!\n\nJoin us for a special in-person event for small businesses located throughout metro Washington\, D.C. Network with local business leaders and meet Verizon representatives to learn more about Verizon’s Small Business Digital Ready program—featuring FREE online training\, business tools\, and personalized coaching to enhance your success in a digital marketplace. Plus\, learn more about Verizon’s small business grant program. \nAddress: WBC of Northern Virginia Community Business Partnership 6564 Loisdale Court\, Suite 600 Springfield\, VA 22150
URL:https://marylandwbc.org/workshops-and-seminars/helping-small-businesses-thrive-in-todays-digital-economy-va/
LOCATION:WBC of Northern Virginia Community Business Partnership\, 6564 Loisdale Court\, Suite 600\, Springfield\, VA\, 22150
CATEGORIES:Business Development Strategies,Developing a Business Plan,Managing a Business,Starting a Business,Workshop
END:VEVENT
BEGIN:VEVENT
DTSTART;TZID=UTC:20220623T150000
DTEND;TZID=UTC:20220623T163000
DTSTAMP:20260420T101609
CREATED:20220610T175321Z
LAST-MODIFIED:20220610T175321Z
UID:10002305-1655996400-1656001800@marylandwbc.org
SUMMARY:Helping Small Businesses Thrive in Today’s Digital Economy (DC)
DESCRIPTION:CLICK HERE TO REGISTER!\n\nJoin us for a special in-person event for small businesses located throughout metro Washington\, D.C. Network with local business leaders and meet Verizon representatives to learn more about Verizon’s Small Business Digital Ready program—featuring FREE online training\, business tools\, and personalized coaching to enhance your success in a digital marketplace. Plus\, learn more about Verizon’s small business grant program. \nAddress: Verizon Technology and Policy Center 1300 I Street\, NW Suite 500 Washington\, D.C. 20005
URL:https://marylandwbc.org/workshops-and-seminars/helping-small-businesses-thrive-in-todays-digital-economy-dc/
LOCATION:Verizon Technology and Policy Center\, 1300 I Street\, NW Suite 500\, Wahington\, DC\, 20005\, United States
CATEGORIES:Business Development Strategies,Developing a Business Plan,Managing a Business,Starting a Business,Workshop
END:VEVENT
END:VCALENDAR