BEGIN:VCALENDAR
VERSION:2.0
PRODID:-//Maryland Women&#039;s Business Center - ECPv6.15.11//NONSGML v1.0//EN
CALSCALE:GREGORIAN
METHOD:PUBLISH
X-WR-CALNAME:Maryland Women&#039;s Business Center
X-ORIGINAL-URL:https://marylandwbc.org
X-WR-CALDESC:Events for Maryland Women&#039;s Business Center
REFRESH-INTERVAL;VALUE=DURATION:PT1H
X-Robots-Tag:noindex
X-PUBLISHED-TTL:PT1H
BEGIN:VTIMEZONE
TZID:America/New_York
BEGIN:DAYLIGHT
TZOFFSETFROM:-0500
TZOFFSETTO:-0400
TZNAME:EDT
DTSTART:20150308T070000
END:DAYLIGHT
BEGIN:STANDARD
TZOFFSETFROM:-0400
TZOFFSETTO:-0500
TZNAME:EST
DTSTART:20151101T060000
END:STANDARD
BEGIN:DAYLIGHT
TZOFFSETFROM:-0500
TZOFFSETTO:-0400
TZNAME:EDT
DTSTART:20160313T070000
END:DAYLIGHT
BEGIN:STANDARD
TZOFFSETFROM:-0400
TZOFFSETTO:-0500
TZNAME:EST
DTSTART:20161106T060000
END:STANDARD
BEGIN:DAYLIGHT
TZOFFSETFROM:-0500
TZOFFSETTO:-0400
TZNAME:EDT
DTSTART:20170312T070000
END:DAYLIGHT
BEGIN:STANDARD
TZOFFSETFROM:-0400
TZOFFSETTO:-0500
TZNAME:EST
DTSTART:20171105T060000
END:STANDARD
END:VTIMEZONE
BEGIN:VEVENT
DTSTART;TZID=America/New_York:20161004T093000
DTEND;TZID=America/New_York:20161004T123000
DTSTAMP:20260424T204232
CREATED:20160920T174515Z
LAST-MODIFIED:20160920T174515Z
UID:10001402-1475573400-1475584200@marylandwbc.org
SUMMARY:Write an Effective Business Plan Intensive Series- Prince George's County
DESCRIPTION:[su_button url=”http://mdwbc.ecenterdirect.com/events/786814″ background=”#ef2d3b” size=”12″ center=”yes” radius=”round”]Click here to Register[/su_button] \nThis six-week intensive course\, from October 4 through November 10\, takes you through the process of developing a strong business plan. You will finish the program with a road map and complete plan in hand to guide you through the growth of your business. This series is great preparation for entering the 2017 StartRight! Business Plan Competition. Workshop includes materials. \nThe series will be held on Tuesdays with the exception of weeks 5 & 6 which will be Thursday\, November 3 and 10 from 9:30am-12:30pm. \nFee of $199 is for the full series and includes materials. \nMaryland Women’s Business Center is located at Bowie Business Innovation Center at Bowie State University\, Room #2312 \nNote our Policy: No refunds issued for workshops not attended. No walk-ins permitted in our Bowie location. You must register online at www.marylandwbc.org/training so that we can save a place for you in the workshop and prepare materials for you.
URL:https://marylandwbc.org/workshops-and-seminars/write-an-effective-business-plan-intensive-series-prince-georges-county-2/
CATEGORIES:Developing a Business Plan
END:VEVENT
END:VCALENDAR