BEGIN:VCALENDAR
VERSION:2.0
PRODID:-//Maryland Women&#039;s Business Center - ECPv6.15.11//NONSGML v1.0//EN
CALSCALE:GREGORIAN
METHOD:PUBLISH
X-ORIGINAL-URL:https://marylandwbc.org
X-WR-CALDESC:Events for Maryland Women&#039;s Business Center
REFRESH-INTERVAL;VALUE=DURATION:PT1H
X-Robots-Tag:noindex
X-PUBLISHED-TTL:PT1H
BEGIN:VTIMEZONE
TZID:America/New_York
BEGIN:DAYLIGHT
TZOFFSETFROM:-0500
TZOFFSETTO:-0400
TZNAME:EDT
DTSTART:20170312T070000
END:DAYLIGHT
BEGIN:STANDARD
TZOFFSETFROM:-0400
TZOFFSETTO:-0500
TZNAME:EST
DTSTART:20171105T060000
END:STANDARD
BEGIN:DAYLIGHT
TZOFFSETFROM:-0500
TZOFFSETTO:-0400
TZNAME:EDT
DTSTART:20180311T070000
END:DAYLIGHT
BEGIN:STANDARD
TZOFFSETFROM:-0400
TZOFFSETTO:-0500
TZNAME:EST
DTSTART:20181104T060000
END:STANDARD
BEGIN:DAYLIGHT
TZOFFSETFROM:-0500
TZOFFSETTO:-0400
TZNAME:EDT
DTSTART:20190310T070000
END:DAYLIGHT
BEGIN:STANDARD
TZOFFSETFROM:-0400
TZOFFSETTO:-0500
TZNAME:EST
DTSTART:20191103T060000
END:STANDARD
END:VTIMEZONE
BEGIN:VEVENT
DTSTART;TZID=America/New_York:20180918T093000
DTEND;TZID=America/New_York:20180918T123000
DTSTAMP:20260423T084906
CREATED:20180712T142325Z
LAST-MODIFIED:20180712T142325Z
UID:10002006-1537263000-1537273800@marylandwbc.org
SUMMARY:The Leasing Process: What to Expect During the Search for Commercial Space- Prince George's County
DESCRIPTION:[su_button url=”https://mdwbc.ecenterdirect.com/events/787339″ background=”#ef2d3b” size=”12″ center=”yes”]CLICK HERE TO REGISTER![/su_button] \nTraining Topics: Risk Management\nDescription: \n\nThis workshop will present an overview of the leasing process to include analysis of needs\, types and classes of commercial real estate\, market overview\, options assessment and common lease provisions. Session will be taught by Mike Oleru.. \nMaryland Women’s Business Center is located at Bowie Business Innovation Center at Bowie State University\, Room #2312 \nNote our Policy: No refunds issued for workshops not attended. No walk-ins allowed in our Bowie or Frederick locations. \nYou MUST register online at www.marylandwbc.org/training so that we can save a place for you in the workshop.
URL:https://marylandwbc.org/workshops-and-seminars/the-leasing-process-what-to-expect-during-the-search-for-commercial-space-prince-georges-county-2/
CATEGORIES:Business Development Strategies,Developing a Business Plan,Managing a Business,Prince George's County,Risk Management,Workshop
ATTACH;FMTTYPE=:
END:VEVENT
BEGIN:VEVENT
DTSTART;TZID=America/New_York:20180918T100000
DTEND;TZID=America/New_York:20180918T130000
DTSTAMP:20260423T084906
CREATED:20180712T141726Z
LAST-MODIFIED:20180712T141726Z
UID:10002005-1537264800-1537275600@marylandwbc.org
SUMMARY:Manage Your Goals with a One-Page Plan-Montgomery County
DESCRIPTION:[su_button url=”https://mdwbc.ecenterdirect.com/events/787340″ background=”#ef2d3b” size=”12″ center=”yes”]CLICK HERE TO REGISTER![/su_button] \nTraining Topics: Managing a Business\, Woman-owned Businesses\nDescription: \n\nYou have ambitious plans for your business and life. The year is filled with “to do’s”\, intentions\, actions\, celebrations\, commitments\, and demands. And you have new ideas to put into action. Can you find everything and make sense of it all? Do you make good decisions that yield accomplishments rather than actions? A One-Page-Plan™ lets you see everything you want to tackle\, and helps you focus on all your goals and intentions at a glance. Sylvia Henderson\, idea implementation expert\, will walk you through creating your own One-Page-Plan for business and personal success so you can stay focused and make better decisions. This is a hands-on session. \nNote our Policy: No refunds issued for workshops not attended. \nNo cash walk-ins (credit cards accepted)in our Rockville location. You must register online at www.marylandwbc.org so that we can save a place for you in the workshop.
URL:https://marylandwbc.org/workshops-and-seminars/manage-your-goals-with-a-one-page-plan-montgomery-county/
CATEGORIES:Business Development Strategies,Developing a Business Plan,Managing a Business,Montgomery County,Woman-Owned and Minority Certifications,Workshop
ATTACH;FMTTYPE=:
END:VEVENT
END:VCALENDAR