BEGIN:VCALENDAR
VERSION:2.0
PRODID:-//Maryland Women&#039;s Business Center - ECPv6.15.11//NONSGML v1.0//EN
CALSCALE:GREGORIAN
METHOD:PUBLISH
X-WR-CALNAME:Maryland Women&#039;s Business Center
X-ORIGINAL-URL:https://marylandwbc.org
X-WR-CALDESC:Events for Maryland Women&#039;s Business Center
REFRESH-INTERVAL;VALUE=DURATION:PT1H
X-Robots-Tag:noindex
X-PUBLISHED-TTL:PT1H
BEGIN:VTIMEZONE
TZID:America/New_York
BEGIN:DAYLIGHT
TZOFFSETFROM:-0500
TZOFFSETTO:-0400
TZNAME:EDT
DTSTART:20250309T070000
END:DAYLIGHT
BEGIN:STANDARD
TZOFFSETFROM:-0400
TZOFFSETTO:-0500
TZNAME:EST
DTSTART:20251102T060000
END:STANDARD
BEGIN:DAYLIGHT
TZOFFSETFROM:-0500
TZOFFSETTO:-0400
TZNAME:EDT
DTSTART:20260308T070000
END:DAYLIGHT
BEGIN:STANDARD
TZOFFSETFROM:-0400
TZOFFSETTO:-0500
TZNAME:EST
DTSTART:20261101T060000
END:STANDARD
BEGIN:DAYLIGHT
TZOFFSETFROM:-0500
TZOFFSETTO:-0400
TZNAME:EDT
DTSTART:20270314T070000
END:DAYLIGHT
BEGIN:STANDARD
TZOFFSETFROM:-0400
TZOFFSETTO:-0500
TZNAME:EST
DTSTART:20271107T060000
END:STANDARD
END:VTIMEZONE
BEGIN:VEVENT
DTSTART;TZID=America/New_York:20260202T110000
DTEND;TZID=America/New_York:20260202T120000
DTSTAMP:20260422T200627
CREATED:20251218T210324Z
LAST-MODIFIED:20251218T210324Z
UID:10002900-1770030000-1770033600@marylandwbc.org
SUMMARY:The Role of a 3-Statement Financial Model in Clear Forecasting and Growth
DESCRIPTION:REGISTER\n\nThis presentation explores how small businesses and startups can leverage a 3-statement financial model—integrating the income statement\, balance sheet\, and cash flow statement—to gain a clear\, interconnected view of their financial health. It highlights how accurate forecasting supports decision-making\, risk management\, and investor confidence. Attendees will learn the key steps in building an effective model\, common pitfalls to avoid\, and how to use scenario analysis and performance tracking to drive sustainable growth. Designed for founders and financial leaders\, this session offers both strategic insight and practical tools for turning numbers into actionable business intelligence.
URL:https://marylandwbc.org/workshops-and-seminars/the-role-of-a-3-statement-financial-model-in-clear-forecasting-and-growth/
LOCATION:Virtual
CATEGORIES:Business Finance,Managing a Business,Webinar,Workshop
END:VEVENT
BEGIN:VEVENT
DTSTART;TZID=America/New_York:20260209T120000
DTEND;TZID=America/New_York:20260209T130000
DTSTAMP:20260422T200627
CREATED:20251218T205840Z
LAST-MODIFIED:20251218T205845Z
UID:10002898-1770638400-1770642000@marylandwbc.org
SUMMARY:Separating Business and Personal Finances
DESCRIPTION:REGISTER\n\nIn this course\, led by Lydia Faleye\, Banking Officer and Financial Inclusion Leader at Truist Bank\, you’ll learn the whys and hows of separating your business and personal finances that can set you and your business up for success.
URL:https://marylandwbc.org/workshops-and-seminars/separating-business-and-personal-finances-2/
LOCATION:Virtual
CATEGORIES:Business Finance,Finance,Webinar
END:VEVENT
BEGIN:VEVENT
DTSTART;TZID=America/New_York:20260224T120000
DTEND;TZID=America/New_York:20260224T130000
DTSTAMP:20260422T200627
CREATED:20260123T170912Z
LAST-MODIFIED:20260128T160341Z
UID:10002909-1771934400-1771938000@marylandwbc.org
SUMMARY:Utilizing SBA Resources to Help Your Business Succeed
DESCRIPTION:REGISTER\n\n\nJoin Nirav “Nick” Rajpara\, Economic Development Specialist with the SBA Washington Metropolitan Area District Office\, for this free quarterly session to learn how SBA programs and resources can help you start\, grow\, and scale your business. Attendees will gain an overview of access to capital\, contracting opportunities\, counseling and training\, and tools designed to support entrepreneurs at every stage.
URL:https://marylandwbc.org/workshops-and-seminars/utilizing-sba-resources/
LOCATION:Virtual
CATEGORIES:Business Finance,Finance,Funding,Grants,Webinar
ORGANIZER;CN="Maryland Women's Business Center":MAILTO:info@marylandwbc.org
END:VEVENT
BEGIN:VEVENT
DTSTART;TZID=America/New_York:20260225T160000
DTEND;TZID=America/New_York:20260225T170000
DTSTAMP:20260422T200627
CREATED:20251219T205750Z
LAST-MODIFIED:20251219T205750Z
UID:10002903-1772035200-1772038800@marylandwbc.org
SUMMARY:Financial Confidence for Entrepreneurs
DESCRIPTION:REGISTER\n\n\nStrong financial foundations lead to strong business growth. Feel more confident making money decisions in your business. This session covers how to evaluate your idea\, understand your finances\, and plan for steady profit and growth. This webinar will be led by an expert from LeMay & Company. \nHosted by the Women’s Business Center of Northern Virginia\, this webinar is in partnership with the Maryland Women’s Business Center  \nZoom details will be provided upon registration.
URL:https://marylandwbc.org/workshops-and-seminars/financial-confidence-for-entrepreneurs/
LOCATION:Virtual
CATEGORIES:Business Finance,Finance,Webinar
END:VEVENT
END:VCALENDAR