BEGIN:VCALENDAR
VERSION:2.0
PRODID:-//Maryland Women&#039;s Business Center - ECPv6.15.11//NONSGML v1.0//EN
CALSCALE:GREGORIAN
METHOD:PUBLISH
X-ORIGINAL-URL:https://marylandwbc.org
X-WR-CALDESC:Events for Maryland Women&#039;s Business Center
REFRESH-INTERVAL;VALUE=DURATION:PT1H
X-Robots-Tag:noindex
X-PUBLISHED-TTL:PT1H
BEGIN:VTIMEZONE
TZID:America/New_York
BEGIN:DAYLIGHT
TZOFFSETFROM:-0500
TZOFFSETTO:-0400
TZNAME:EDT
DTSTART:20230312T070000
END:DAYLIGHT
BEGIN:STANDARD
TZOFFSETFROM:-0400
TZOFFSETTO:-0500
TZNAME:EST
DTSTART:20231105T060000
END:STANDARD
BEGIN:DAYLIGHT
TZOFFSETFROM:-0500
TZOFFSETTO:-0400
TZNAME:EDT
DTSTART:20240310T070000
END:DAYLIGHT
BEGIN:STANDARD
TZOFFSETFROM:-0400
TZOFFSETTO:-0500
TZNAME:EST
DTSTART:20241103T060000
END:STANDARD
BEGIN:DAYLIGHT
TZOFFSETFROM:-0500
TZOFFSETTO:-0400
TZNAME:EDT
DTSTART:20250309T070000
END:DAYLIGHT
BEGIN:STANDARD
TZOFFSETFROM:-0400
TZOFFSETTO:-0500
TZNAME:EST
DTSTART:20251102T060000
END:STANDARD
END:VTIMEZONE
BEGIN:VEVENT
DTSTART;TZID=America/New_York:20240319T120000
DTEND;TZID=America/New_York:20240319T130000
DTSTAMP:20260425T001147
CREATED:20240222T141050Z
LAST-MODIFIED:20240305T151834Z
UID:10002586-1710849600-1710853200@marylandwbc.org
SUMMARY:Legal Issues for Creative Entrepreneurs [Webinar]
DESCRIPTION:REGISTER\n\nIn this free webinar\, Henry “Hank” Abromson will review the basics of what every creator and artist should know going into business for themselves. Explore key concepts such as corporate entity selection and formation\, intellectual property protection\, contract basics\, negotiating and understanding commercial leases and more. After attending the presentation\, participants will understand the basics of business formation\, business operation and intellectual property protection. \nAbout the Speaker\n \nHenry “Hank” Abromson is the founder and owner of Henry Martin Law\, a business and intellectual property law firm located in Frederick\, Maryland. Hank has been in the practice of law for twenty years\, working with a variety of small business owners\, including numerous artists and creators. Hank spent most of his career working for large law firms before starting his own firm\, Henry Martin Law\, in 2018. \n\nPlease note the “Add to calendar” button below does not register you for the training/event. Please click the REGISTER button above.
URL:https://marylandwbc.org/workshops-and-seminars/legal-creatives/
LOCATION:Virtual
CATEGORIES:Legal Issues,Webinar
ORGANIZER;CN="Karen Kalantzis%2C Senior Business Consultant%2C MWBC Frederick County":MAILTO:karen@marylandwbc.org
END:VEVENT
BEGIN:VEVENT
DTSTART;TZID=America/New_York:20240321T103000
DTEND;TZID=America/New_York:20240321T113000
DTSTAMP:20260425T001147
CREATED:20240125T173956Z
LAST-MODIFIED:20240129T165013Z
UID:10002551-1711017000-1711020600@marylandwbc.org
SUMMARY:Demystifying the Corporate Transparency Act for Your Small Business [Webinar]
DESCRIPTION:REGISTER\n\nThe Corporate Transparency Act\, enacted in 2021\, aims to help prevent and combat money laundering\, terrorist financing\, corruption\, tax fraud\, and other illicit activity. Under the Act\, many businesses are required to begin reporting beneficial ownership information (BOI) to the U.S. Treasury Financial Crimes Enforcement Network. \nTo understand if your entity is required to report\, what beneficial ownership means\, timelines for reporting\, and more\, join Christine Lopez Kulumani\, Managing Attorney at the DC Bar Pro Bono Center\, for this webinar with the Maryland Women’s Business Center and SBA Washington Metropolitan Area District Office. \nAbout the Speaker\nChristine Kulumani\nManaging Attorney\, Nonprofit & Small Business Legal Assistance Programs\nDC Bar Pro Bono Center \nChristine Lopez Kulumani is a Managing Attorney with the Nonprofit & Small Business Legal Assistance Programs at D.C. Bar Pro Bono Center. In this role\, she manages regular legal clinics for small businesses and nonprofits\, directly provides legal advice to small businesses\, and nurtures relationships with District government agencies\, community partners\, law firms\, and corporate legal departments. \nPrior to joining the Pro Bono Center\, Christine worked as legislative counsel at the Council of the District of Columbia\, the District’s 13-member legislative body. Before that\, she worked as a project assistant at the American Bar Association Racial Justice Improvement Project. \nChristine holds a B.A. in political science from the University of New Mexico and a J.D. from the George Washington University Law School. She is licensed to practice law in the District of Columbia. \nChristine is a volunteer with various District nonprofits and a member of the Board of Directors of DC Refers. \n \n  \nNirav “Nick” Rajpara\nEconomic Development Specialist\nU.S. Small Business Administration (SBA) \nNirav “Nick” Rajpara is an Economic Development Specialist at the U.S. Small Business Administration (SBA)\, Washington D.C. Area Metro Office (WMADO). In this role\, he collaborates with local: SBA Resource Partners\, (public and private) economic development organizations\, and other stakeholders to develop\, bolster and support informational initiatives which aid and assist small business and entrepreneurs across the national capital region. In addition\, he is the Program Manager for SBA’s T.H.R.I.V.E. (Emerging Leaders Reimagined) initiative\, a CEO academy which guides small business leaders on scaling and growing their business. He is also the Small Business Development Center (SBDC) Project Officer\, in his SBA field office. In this capacity he oversees and collaborates with local SBDC networks in the Washington\, DC metro area. Prior to joining the SBA\, Nick served as a Small Business Counselor at the DC-SBDC at Howard University. He holds a Masters Degree in Business Administration\, and a Masters Degree in Public Policy from Pepperdine University. He has a Bachelor of Science degree from the University of California\, Riverside.
URL:https://marylandwbc.org/workshops-and-seminars/boi/
LOCATION:Virtual
CATEGORIES:Legal Issues
ORGANIZER;CN="Zeinna Estrada%2C Marketing & Events Manager%2C MWBC":MAILTO:zeinna@marylandwbc.org
END:VEVENT
END:VCALENDAR