BEGIN:VCALENDAR
VERSION:2.0
PRODID:-//Maryland Women&#039;s Business Center - ECPv6.15.11//NONSGML v1.0//EN
CALSCALE:GREGORIAN
METHOD:PUBLISH
X-WR-CALNAME:Maryland Women&#039;s Business Center
X-ORIGINAL-URL:https://marylandwbc.org
X-WR-CALDESC:Events for Maryland Women&#039;s Business Center
REFRESH-INTERVAL;VALUE=DURATION:PT1H
X-Robots-Tag:noindex
X-PUBLISHED-TTL:PT1H
BEGIN:VTIMEZONE
TZID:UTC
BEGIN:STANDARD
TZOFFSETFROM:+0000
TZOFFSETTO:+0000
TZNAME:UTC
DTSTART:20210101T000000
END:STANDARD
END:VTIMEZONE
BEGIN:VEVENT
DTSTART;TZID=UTC:20221201T100000
DTEND;TZID=UTC:20221201T113000
DTSTAMP:20260420T073036
CREATED:20221115T024350Z
LAST-MODIFIED:20221115T201141Z
UID:10001949-1669888800-1669894200@marylandwbc.org
SUMMARY:Tax Deductible Business Expenses (Frederick County)
DESCRIPTION:CLICK HERE TO REGISTER!\n\nJoin MWBC Senior Business Consultant Karen Kalantzis for networking IN PERSON with other women business owners in Frederick County during our monthly Coffee and Connections meeting. Our guest speaker is Samir Garcia\, CPA. He is the Lead and Founder of Cagal & Garcia\, LLC. A firm dedicated to providing CPA services to the community. Samir has also worked for several National and Local Banks as a Commercial Lender. He will be talking about tax-deductible business expenses including common business expenses\, tax write-offs that most people miss or get wrong\, how to keep good records during the year\, and how to claim business expenses if you are a sole proprietor or LLC. After his presentation\, there will be plenty of time for making new connections. \nWe will be gathering in the back room. No outside food or drinks will be allowed in the café per Maryland food laws. Please plan to support Delizia Café by making a purchase of coffee or a pastry. \nDelizia Café 14 East Patrick Street\, Frederick MD 21702 \n 
URL:https://marylandwbc.org/workshops-and-seminars/tax-deductible-business-expenses-small-businesses-thrive-in-todays-digital-economy-frederick-county-2/
LOCATION:MD
CATEGORIES:Business Development Strategies,Frederick County,Managing a Business,Networking
END:VEVENT
BEGIN:VEVENT
DTSTART;TZID=UTC:20221216T100000
DTEND;TZID=UTC:20221216T113000
DTSTAMP:20260420T073036
CREATED:20220824T214414Z
LAST-MODIFIED:20221115T213616Z
UID:10001930-1671184800-1671190200@marylandwbc.org
SUMMARY:Coffee & Connections PG County: Increase and Maintain Your Network
DESCRIPTION:CLICK HERE TO REGISTER!\n\nJoin Maryland Women’s Business Center for a monthly networking group created just for Prince George’s County entrepreneurs facilitated by your MWBC Business Consultant\, Angie Duncanson! \nThis Focus Area deals with knowing and expanding your network\, including planning networking activities\, mapping out your network\, getting network introductions\, and working on relationship maintenance. \n 
URL:https://marylandwbc.org/workshops-and-seminars/coffee-connections-pg-county-increase-and-maintain-your-network/
LOCATION:MD
CATEGORIES:Business Development Strategies,Frederick County,Managing a Business,Networking
END:VEVENT
END:VCALENDAR