BEGIN:VCALENDAR
VERSION:2.0
PRODID:-//Maryland Women&#039;s Business Center - ECPv6.15.11//NONSGML v1.0//EN
CALSCALE:GREGORIAN
METHOD:PUBLISH
X-WR-CALNAME:Maryland Women&#039;s Business Center
X-ORIGINAL-URL:https://marylandwbc.org
X-WR-CALDESC:Events for Maryland Women&#039;s Business Center
REFRESH-INTERVAL;VALUE=DURATION:PT1H
X-Robots-Tag:noindex
X-PUBLISHED-TTL:PT1H
BEGIN:VTIMEZONE
TZID:America/New_York
BEGIN:DAYLIGHT
TZOFFSETFROM:-0500
TZOFFSETTO:-0400
TZNAME:EDT
DTSTART:20150308T070000
END:DAYLIGHT
BEGIN:STANDARD
TZOFFSETFROM:-0400
TZOFFSETTO:-0500
TZNAME:EST
DTSTART:20151101T060000
END:STANDARD
BEGIN:DAYLIGHT
TZOFFSETFROM:-0500
TZOFFSETTO:-0400
TZNAME:EDT
DTSTART:20160313T070000
END:DAYLIGHT
BEGIN:STANDARD
TZOFFSETFROM:-0400
TZOFFSETTO:-0500
TZNAME:EST
DTSTART:20161106T060000
END:STANDARD
BEGIN:DAYLIGHT
TZOFFSETFROM:-0500
TZOFFSETTO:-0400
TZNAME:EDT
DTSTART:20170312T070000
END:DAYLIGHT
BEGIN:STANDARD
TZOFFSETFROM:-0400
TZOFFSETTO:-0500
TZNAME:EST
DTSTART:20171105T060000
END:STANDARD
END:VTIMEZONE
BEGIN:VEVENT
DTSTART;TZID=America/New_York:20160607T100000
DTEND;TZID=America/New_York:20160607T120000
DTSTAMP:20260419T214035
CREATED:20160518T203515Z
LAST-MODIFIED:20160518T203515Z
UID:10001317-1465293600-1465300800@marylandwbc.org
SUMMARY:How to Do Business with the Federal Government-Montgomery County
DESCRIPTION:[su_button url=”http://mdwbc.ecenterdirect.com/events/786734″ target=”blank” background=”#ef2d3b” size=”12″]Click to Register[/su_button] \nThe Federal Government market is challenging environment in which to do business due to stringent acquisition process and the large number of competitors. Many companies do not effectively present their capabilities and do not clearly explain how they can help the Government meet is mission requirements. Come learn from Andy Lieber\, 25 year Government Business Development leader\, how to find and win opportunities\, create effective relationships\, assemble the right team and develop an effective proposal strategy to help you win contracts. \nNote our Policy: No Refunds for workshops not attended . No walk-ins in our Bowie or Frederick locations. No cash walk-ins (credit cards accepted) in our Rockville location. You must register online at www.marylandwbc.org/training so that we can save a place for you in the workshop.
URL:https://marylandwbc.org/workshops-and-seminars/how-to-do-business-with-the-federal-government-montgomery-county/
CATEGORIES:Procurement/Government Contracting,Workshop
END:VEVENT
END:VCALENDAR