BEGIN:VCALENDAR
VERSION:2.0
PRODID:-//Maryland Women&#039;s Business Center - ECPv6.15.11//NONSGML v1.0//EN
CALSCALE:GREGORIAN
METHOD:PUBLISH
X-WR-CALNAME:Maryland Women&#039;s Business Center
X-ORIGINAL-URL:https://marylandwbc.org
X-WR-CALDESC:Events for Maryland Women&#039;s Business Center
REFRESH-INTERVAL;VALUE=DURATION:PT1H
X-Robots-Tag:noindex
X-PUBLISHED-TTL:PT1H
BEGIN:VTIMEZONE
TZID:America/New_York
BEGIN:DAYLIGHT
TZOFFSETFROM:-0500
TZOFFSETTO:-0400
TZNAME:EDT
DTSTART:20230312T070000
END:DAYLIGHT
BEGIN:STANDARD
TZOFFSETFROM:-0400
TZOFFSETTO:-0500
TZNAME:EST
DTSTART:20231105T060000
END:STANDARD
BEGIN:DAYLIGHT
TZOFFSETFROM:-0500
TZOFFSETTO:-0400
TZNAME:EDT
DTSTART:20240310T070000
END:DAYLIGHT
BEGIN:STANDARD
TZOFFSETFROM:-0400
TZOFFSETTO:-0500
TZNAME:EST
DTSTART:20241103T060000
END:STANDARD
BEGIN:DAYLIGHT
TZOFFSETFROM:-0500
TZOFFSETTO:-0400
TZNAME:EDT
DTSTART:20250309T070000
END:DAYLIGHT
BEGIN:STANDARD
TZOFFSETFROM:-0400
TZOFFSETTO:-0500
TZNAME:EST
DTSTART:20251102T060000
END:STANDARD
END:VTIMEZONE
BEGIN:VEVENT
DTSTART;TZID=America/New_York:20240501T103000
DTEND;TZID=America/New_York:20240501T113000
DTSTAMP:20260419T173847
CREATED:20240402T171214Z
LAST-MODIFIED:20240410T182459Z
UID:10002659-1714559400-1714563000@marylandwbc.org
SUMMARY:Become a Pitch Pro: 2-Part Series [Webinar]
DESCRIPTION:REGISTER\n\nGain the skills and confidence needed to captivate any audience and secure vital opportunities for your venture with this free 2-part webinar series. \nPart 1: Learning How to Pitch\nLearn the fundamentals of crafting and delivering the perfect business pitch. \nPart 2: Pitch Practice\nPut your pitching skills to the test in a supportive and constructive environment. Spots are limited! \nNote: Part 2 (Pitch Practice) is optional\, but you MUST attend Part 1 (Learning How to Pitch) to attend Part 2.
URL:https://marylandwbc.org/workshops-and-seminars/pitch-pro/2024-05-01/
LOCATION:Virtual
CATEGORIES:Public Speaking
ORGANIZER;CN="Roneka Samalenge%2C Associate Business Consultant%2C MWBC Montgomery County":MAILTO:roneka@marylandwbc.org
END:VEVENT
END:VCALENDAR