BEGIN:VCALENDAR
VERSION:2.0
PRODID:-//Maryland Women&#039;s Business Center - ECPv6.15.11//NONSGML v1.0//EN
CALSCALE:GREGORIAN
METHOD:PUBLISH
X-ORIGINAL-URL:https://marylandwbc.org
X-WR-CALDESC:Events for Maryland Women&#039;s Business Center
REFRESH-INTERVAL;VALUE=DURATION:PT1H
X-Robots-Tag:noindex
X-PUBLISHED-TTL:PT1H
BEGIN:VTIMEZONE
TZID:America/New_York
BEGIN:DAYLIGHT
TZOFFSETFROM:-0500
TZOFFSETTO:-0400
TZNAME:EDT
DTSTART:20240310T070000
END:DAYLIGHT
BEGIN:STANDARD
TZOFFSETFROM:-0400
TZOFFSETTO:-0500
TZNAME:EST
DTSTART:20241103T060000
END:STANDARD
BEGIN:DAYLIGHT
TZOFFSETFROM:-0500
TZOFFSETTO:-0400
TZNAME:EDT
DTSTART:20250309T070000
END:DAYLIGHT
BEGIN:STANDARD
TZOFFSETFROM:-0400
TZOFFSETTO:-0500
TZNAME:EST
DTSTART:20251102T060000
END:STANDARD
BEGIN:DAYLIGHT
TZOFFSETFROM:-0500
TZOFFSETTO:-0400
TZNAME:EDT
DTSTART:20260308T070000
END:DAYLIGHT
BEGIN:STANDARD
TZOFFSETFROM:-0400
TZOFFSETTO:-0500
TZNAME:EST
DTSTART:20261101T060000
END:STANDARD
END:VTIMEZONE
BEGIN:VEVENT
DTSTART;TZID=America/New_York:20250918T100000
DTEND;TZID=America/New_York:20250918T140000
DTSTAMP:20260423T153720
CREATED:20250903T185145Z
LAST-MODIFIED:20250903T190726Z
UID:10002869-1758189600-1758204000@marylandwbc.org
SUMMARY:Soul Street's Black Business Resource Fair
DESCRIPTION:REGISTER\n\nJoin Soul Street for the upcoming Black Business Resource Fair\, a free event designed to help you access the tools\, knowledge\, and networks you need to take your business to the next level. \nMeet representatives from banks\, state agencies\, local offices of economic development\, and other key organizations including the Maryland Women’s Business Center offering valuable resources and support. The day will also feature powerful panel discussions and a dynamic keynote address from leading business experts who understand the unique challenges and opportunities facing Black-owned businesses. \nWhether you’re just getting started or ready to scale\, this is a can’t-miss event for insight\, inspiration\, and community. 
URL:https://marylandwbc.org/workshops-and-seminars/soul-streets-black-business-resource-fair/
LOCATION:The Arc at Market Street\, 555 South Market Street\, Frederick\, MD\, 21701\, United States
CATEGORIES:Frederick County,Resources
ORGANIZER;CN="Soul Street":MAILTO:info@mysoulstreet.com
END:VEVENT
END:VCALENDAR