BEGIN:VCALENDAR
VERSION:2.0
PRODID:-//Maryland Women&#039;s Business Center - ECPv6.15.11//NONSGML v1.0//EN
CALSCALE:GREGORIAN
METHOD:PUBLISH
X-WR-CALNAME:Maryland Women&#039;s Business Center
X-ORIGINAL-URL:https://marylandwbc.org
X-WR-CALDESC:Events for Maryland Women&#039;s Business Center
REFRESH-INTERVAL;VALUE=DURATION:PT1H
X-Robots-Tag:noindex
X-PUBLISHED-TTL:PT1H
BEGIN:VTIMEZONE
TZID:America/New_York
BEGIN:DAYLIGHT
TZOFFSETFROM:-0500
TZOFFSETTO:-0400
TZNAME:EDT
DTSTART:20180311T070000
END:DAYLIGHT
BEGIN:STANDARD
TZOFFSETFROM:-0400
TZOFFSETTO:-0500
TZNAME:EST
DTSTART:20181104T060000
END:STANDARD
BEGIN:DAYLIGHT
TZOFFSETFROM:-0500
TZOFFSETTO:-0400
TZNAME:EDT
DTSTART:20190310T070000
END:DAYLIGHT
BEGIN:STANDARD
TZOFFSETFROM:-0400
TZOFFSETTO:-0500
TZNAME:EST
DTSTART:20191103T060000
END:STANDARD
BEGIN:DAYLIGHT
TZOFFSETFROM:-0500
TZOFFSETTO:-0400
TZNAME:EDT
DTSTART:20200308T070000
END:DAYLIGHT
BEGIN:STANDARD
TZOFFSETFROM:-0400
TZOFFSETTO:-0500
TZNAME:EST
DTSTART:20201101T060000
END:STANDARD
END:VTIMEZONE
BEGIN:VEVENT
DTSTART;TZID=America/New_York:20191010T083000
DTEND;TZID=America/New_York:20191010T123000
DTSTAMP:20260424T091510
CREATED:20191009T012323Z
LAST-MODIFIED:20191009T012323Z
UID:10001765-1570696200-1570710600@marylandwbc.org
SUMMARY:WEgrow Maryland Leadership Program\, sponsored by CapitalOne - Montgomery County
DESCRIPTION:WEgrow Maryland (Women Entrepreneurs Grow Maryland)\, sponsored by CapitalOne\, helps competitively position female entrepreneurs for success as they scale their companies into the growth phase of their business life-cycle. The focus of the series is on leadership\, longer-term strategic planning and the identity shift from entrepreneur/startup to powerful\, successful CEO of a company with a growth mindset. It provides exposure to leadership best practices and operational business guidance that can be immediately implemented in the workplace and position a company for next-level growth. \nApplicants and their companies must meet the following criteria: \n\nBe a female business entrepreneur who owns\, operates\, or holds a C-level position and directly influences the organization’s strategic decisions;\nEarn an annual revenue between $150k-$500k;\nDesire to grow or sell business;\nStaff at least one employee in addition to the owner;\nCommit to attending all six sessions (two full-day sessions & four morning sessions) in Rockville or Bowie\, MD\, for approximately 40 hours of combined classroom and pre-work/homework time; and\nBe based in Washington\, D.C. metro area\, with priority given to MD-based businesses.\n\nTo start the application process\, please take our survey.
URL:https://marylandwbc.org/workshops-and-seminars/wegrow-maryland-leadership-program-sponsored-by-capitalone-montgomery-county/2019-10-10/
LOCATION:MD
CATEGORIES:Business Development Strategies,Business Finance,Buy/Sell a Business,Franchising,Funding,Human Resources,Managing a Business,Marketing,Montgomery County,Networking,Public Speaking,Sales,Social Media,Workshop
ATTACH;FMTTYPE=:
END:VEVENT
BEGIN:VEVENT
DTSTART;TZID=America/New_York:20191010T093000
DTEND;TZID=America/New_York:20191010T123000
DTSTAMP:20260424T091510
CREATED:20190927T040621Z
LAST-MODIFIED:20190927T040621Z
UID:10002144-1570699800-1570710600@marylandwbc.org
SUMMARY:Dare to Sell with Persuasive Stories - Prince George's County
DESCRIPTION:[su_button url=”https://mdwbc.ecenterdirect.com/events/787573″ background=”#ef2d3b” size=”12″ center=”yes”]CLICK HERE TO REGISTER![/su_button] \n  \nOne of the finest ways to communicate and persuade a prospect to buy your ideas\, products or services is through the use of persuasive stories. When this is done strategically\, you can engage\, connect and empower in a way that is subtle\, but powerful. You know the best part? Stories are non-invasive! \nPsychologists and neuroscientists agree that storytelling is one of the best ways to emotionally connect and move people to take action. The key is to choose the right story in building rapport and helping your customers to remember you. It is worth-remembering that not every random story will work. You have to choose the stories that generate likability\, credibility and above all\, profitability. If you want to leverage the power of word-of-mouth marketing\, then this workshop if for you. \nDuring this workshop you will learn: \n\nWhere to find relatable stories to use in building your business\nThe framework for structuring your persuasive stories\nHow to master the metaphors in touching your prospects emotionally\nThe components of a good story\nThe four science-based elements of unforgettable stories\nHow to humanize and humorize your stories to connect\n\nAbout Our Presenter: Gideon F. For-mukwai is an award-winning speaker and best selling author of the book\, “The Science of Story Selling\,” an Amazon 2015 Bestseller. He’s been featured in The Boston Globe\, Wall Street Select Journal\, The Daily Astorian and other international publications/media in USA and Singapore. \nOver the last 12 years\, he has presented training programs for executives from organizations such as U.S. Social Security Administration\, Veterans Administration\, Morrison University\, Sierra Arts\, Shell Eastern Petroleum\, and the National Association of Government Communicators (NAGC). \nGideon is the creator of the Story DNA Method\, that combines both the art and science of storytelling in telling stories that captivate\, connect and uplift across cultures. \nHe currently works a corporate trainer and moonlights as a doctoral student specializing transformational learning in organizations. So far\, Gideon has presented in 19 countries and 15 US States. As a little boy growing up in Africa\, Gideon was very mischievous. Today\, his mother is very pleased that her little boy did not end up in deep trouble. \n*Intended Audience: Start-Up\, Growth \n  \nNote Our Policies: Refunds or comps are available for classes cancelled by MWBC. All other refunds are not provided. MWBC only accepts credit card payments for training sessions. Walks-in registrations are accepted only at the Montgomery County location. Register early to guarantee a seat.
URL:https://marylandwbc.org/workshops-and-seminars/dare-to-sell-with-persuasive-stories-prince-georges-county/
LOCATION:About Us
CATEGORIES:Marketing,Prince George's County,Sales,Workshop
END:VEVENT
END:VCALENDAR