BEGIN:VCALENDAR
VERSION:2.0
PRODID:-//Maryland Women&#039;s Business Center - ECPv6.15.11//NONSGML v1.0//EN
CALSCALE:GREGORIAN
METHOD:PUBLISH
X-WR-CALNAME:Maryland Women&#039;s Business Center
X-ORIGINAL-URL:https://marylandwbc.org
X-WR-CALDESC:Events for Maryland Women&#039;s Business Center
REFRESH-INTERVAL;VALUE=DURATION:PT1H
X-Robots-Tag:noindex
X-PUBLISHED-TTL:PT1H
BEGIN:VTIMEZONE
TZID:America/New_York
BEGIN:DAYLIGHT
TZOFFSETFROM:-0500
TZOFFSETTO:-0400
TZNAME:EDT
DTSTART:20220313T070000
END:DAYLIGHT
BEGIN:STANDARD
TZOFFSETFROM:-0400
TZOFFSETTO:-0500
TZNAME:EST
DTSTART:20221106T060000
END:STANDARD
BEGIN:DAYLIGHT
TZOFFSETFROM:-0500
TZOFFSETTO:-0400
TZNAME:EDT
DTSTART:20230312T070000
END:DAYLIGHT
BEGIN:STANDARD
TZOFFSETFROM:-0400
TZOFFSETTO:-0500
TZNAME:EST
DTSTART:20231105T060000
END:STANDARD
BEGIN:DAYLIGHT
TZOFFSETFROM:-0500
TZOFFSETTO:-0400
TZNAME:EDT
DTSTART:20240310T070000
END:DAYLIGHT
BEGIN:STANDARD
TZOFFSETFROM:-0400
TZOFFSETTO:-0500
TZNAME:EST
DTSTART:20241103T060000
END:STANDARD
END:VTIMEZONE
BEGIN:VEVENT
DTSTART;TZID=America/New_York:20230908T140000
DTEND;TZID=America/New_York:20230908T160000
DTSTAMP:20260422T104754
CREATED:20230814T150454Z
LAST-MODIFIED:20230821T183545Z
UID:10002393-1694181600-1694188800@marylandwbc.org
SUMMARY:Latina Entrepreneur Academy Business Plan Intensive Series for People with Disabilities
DESCRIPTION:REGISTER\n\nEmbarking on the entrepreneurial journey with a disability requires specialized support and guidance. That’s why\, in collaboration with the LULAC Latina Entrepreneur Academy and the National Institute of Disabilities\, MWBC is thrilled to present a unique opportunity tailored exclusively for individuals with disabilities. Our free and accessible training series\, available exclusively to those with disabilities\, is designed to equip you with essential business plan knowledge and assistance\, paving the way for success in the business world. \nSessions available in English & Spanish. \nTraining Series Agenda: \nSeptember 8 – Business Assessment \nSeptember 15 – Business Foundation \nSeptember 22 – Market Analysis & Marketing Plan \nSeptember 29 – Operation Plan & Risk Management \nOctober 6 – Financial Plan \nOctober 13 – Executive Summary \nOctober 27 – Graduation & Business Plan Competition \nIn partnership with: \n     
URL:https://marylandwbc.org/workshops-and-seminars/lea-bpi/
LOCATION:Virtual
CATEGORIES:Spanish
ORGANIZER;CN="Martha Jimenez%2C Program Manager%2C MWBC Montgomery County":MAILTO:martha@marylandwbc.org
END:VEVENT
END:VCALENDAR