BEGIN:VCALENDAR
VERSION:2.0
PRODID:-//Maryland Women&#039;s Business Center - ECPv6.15.11//NONSGML v1.0//EN
CALSCALE:GREGORIAN
METHOD:PUBLISH
X-WR-CALNAME:Maryland Women&#039;s Business Center
X-ORIGINAL-URL:https://marylandwbc.org
X-WR-CALDESC:Events for Maryland Women&#039;s Business Center
REFRESH-INTERVAL;VALUE=DURATION:PT1H
X-Robots-Tag:noindex
X-PUBLISHED-TTL:PT1H
BEGIN:VTIMEZONE
TZID:UTC
BEGIN:STANDARD
TZOFFSETFROM:+0000
TZOFFSETTO:+0000
TZNAME:UTC
DTSTART:20200101T000000
END:STANDARD
END:VTIMEZONE
BEGIN:VEVENT
DTSTART;TZID=UTC:20211214T100000
DTEND;TZID=UTC:20211214T123000
DTSTAMP:20260419T165520
CREATED:20211116T234930Z
LAST-MODIFIED:20211116T234930Z
UID:10001909-1639476000-1639485000@marylandwbc.org
SUMMARY:Leadership Development: The Heart of Business
DESCRIPTION:Join Chick-fil-A and Maryland Women’s Business Center for a workshop on leadership development in the food and beverage industry. \nRegister in advance for this meeting:\nhttps://tinyurl.com/f65v983f
URL:https://marylandwbc.org/workshops-and-seminars/leadership-development-the-heart-of-business-3/
CATEGORIES:Franchising,Starting a Business
END:VEVENT
END:VCALENDAR