BEGIN:VCALENDAR
VERSION:2.0
PRODID:-//Maryland Women&#039;s Business Center - ECPv6.15.11//NONSGML v1.0//EN
CALSCALE:GREGORIAN
METHOD:PUBLISH
X-WR-CALNAME:Maryland Women&#039;s Business Center
X-ORIGINAL-URL:https://marylandwbc.org
X-WR-CALDESC:Events for Maryland Women&#039;s Business Center
REFRESH-INTERVAL;VALUE=DURATION:PT1H
X-Robots-Tag:noindex
X-PUBLISHED-TTL:PT1H
BEGIN:VTIMEZONE
TZID:UTC
BEGIN:STANDARD
TZOFFSETFROM:+0000
TZOFFSETTO:+0000
TZNAME:UTC
DTSTART:20210101T000000
END:STANDARD
END:VTIMEZONE
BEGIN:VEVENT
DTSTART;TZID=UTC:20220502T110000
DTEND;TZID=UTC:20220502T123000
DTSTAMP:20260419T092053
CREATED:20220419T195325Z
LAST-MODIFIED:20220419T195325Z
UID:10002303-1651489200-1651494600@marylandwbc.org
SUMMARY:El flujo del Dinero
DESCRIPTION:CLICK HERE TO REGISTER!\n\n  \nQuerido empresario\, tienes derecho a ser rico. Entre más personas impactemos en nuestra vida tenemos más merecimiento a tener DINERO. \nEn esta conferencia aprenderás sobre las leyes fundamentales del dinero y entenderás las áreas débiles de tus finanzas\, pero además podrás entender por qué un problema de dinero no se puede resolver con más dinero. \n  \nTenemos el gusto y el honor de traer para ustedes a Jaiber Perez\, conferencista internacional y asesor financiero\, experto en inteligencia financiera\, inteligencia emocional\, redes neuronales\, patrones mentales\, arquetipos financieros\, riesgo cambiario y mercado de capital entre otros. \n  \nAquí trataremos estos aspectos entre otros. \n  \n– Hacia donde crecerá tu empresa y tu vida financiera \n– Diferencia entre riqueza y abundancia. \n– Los cuatro pilares fundamentales de la gestión del dinero \n– Las razones por las que hay personas con más dinero que otras \n– Ahorrar es una mala idea con dinero Flat \n– Energía del dinero
URL:https://marylandwbc.org/workshops-and-seminars/el-flujo-del-dinero/
CATEGORIES:Business Development Strategies,Developing a Business Plan,Starting a Business,Workshop
END:VEVENT
END:VCALENDAR