BEGIN:VCALENDAR
VERSION:2.0
PRODID:-//Maryland Women&#039;s Business Center - ECPv6.15.11//NONSGML v1.0//EN
CALSCALE:GREGORIAN
METHOD:PUBLISH
X-ORIGINAL-URL:https://marylandwbc.org
X-WR-CALDESC:Events for Maryland Women&#039;s Business Center
REFRESH-INTERVAL;VALUE=DURATION:PT1H
X-Robots-Tag:noindex
X-PUBLISHED-TTL:PT1H
BEGIN:VTIMEZONE
TZID:America/New_York
BEGIN:DAYLIGHT
TZOFFSETFROM:-0500
TZOFFSETTO:-0400
TZNAME:EDT
DTSTART:20230312T070000
END:DAYLIGHT
BEGIN:STANDARD
TZOFFSETFROM:-0400
TZOFFSETTO:-0500
TZNAME:EST
DTSTART:20231105T060000
END:STANDARD
BEGIN:DAYLIGHT
TZOFFSETFROM:-0500
TZOFFSETTO:-0400
TZNAME:EDT
DTSTART:20240310T070000
END:DAYLIGHT
BEGIN:STANDARD
TZOFFSETFROM:-0400
TZOFFSETTO:-0500
TZNAME:EST
DTSTART:20241103T060000
END:STANDARD
BEGIN:DAYLIGHT
TZOFFSETFROM:-0500
TZOFFSETTO:-0400
TZNAME:EDT
DTSTART:20250309T070000
END:DAYLIGHT
BEGIN:STANDARD
TZOFFSETFROM:-0400
TZOFFSETTO:-0500
TZNAME:EST
DTSTART:20251102T060000
END:STANDARD
END:VTIMEZONE
BEGIN:VEVENT
DTSTART;TZID=America/New_York:20240423T120000
DTEND;TZID=America/New_York:20240423T130000
DTSTAMP:20260420T183650
CREATED:20240318T173241Z
LAST-MODIFIED:20240318T173241Z
UID:10002653-1713873600-1713877200@marylandwbc.org
SUMMARY:Taxes for Entrepreneurs in the Creative Industry [Webinar]
DESCRIPTION:REGISTER\n\nJoin us for a free webinar where Laura Gutierrez from the Comptroller of Maryland will cover a tax overview for business owners in the creative industry! \nAbout the Speaker\nLaura Gutierrez\nSmall Business & Community Development Director\nComptroller of Maryland \nLaura Gutierrez is the Director of Small Business and Community Development at the Comptroller of Maryland and the MBE/VSBE/SBR liaison for the agency. She advocates for small and minority owned businesses\, and reviews at internal processes to develop programmatic and policy initiatives to support small business and community development\, as well as helping businesses navigate state resources\, and find new pathways for local businesses to grow and prosper in Maryland. 
URL:https://marylandwbc.org/workshops-and-seminars/taxes-creatives/
LOCATION:Virtual
CATEGORIES:Tax Planning
ORGANIZER;CN="Karen Kalantzis%2C Senior Business Consultant%2C MWBC Frederick County":MAILTO:karen@marylandwbc.org
END:VEVENT
END:VCALENDAR