BEGIN:VCALENDAR
VERSION:2.0
PRODID:-//Maryland Women&#039;s Business Center - ECPv6.15.11//NONSGML v1.0//EN
CALSCALE:GREGORIAN
METHOD:PUBLISH
X-ORIGINAL-URL:https://marylandwbc.org
X-WR-CALDESC:Events for Maryland Women&#039;s Business Center
REFRESH-INTERVAL;VALUE=DURATION:PT1H
X-Robots-Tag:noindex
X-PUBLISHED-TTL:PT1H
BEGIN:VTIMEZONE
TZID:America/New_York
BEGIN:DAYLIGHT
TZOFFSETFROM:-0500
TZOFFSETTO:-0400
TZNAME:EDT
DTSTART:20160313T070000
END:DAYLIGHT
BEGIN:STANDARD
TZOFFSETFROM:-0400
TZOFFSETTO:-0500
TZNAME:EST
DTSTART:20161106T060000
END:STANDARD
BEGIN:DAYLIGHT
TZOFFSETFROM:-0500
TZOFFSETTO:-0400
TZNAME:EDT
DTSTART:20170312T070000
END:DAYLIGHT
BEGIN:STANDARD
TZOFFSETFROM:-0400
TZOFFSETTO:-0500
TZNAME:EST
DTSTART:20171105T060000
END:STANDARD
BEGIN:DAYLIGHT
TZOFFSETFROM:-0500
TZOFFSETTO:-0400
TZNAME:EDT
DTSTART:20180311T070000
END:DAYLIGHT
BEGIN:STANDARD
TZOFFSETFROM:-0400
TZOFFSETTO:-0500
TZNAME:EST
DTSTART:20181104T060000
END:STANDARD
END:VTIMEZONE
BEGIN:VEVENT
DTSTART;TZID=America/New_York:20170710T130000
DTEND;TZID=America/New_York:20170710T160000
DTSTAMP:20260425T114455
CREATED:20170526T142227Z
LAST-MODIFIED:20170526T142227Z
UID:10001650-1499691600-1499702400@marylandwbc.org
SUMMARY:Group Counseling-Topic: New Business - Frederick County
DESCRIPTION:[su_button url=”https://mdwbc.ecenterdirect.com/events/787017″ background=”#ef2d3b” size=”12″ center=”yes” radius=”round”]Click Here to Register[/su_button] \nIn this group counseling session led by Maria McElhenny\, we will have an open question and answer forum where you can bring your ideas or explore and find tips to your challenges and learn about tools that can help you start or grow your business. \nSpace is limited and registration is required. \nNo walk-ins are allowed in our Bowie or Frederick locations. \nYou must register online at www.marylandwbc.org so that we can save a place for you in the workshop.
URL:https://marylandwbc.org/workshops-and-seminars/group-counseling-topic-new-business-frederick-county/
LOCATION:our-mission
CATEGORIES:Frederick County,Starting a Business,Woman-Owned and Minority Certifications,Workshop
END:VEVENT
BEGIN:VEVENT
DTSTART;TZID=America/New_York:20170724T100000
DTEND;TZID=America/New_York:20170724T130000
DTSTAMP:20260425T114455
CREATED:20170526T145705Z
LAST-MODIFIED:20170526T145705Z
UID:10001672-1500890400-1500901200@marylandwbc.org
SUMMARY:Woman-Owned and Working It! Certifications and Business Opportunities for- Prince George's County
DESCRIPTION:[su_button url=”https://mdwbc.ecenterdirect.com/events/787030″ background=”#ef2d3b” size=”12″ center=”yes” radius=”round”]Click Here to Register[/su_button] \nJoin us for this exciting seminar to learn more about the certifications available to women-owned enterprises. We will discuss the process and the reasons to pursue certification from federal\, state and local agencies as well as private certifications. Representatives from the Small Business Administration\, the State of Maryland\, Montgomery County and the Women Business Enterprise National Council (WBENC) will give you an understanding of their process\, how certification may open business opportunities and which certification opportunities may be right for your business. Register early! \nThe Maryland Women’s Business Center is located at Bowie State University – 14000 Jericho Park Road\, Bowie\, MD 20715. We are on the 2nd floor of the Center for Business & Graduate Studies in the Bowie Business Innovation Center (Bowie BIC) Room 2312. Take the elevator to the 2nd floor. Turn right off of the elevator. We are a separate entity from the University. Our office phone number is 301-383-1550 ext. 104. \nNote our Policy: No refunds issued for workshops not attended. No walk-ins allowed in our Bowie location. \nYou MUST register online at www.marylandwbc.org so that we can save a place for you in the workshop.
URL:https://marylandwbc.org/workshops-and-seminars/woman-owned-and-working-it-certifications-and-business-opportunities-for-prince-georges-county/
LOCATION:About Us
CATEGORIES:Prince George's County,Procurement/Government Contracting,Woman-Owned and Minority Certifications,Workshop
END:VEVENT
END:VCALENDAR