BEGIN:VCALENDAR
VERSION:2.0
PRODID:-//Maryland Women&#039;s Business Center - ECPv6.15.11//NONSGML v1.0//EN
CALSCALE:GREGORIAN
METHOD:PUBLISH
X-ORIGINAL-URL:https://marylandwbc.org
X-WR-CALDESC:Events for Maryland Women&#039;s Business Center
REFRESH-INTERVAL;VALUE=DURATION:PT1H
X-Robots-Tag:noindex
X-PUBLISHED-TTL:PT1H
BEGIN:VTIMEZONE
TZID:America/New_York
BEGIN:DAYLIGHT
TZOFFSETFROM:-0500
TZOFFSETTO:-0400
TZNAME:EDT
DTSTART:20210314T070000
END:DAYLIGHT
BEGIN:STANDARD
TZOFFSETFROM:-0400
TZOFFSETTO:-0500
TZNAME:EST
DTSTART:20211107T060000
END:STANDARD
BEGIN:DAYLIGHT
TZOFFSETFROM:-0500
TZOFFSETTO:-0400
TZNAME:EDT
DTSTART:20220313T070000
END:DAYLIGHT
BEGIN:STANDARD
TZOFFSETFROM:-0400
TZOFFSETTO:-0500
TZNAME:EST
DTSTART:20221106T060000
END:STANDARD
BEGIN:DAYLIGHT
TZOFFSETFROM:-0500
TZOFFSETTO:-0400
TZNAME:EDT
DTSTART:20230312T070000
END:DAYLIGHT
BEGIN:STANDARD
TZOFFSETFROM:-0400
TZOFFSETTO:-0500
TZNAME:EST
DTSTART:20231105T060000
END:STANDARD
END:VTIMEZONE
BEGIN:VEVENT
DTSTART;TZID=America/New_York:20220524T100000
DTEND;TZID=America/New_York:20220524T113000
DTSTAMP:20260419T154525
CREATED:20220426T184703Z
LAST-MODIFIED:20220429T180016Z
UID:10001916-1653386400-1653391800@marylandwbc.org
SUMMARY:How to Become a Certified Women Owned Business
DESCRIPTION:CLICK HERE TO REGISTER!\n\nDescription: If your business is majority minority-owned (51% or greater) and you want to have more opportunities for government contracting\, you need to take this webinar! We will describe the different types of minority and women-owned certifications accepted at the federal & state levels so that you can determine which is best for your business. \n  \nPolicies: Women and men are invited to attend our training workshops. Pre-registration is required. You will receive a link to the Zoom meeting upon registration. If this is your first time using Zoom\, we recommend that you log on a few minutes early as you may need to install the Zoom app.
URL:https://marylandwbc.org/workshops-and-seminars/how-to-become-a-certified-women-owned-business/
CATEGORIES:Woman-Owned and Minority Certifications
END:VEVENT
END:VCALENDAR