BEGIN:VCALENDAR
VERSION:2.0
PRODID:-//Maryland Women&#039;s Business Center - ECPv6.15.11//NONSGML v1.0//EN
CALSCALE:GREGORIAN
METHOD:PUBLISH
X-WR-CALNAME:Maryland Women&#039;s Business Center
X-ORIGINAL-URL:https://marylandwbc.org
X-WR-CALDESC:Events for Maryland Women&#039;s Business Center
REFRESH-INTERVAL;VALUE=DURATION:PT1H
X-Robots-Tag:noindex
X-PUBLISHED-TTL:PT1H
BEGIN:VTIMEZONE
TZID:America/New_York
BEGIN:DAYLIGHT
TZOFFSETFROM:-0500
TZOFFSETTO:-0400
TZNAME:EDT
DTSTART:20170312T070000
END:DAYLIGHT
BEGIN:STANDARD
TZOFFSETFROM:-0400
TZOFFSETTO:-0500
TZNAME:EST
DTSTART:20171105T060000
END:STANDARD
BEGIN:DAYLIGHT
TZOFFSETFROM:-0500
TZOFFSETTO:-0400
TZNAME:EDT
DTSTART:20180311T070000
END:DAYLIGHT
BEGIN:STANDARD
TZOFFSETFROM:-0400
TZOFFSETTO:-0500
TZNAME:EST
DTSTART:20181104T060000
END:STANDARD
BEGIN:DAYLIGHT
TZOFFSETFROM:-0500
TZOFFSETTO:-0400
TZNAME:EDT
DTSTART:20190310T070000
END:DAYLIGHT
BEGIN:STANDARD
TZOFFSETFROM:-0400
TZOFFSETTO:-0500
TZNAME:EST
DTSTART:20191103T060000
END:STANDARD
END:VTIMEZONE
BEGIN:VEVENT
DTSTART;TZID=America/New_York:20181101T093000
DTEND;TZID=America/New_York:20181101T103000
DTSTAMP:20260425T181639
CREATED:20181011T172404Z
LAST-MODIFIED:20181011T172404Z
UID:10001637-1541064600-1541068200@marylandwbc.org
SUMMARY:Orientation to Small Business Resources - Prince George's County
DESCRIPTION:[su_button url=”https://mdwbc.ecenterdirect.com/events/787370″ background=”#ef2d3b” size=”12″ center=”yes”]CLICK HERE TO REGISTER![/su_button] \n  \nLearn about the Maryland Women’s Business Center and other resources to help you start and grow your business. \nNote our Policy: No walk-ins allowed in our Bowie location. \nYou must register online at www.marylandwbc.org so that we can save a place for you in the workshop. \nThe Maryland Women’s Business Center is located at Bowie State University – 14000 Jericho Park Road\, Bowie\, MD 20715. We are on the 2nd floor of the Center for Business & Graduate Studies in the Bowie Business Innovation Center (Bowie BIC): room 2312. Take the elevator to the 2nd floor. Turn right off of the elevator. We are a separate entity from the University. Our office phone number is 301-383-1550 ext. 104.
URL:https://marylandwbc.org/workshops-and-seminars/orientation-to-small-business-resources-prince-georges-county-15/
CATEGORIES:Prince George's County,Starting a Business,Workshop
END:VEVENT
BEGIN:VEVENT
DTSTART;TZID=America/New_York:20181105T093000
DTEND;TZID=America/New_York:20181105T123000
DTSTAMP:20260425T181639
CREATED:20181011T174629Z
LAST-MODIFIED:20181011T174629Z
UID:10001639-1541410200-1541421000@marylandwbc.org
SUMMARY:Assessing Your Business Idea - Prince George's County
DESCRIPTION:[su_button url=”https://mdwbc.ecenterdirect.com/events/787371″ background=”#ef2d3b” size=”12″ center=”yes”]CLICK HERE TO REGISTER![/su_button] \n  \nNot all ideas are good or profitable business ideas. In this workshop\, you will examine business types and choose a business idea while learning to understand niches\, market segmentation\, and target markets. You will assess who the customer is\, develop the research process\, and learn about resources and contingency plans so that you can be sure your business is on solid ground. \nNote our policy: No refunds issued for workshops not attended. \nNo walk-ins accepted. You must register online at www.marylandwbc.org so that we can save a place for you in the workshop. \nThe Maryland Women’s Business Center is located at Bowie State University – 14000 Jericho Park Road\, Bowie\, MD 20715. We are on the 2nd floor of the Center for Business & Graduate Studies in the Bowie Business Innovation Center (Bowie BIC): room 2312. Take the elevator to the 2nd floor. Turn right off of the elevator. We are a separate entity from the University. Our office phone number is 301-383-1550 ext. 104.
URL:https://marylandwbc.org/workshops-and-seminars/assessing-your-business-idea-prince-georges-county-6/
CATEGORIES:Prince George's County,Starting a Business,Workshop
END:VEVENT
BEGIN:VEVENT
DTSTART;TZID=America/New_York:20181108T093000
DTEND;TZID=America/New_York:20181108T123000
DTSTAMP:20260425T181639
CREATED:20180905T180300Z
LAST-MODIFIED:20180905T180300Z
UID:10001635-1541669400-1541680200@marylandwbc.org
SUMMARY:ABCs of Starting a Business-Montgomery County
DESCRIPTION:[su_button url=”https://mdwbc.ecenterdirect.com/events/787365″ background=”#ef2d3b” size=”12″ center=”yes”]CLICK HERE TO REGISTER![/su_button] \n  \nDescription: Join us to find out what it really takes to start your own business. Learn more about the steps involved and discover the many resources available to support you. Questions about legal structures are answered by an attorney. \n\nNote Our Policy: No refunds issued for workshops not attended. Walk-ins are accepted in our Rockville location (credit cards payment only). You must register through the link above or online so that we can save a place for you in the workshop. \n\nTraining Topics: Business Plan\, Business Start-up/Preplanning\, Legal Issues\, Managing a Business\, Woman-owned Businesses
URL:https://marylandwbc.org/workshops-and-seminars/abcs-of-starting-a-business-montgomery-county-26/
CATEGORIES:Montgomery County,Starting a Business,Workshop
END:VEVENT
BEGIN:VEVENT
DTSTART;TZID=America/New_York:20181109T100000
DTEND;TZID=America/New_York:20181109T130000
DTSTAMP:20260425T181639
CREATED:20181024T174057Z
LAST-MODIFIED:20181024T174057Z
UID:10001645-1541757600-1541768400@marylandwbc.org
SUMMARY:Writing a Successful Business Plan - Montgomery County
DESCRIPTION:[su_button url=”https://mdwbc.ecenterdirect.com/events/787372″ background=”#ef2d3b” size=”12″ center=”yes”]CLICK HERE TO REGISTER![/su_button] \nDescription: Understand why you need a strong business plan. Learn how to develop each critical piece of your plan. Workshop includes comprehensive outline and additional resources. \nNote Our Policy: No refunds issued for workshops not attended. Walk-ins paying with credit cards are accepted in our Rockville location (no cash). You must register by clicking on the link above\, or at www.marylandwbc.org/events so that we can save a place for you in the workshop. \nTraining Topics: Business Plan\, Managing a Business
URL:https://marylandwbc.org/workshops-and-seminars/writing-a-successful-business-plan-montgomery-county-28/
CATEGORIES:Developing a Business Plan,Workshop
END:VEVENT
BEGIN:VEVENT
DTSTART;TZID=America/New_York:20181113T130000
DTEND;TZID=America/New_York:20181113T160000
DTSTAMP:20260425T181639
CREATED:20181024T175458Z
LAST-MODIFIED:20181024T175458Z
UID:10001647-1542114000-1542124800@marylandwbc.org
SUMMARY:Group Counseling: New Business - Frederick County
DESCRIPTION:[su_button url=”https://mdwbc.ecenterdirect.com/events/787373″ background=”#ef2d3b” size=”12″ center=”yes”]CLICK HERE TO REGISTER![/su_button] \n  \nDescription: Participate in an open question and answer forum where you can bring your ideas and find solutions to your challenges. Learn about tools that can help you start or grow your business. \n\nNote Our Policy: Space is limited and registration is required. No walk-ins are permitted in our Frederick location. You must register by either clicking on the link above or online at www.marylandwbc.org/events so that we can save a place for you in the workshop. \nTraining Topics: Business Start-up/Preplanning\, Woman-owned Businesses
URL:https://marylandwbc.org/workshops-and-seminars/3548/
LOCATION:our-mission
CATEGORIES:Frederick County,Starting a Business,Workshop
END:VEVENT
BEGIN:VEVENT
DTSTART;TZID=America/New_York:20181116T093000
DTEND;TZID=America/New_York:20181116T123000
DTSTAMP:20260425T181639
CREATED:20181024T204738Z
LAST-MODIFIED:20181024T204738Z
UID:10002029-1542360600-1542371400@marylandwbc.org
SUMMARY:Writing a Successful Business Plan - Prince George's County
DESCRIPTION:[su_button url=”https://mdwbc.ecenterdirect.com/events/787375″ background=”#ef2d3b” size=”12″ center=”yes”]CLICK HERE TO REGISTER![/su_button] \n  \nDescription: Understand why you need a strong business plan. Learn how to develop each critical piece of your plan. A Business Plan is an essential roadmap to help steer your business in the right direction\, keep you on track and provide critical documentation when you are ready to seek funding. Workshop includes a comprehensive outline and additional resources. \n\nNote Our Policy: This workshop will take place at Bowie City Hall. No registrations allowed after 12 noon on the day prior to the workshop. No refunds issued for workshops not attended. You must register through the link above or online at www.marylandwbc.org/events so that we can save a place for you in the workshop. No walk-ins allowed in our Bowie location.  \nTraining Topics: Business Plan\, Managing a Business
URL:https://marylandwbc.org/workshops-and-seminars/writing-a-successful-business-plan-prince-georges-county-28/
CATEGORIES:Developing a Business Plan,Prince George's County,Starting a Business,Workshop
END:VEVENT
BEGIN:VEVENT
DTSTART;TZID=America/New_York:20181116T100000
DTEND;TZID=America/New_York:20181116T120000
DTSTAMP:20260425T181639
CREATED:20181024T203926Z
LAST-MODIFIED:20181024T203926Z
UID:10002028-1542362400-1542369600@marylandwbc.org
SUMMARY:Develop a Marketing Plan for Small Business - Montgomery County
DESCRIPTION:[su_button url=”https://mdwbc.ecenterdirect.com/events/787374″ background=”#ef2d3b” size=”12″ center=”yes”]CLICK HERE TO REGISTER![/su_button] \n  \nDescription: Creating a strategic marketing plan that identifies your ideal market\, outlines actionable steps to reach that market and researches your competition requires a step-by-step plan. Learn how to identify and implement these critical steps with a plan that moves your business toward sustained success. \n\nNote Our Policy: No refunds issued for workshops not attended. Walk-ins accepted at the Rockville location (credit cards only). You must register through the link above or online at www.marylandwbc.org/events so that we can save a place for you in the workshop. \nTraining Topics: Business Plan\, Marketing/Sales
URL:https://marylandwbc.org/workshops-and-seminars/develop-a-marketing-plan-for-small-business-montgomery-county-10/
CATEGORIES:Business Development Strategies,Marketing,Montgomery County,Workshop
END:VEVENT
BEGIN:VEVENT
DTSTART;TZID=America/New_York:20181119T130000
DTEND;TZID=America/New_York:20181119T160000
DTSTAMP:20260425T181639
CREATED:20181024T211245Z
LAST-MODIFIED:20181024T211245Z
UID:10002030-1542632400-1542643200@marylandwbc.org
SUMMARY:Develop Effective Taglines - Frederick County
DESCRIPTION:[su_button url=”https://mdwbc.ecenterdirect.com/events/787376″ background=”#ef2d3b” size=”12″ center=”yes”]CLICK HERE TO REGISTER![/su_button] \n  \nDescription: Maximize the effectiveness of your logo\, marketing message\, or elevator speech through taglines. During this interactive workshop where you will define the key elements of your tagline\, create a memorable description of what you offer\, and get clarity that will resonate with your specific target audience. \nNote Our Policy: No refunds will be issued for workshops not attended. No walk-ins are permitted in our Frederick location. You must register through the link above or online so that we can save a place for you in the workshop. \nTraining Topics: Sales\, Marketing\, Networking
URL:https://marylandwbc.org/workshops-and-seminars/develop-effective-taglines-frederick-county-3/
CATEGORIES:Frederick County,Managing a Business,Marketing,Networking,Sales,Workshop
END:VEVENT
BEGIN:VEVENT
DTSTART;TZID=America/New_York:20181120T130000
DTEND;TZID=America/New_York:20181120T160000
DTSTAMP:20260425T181639
CREATED:20181024T152621Z
LAST-MODIFIED:20181024T152621Z
UID:10001643-1542718800-1542729600@marylandwbc.org
SUMMARY:Group Counseling: Staying on Track - Frederick County
DESCRIPTION:[su_button url=”https://mdwbc.ecenterdirect.com/events/787384″ background=”#ef2d3b” size=”12″ center=”yes”]CLICK HERE TO REGISTER![/su_button] \nDescription: Rate your business tasks and identify areas that are falling behind so that you can move your business toward profit. \n\nNote Our Policy: Space is limited and registration is required. You must register through the link above so that we can save a place for you in the workshop. No walk-ins are permitted in our Frederick location. \n\nTraining Topics: Managing a Business\, Woman-owned Businesses
URL:https://marylandwbc.org/workshops-and-seminars/group-counseling-staying-on-track-frederick-county/
LOCATION:our-mission
CATEGORIES:Frederick County,Managing a Business,Workshop
END:VEVENT
BEGIN:VEVENT
DTSTART;TZID=America/New_York:20181126T130000
DTEND;TZID=America/New_York:20181126T160000
DTSTAMP:20260425T181639
CREATED:20181025T142749Z
LAST-MODIFIED:20181025T142749Z
UID:10002031-1543237200-1543248000@marylandwbc.org
SUMMARY:ABCs of Starting a Business - Frederick County
DESCRIPTION:[su_button url=”https://mdwbc.ecenterdirect.com/events/787377″ background=”#ef2d3b” size=”12″ center=”yes”]CLICK HERE TO REGISTER![/su_button] \n  \nDescription: Find out what it really takes to start your own business. Learn more about the steps involved and discover the many resources available to support you.  \n\nNote Our Policy: No refunds issued for workshops not attended. Walk-ins are not permitted in our Frederick office. You must register through the link above so that we can save a place for you in the workshop. \n\nTraining Topics: Business Plan\, Business Start-up/Preplanning\, Legal Issues\, Managing a Business\, Woman-owned Businesses
URL:https://marylandwbc.org/workshops-and-seminars/abcs-of-starting-a-business-frederick-county-16/
LOCATION:our-mission
CATEGORIES:Frederick County,Managing a Business,Starting a Business,Workshop
END:VEVENT
BEGIN:VEVENT
DTSTART;TZID=America/New_York:20181127T093000
DTEND;TZID=America/New_York:20181127T123000
DTSTAMP:20260425T181639
CREATED:20181025T143610Z
LAST-MODIFIED:20181025T143610Z
UID:10002032-1543311000-1543321800@marylandwbc.org
SUMMARY:Market Analysis-Chart It Before You Start It! - Prince George's County
DESCRIPTION:[su_button url=”https://mdwbc.ecenterdirect.com/events/787378″ background=”#ef2d3b” size=”12″ center=”yes”]CLICK HERE TO REGISTER![/su_button] \n  \nDescription: Discover where to get the market research data you need to develop your marketing strategy. Learn how to find customers\, how to research your competitors and how to estimate your market potential. \nLogistics: The Prince George’s County branch of the Maryland Women’s Business Center is located at Bowie Business Innovation Center at Bowie State University\, Room #2312. Parking is limited\, so plan accordingly! \nNote Our Policy: No refunds issued for workshops not attended. Walk-ins are not permitted in our Bowie office. You must register through the link above so that we can save a place for you in the workshop.
URL:https://marylandwbc.org/workshops-and-seminars/market-analysis-chart-it-before-you-start-it-prince-georges-county-2/
CATEGORIES:Managing a Business,Marketing,Prince George's County,Starting a Business,Workshop
END:VEVENT
BEGIN:VEVENT
DTSTART;TZID=America/New_York:20181127T130000
DTEND;TZID=America/New_York:20181127T160000
DTSTAMP:20260425T181639
CREATED:20181025T144157Z
LAST-MODIFIED:20181025T144157Z
UID:10002033-1543323600-1543334400@marylandwbc.org
SUMMARY:Group Counseling: New Business - Frederick County
DESCRIPTION:[su_button url=”https://mdwbc.ecenterdirect.com/events/787379″ background=”#ef2d3b” size=”12″ center=”yes”]CLICK HERE TO REGISTER![/su_button] \n  \nDescription: Participate in an open question and answer forum where you can bring your ideas and find solutions to your challenges. Learn about tools that can help you start or grow your business. \n\nNote Our Policy: Space is limited and registration is required. You must register through the link above so that we can save a place for you in the workshop. No walk-ins are permitted in our Frederick location. \n\nTraining Topics: Managing a Business\, Woman-owned Businesses
URL:https://marylandwbc.org/workshops-and-seminars/group-counseling-new-business-frederick-county/
LOCATION:our-mission
CATEGORIES:Frederick County,Managing a Business,Starting a Business,Workshop
END:VEVENT
BEGIN:VEVENT
DTSTART;TZID=America/New_York:20181128T090000
DTEND;TZID=America/New_York:20181128T100000
DTSTAMP:20260425T181639
CREATED:20181025T145108Z
LAST-MODIFIED:20181025T145108Z
UID:10002034-1543395600-1543399200@marylandwbc.org
SUMMARY:Orientation to Small Business Resources-Montgomery County
DESCRIPTION:[su_button url=”https://mdwbc.ecenterdirect.com/events/787380″ background=”#ef2d3b” size=”12″ center=”yes”]CLICK HERE TO REGISTER![/su_button] \n  \nDescription: Learn about the Maryland Women’s Business Center and other resources to help you start and grow your business. \nNote Our Policy: You must register through the link above so that we can save a place for you in the workshop. Walk-ins are accepted at our Rockville location (credit card only).
URL:https://marylandwbc.org/workshops-and-seminars/orientation-to-small-business-resources-montgomery-county-25/
CATEGORIES:Managing a Business,Montgomery County,Orientation,Starting a Business,Workshop
END:VEVENT
BEGIN:VEVENT
DTSTART;TZID=America/New_York:20181129T093000
DTEND;TZID=America/New_York:20181129T123000
DTSTAMP:20260425T181639
CREATED:20181026T054437Z
LAST-MODIFIED:20181026T054437Z
UID:10002036-1543483800-1543494600@marylandwbc.org
SUMMARY:Business Clinic - Prince George's County
DESCRIPTION:[su_button url=”https://mdwbc.ecenterdirect.com/events/787381″ background=”#ef2d3b” size=”12″ center=”yes”]CLICK HERE TO REGISTER![/su_button] \n  \nDescription: If you are an established business with a business plan\, consider meeting with Counselor Angie Duncanson one-on-one to discuss your next steps and how MWBC can help you.. Must register and be a Prince George’s County company. Once you register\, you will be contacted via email with your specific one-hour appointment time. Limited slots available. By confirmed appointment only! \n\nLogistics: The Maryland Women’s Business Center is located at Bowie State University – 14000 Jericho Park Road\, Bowie\, MD 20715. We are on the 2nd floor of the Center for Business & Graduate Studies in the Bowie Business Innovation Center (Bowie BIC)\, Room 2312. Take the elevator to the 2nd floor. Turn right off of the elevator. We are a separate entity from the University. Our office phone number is 301-383-1550 ext. 104. \n\nTraining Topic: Managing a Business
URL:https://marylandwbc.org/workshops-and-seminars/business-clinic-prince-georges-county-18/
CATEGORIES:Managing a Business,Prince George's County,Workshop
END:VEVENT
BEGIN:VEVENT
DTSTART;TZID=America/New_York:20181130T100000
DTEND;TZID=America/New_York:20181130T130000
DTSTAMP:20260425T181639
CREATED:20181026T053910Z
LAST-MODIFIED:20181026T053910Z
UID:10002035-1543572000-1543582800@marylandwbc.org
SUMMARY:Plan de Negocios Exitoso - Montgomery County
DESCRIPTION:[su_button url=”https://mdwbc.ecenterdirect.com/events/787382″ background=”#ef2d3b” size=”12″ center=”yes”]CLICK HERE TO REGISTER![/su_button] \n  \nDescripción: Aprenda por que usted necesita un Plan de Negocios sólido y robusto. Aprenda como desarrollar cada parte crítica de su plan.Este taller incluye un esbozo general y le orienta sobre otros recursos adicionales a los que usted puede acceder para elaborar un Exitoso Plan de Negocios en Rockville. \n\nCosto: $35
URL:https://marylandwbc.org/workshops-and-seminars/plan-de-negocios-exitoso-montgomery-county-26/
CATEGORIES:Developing a Business Plan,Montgomery County,Spanish,Workshop
END:VEVENT
END:VCALENDAR