BEGIN:VCALENDAR
VERSION:2.0
PRODID:-//Maryland Women&#039;s Business Center - ECPv6.15.11//NONSGML v1.0//EN
CALSCALE:GREGORIAN
METHOD:PUBLISH
X-ORIGINAL-URL:https://marylandwbc.org
X-WR-CALDESC:Events for Maryland Women&#039;s Business Center
REFRESH-INTERVAL;VALUE=DURATION:PT1H
X-Robots-Tag:noindex
X-PUBLISHED-TTL:PT1H
BEGIN:VTIMEZONE
TZID:America/New_York
BEGIN:DAYLIGHT
TZOFFSETFROM:-0500
TZOFFSETTO:-0400
TZNAME:EDT
DTSTART:20180311T070000
END:DAYLIGHT
BEGIN:STANDARD
TZOFFSETFROM:-0400
TZOFFSETTO:-0500
TZNAME:EST
DTSTART:20181104T060000
END:STANDARD
BEGIN:DAYLIGHT
TZOFFSETFROM:-0500
TZOFFSETTO:-0400
TZNAME:EDT
DTSTART:20190310T070000
END:DAYLIGHT
BEGIN:STANDARD
TZOFFSETFROM:-0400
TZOFFSETTO:-0500
TZNAME:EST
DTSTART:20191103T060000
END:STANDARD
BEGIN:DAYLIGHT
TZOFFSETFROM:-0500
TZOFFSETTO:-0400
TZNAME:EDT
DTSTART:20200308T070000
END:DAYLIGHT
BEGIN:STANDARD
TZOFFSETFROM:-0400
TZOFFSETTO:-0500
TZNAME:EST
DTSTART:20201101T060000
END:STANDARD
END:VTIMEZONE
BEGIN:VEVENT
DTSTART;TZID=America/New_York:20190204T130000
DTEND;TZID=America/New_York:20190204T160000
DTSTAMP:20260425T135354
CREATED:20181226T182350Z
LAST-MODIFIED:20181226T182350Z
UID:10002060-1549285200-1549296000@marylandwbc.org
SUMMARY:Writing a Successful Business Plan - Frederick County
DESCRIPTION:[su_button url=”https://mdwbc.ecenterdirect.com/events/787412″ background=”#ef2d3b” size=”12″ center=”yes”]CLICK HERE TO REGISTER![/su_button] \n  \n  \nA business plan is a road map to steer your business in the right direction and an essential component of success. It is also the key to securing funding from banks and investors. Writing your business plan requires a holistic analysis of your business\, which we will detail in this course. Topics include: \n\n\n\nBusiness mission\, vision and values\nMarket/competitive analysis\nMarketing goals\nBusiness operations and organizational structure\nFinancial analysis and sales projections\nSmall business accounting and compliance\n\n\n\n*Intended Audience: Pre-venture\, Start-up \n  \n Note Our Policies: No refunds issued for workshops not attended. Walk-ins are not permitted in our Frederick county office. You must register through the link above so that we can save a place for you in the workshop. \n Inclement Weather: MWBC Frederick County follows Frederick County government closings. Delays are assessed on a case-by-case basis and a final decision will be communicated to attendees no later than 2 hours in advance of the course.
URL:https://marylandwbc.org/workshops-and-seminars/writing-a-successful-business-plan-frederick-county-9/
LOCATION:our-mission
CATEGORIES:Developing a Business Plan,Frederick County,Workshop
END:VEVENT
BEGIN:VEVENT
DTSTART;TZID=America/New_York:20190205T093000
DTEND;TZID=America/New_York:20190205T123000
DTSTAMP:20260425T135354
CREATED:20190118T205113Z
LAST-MODIFIED:20190118T205113Z
UID:10001673-1549359000-1549369800@marylandwbc.org
SUMMARY:ABCs of Starting a Business - Prince George's County
DESCRIPTION:[su_button url=”https://mdwbc.ecenterdirect.com/events/787436″ background=”#ef2d3b” size=”12″ center=”yes”]CLICK HERE TO REGISTER![/su_button] \n  \nDiscover what it really takes to start your own business. This workshop lays the foundation for starting up your very own business in the state of Maryland! Topics addressed in this workshop include: \nAdvance Planning \n\nAssessing if entrepreneurship is right for you\nConducting market research\nCalculating startup costs\n\nBuild Your Business \n\nDetermining business structure and registering your business both at the federal and state levels\nChoosing a business name\nMarketing your business\nBuilding a support team\n\nCorporate Formalities & Legal Considerations \n\nLegal considerations such as trademarks\, resident agents\, and foreign qualifications\n\n*Intended Audience: Pre-Venture\, Startup \n  \nNote Our Policies: This workshop will take place at Bowie City Hall. Walk-ins are not permitted. No registrations allowed after 12 noon on the day prior to the workshop. No refunds issued for workshops not attended. You must register to reserve your seat. \nInclement Weather: Due to the location of this workshop\, MWBC Prince George’s County will follow Bowie City closings and delays.
URL:https://marylandwbc.org/workshops-and-seminars/abcs-of-starting-a-business-prince-georges-county-28/
CATEGORIES:Legal Issues,Prince George's County,Starting a Business,Workshop
END:VEVENT
BEGIN:VEVENT
DTSTART;TZID=America/New_York:20190205T130000
DTEND;TZID=America/New_York:20190205T160000
DTSTAMP:20260425T135354
CREATED:20190118T194829Z
LAST-MODIFIED:20190118T194829Z
UID:10002066-1549371600-1549382400@marylandwbc.org
SUMMARY:Group Business Counseling: New Business - Frederick County
DESCRIPTION:[su_button url=”https://mdwbc.ecenterdirect.com/events/787413″ background=”#ef2d3b” size=”12″ center=”yes”]CLICK HERE TO REGISTER![/su_button] \n  \nJoin other new female entrepreneurs in a facilitated discussion led by a MWBC counselor where participants share advice\, feedback and resources to help get your business off the ground! Come prepared to discuss your business ideas and start-up challenges while sharing lessons that you’ve learned along the way. This session is free. \n*Intended audience: Pre-Venture\, Start-Up \n  \nNote Our Policies: No refunds issued for workshops not attended. Walk-ins are not permitted in our Frederick office. You must register through www.marylandwbc.org/events so that we can save a place for you in the workshop. \nInclement Weather: MWBC Frederick County follows Frederick County government delays and closings.
URL:https://marylandwbc.org/workshops-and-seminars/group-business-counseling-new-business-frederick-county-2/
LOCATION:our-mission
CATEGORIES:Business Development Strategies,Frederick County,Starting a Business,Workshop
END:VEVENT
BEGIN:VEVENT
DTSTART;TZID=America/New_York:20190208T100000
DTEND;TZID=America/New_York:20190208T130000
DTSTAMP:20260425T135354
CREATED:20190118T200526Z
LAST-MODIFIED:20190118T200526Z
UID:10002067-1549620000-1549630800@marylandwbc.org
SUMMARY:Writing a Successful Business Plan - Montgomery County
DESCRIPTION:[su_button url=”https://mdwbc.ecenterdirect.com/events/787430″ background=”#ef2d3b” size=”12″ center=”yes”]CLICK HERE TO REGISTER![/su_button]\n  \nA business plan is a road map to steer your business in the right direction and an essential component of success. It is also the key to securing funding from banks and investors. Writing your business plan requires a holistic analysis of your business\, which we will detail in this course. Topics include: \n\nBusiness mission\, vision and values\nMarket/competitive analysis\nMarketing goals\nBusiness operations and organizational structure\nFinancial analysis and sales projections\nSmall business accounting and compliance\n\n*Intended Audience: pre-venture\, startup \n  \nNote Our Policies: No refunds issued for workshops not attended. Walk-ins are accepted in our Montgomery county location (credit cards payment only). \nInclement Weather: MWBC Montgomery County follows Rockville City government closings and delays.
URL:https://marylandwbc.org/workshops-and-seminars/writing-a-successful-business-plan-montgomery-county-31/
CATEGORIES:Accounting/Budget,Developing a Business Plan,Marketing,Montgomery County,Starting a Business,Workshop
END:VEVENT
BEGIN:VEVENT
DTSTART;TZID=America/New_York:20190213T160000
DTEND;TZID=America/New_York:20190213T170000
DTSTAMP:20260425T135354
CREATED:20181213T214428Z
LAST-MODIFIED:20181213T214428Z
UID:10001657-1550073600-1550077200@marylandwbc.org
SUMMARY:Orientation to Maryland Women’s Business Center & Supporting Resources - Montgomery County
DESCRIPTION:[su_button url=”https://mdwbc.ecenterdirect.com/events/787408″ background=”#ef2d3b” size=”12″ center=”yes”]CLICK HERE TO REGISTER![/su_button] \n  \nDiscover how the Maryland Women’s Business Center can support you through business start-up and growth. During this orientation\, you will learn about the services and resources we provide to entrepreneurs throughout the state and how we can help YOU grow your business! \n*Intended Audience: pre-venture\, start-up\, growth\, anyone new to the Maryland Women’s Business Center! \n  \nNote Our Policies: No refunds issued for workshops not attended. Walk-ins are accepted in our Montgomery county location (credit cards payment only). \n Inclement Weather: MWBC Montgomery County follows Rockville City government closings. Delays are assessed on a case-by-case basis and a final decision will be communicated to attendees no later than 2 hours in advance of the course.
URL:https://marylandwbc.org/workshops-and-seminars/orientation-to-maryland-womens-business-center-supporting-resources-montgomery-county-2/
CATEGORIES:Montgomery County,Orientation,Workshop
END:VEVENT
BEGIN:VEVENT
DTSTART;TZID=America/New_York:20190215T100000
DTEND;TZID=America/New_York:20190215T130000
DTSTAMP:20260425T135354
CREATED:20190118T201340Z
LAST-MODIFIED:20190118T201340Z
UID:10001669-1550224800-1550235600@marylandwbc.org
SUMMARY:Plan de Negocios Exitoso - Montgomery County
DESCRIPTION:[su_button url=”https://mdwbc.ecenterdirect.com/events/787432″ background=”#ef2d3b” size=”12″ center=”yes”]CLICK HERE TO REGISTER![/su_button] \n  \n¡¡Escriba un plan de Negocio Exitoso!! \nUn Plan de Negocio es el guía que usted necesita para dirigir su negocio en la dirección correcta y además es un componente esencial de éxito. \nEste documento es también un elemento clave para asegurar financiamiento bancario o la participación de potenciales inversionistas. Escribir un Plan de Negocios\, requiere de un análisis integral que usted podrá aprender en detalle durante este curso. \nLos tópicos que incluiremos: \n\nLa misión de la empresa\, la visión del negocio y los valores corporativos\nInvestigación y Análisis del mercado y de la industria\nEstableceremos Metas claras y realistas en el mercadeo de su negocio\nEstructura organizacional de su negocio y también analizaremos los procesos y operaciones más relevantes de su negocio\nAnálisis Financiero y Proyecciones de ventas\nAspectos básicos de la contabilidad y el cumplimiento de los pequeños negocios\n\n**Queremos entrenar a: Pequeños empresarios que se encuentren en la etapa de arranque y para aquellos que están en la etapa previa al emprendimiento.
URL:https://marylandwbc.org/workshops-and-seminars/plan-de-negocios-exitoso-montgomery-county-29/
CATEGORIES:Accounting/Budget,Developing a Business Plan,Marketing,Montgomery County,Starting a Business,Workshop
END:VEVENT
BEGIN:VEVENT
DTSTART;TZID=America/New_York:20190219T093000
DTEND;TZID=America/New_York:20190219T103000
DTSTAMP:20260425T135354
CREATED:20190206T174047Z
LAST-MODIFIED:20190206T174047Z
UID:10001679-1550568600-1550572200@marylandwbc.org
SUMMARY:Orientation to MD Women's Business Center & Supporting Resources - Prince George's County
DESCRIPTION:[su_button url=”https://mdwbc.ecenterdirect.com/events/787437″ background=”#ef2d3b” size=”12″ center=”yes”]CLICK HERE TO REGISTER![/su_button] \n  \nDiscover how the Maryland Women’s Business Center can support you through business startup and growth. During this orientation\, you will learn about the services and resources we provide to entrepreneurs throughout the state and how we can help YOU grow your business! \n*Intended Audience: Pre-Venture\, Startup\, Growth\, anyone new to the Maryland Women’s Business Center! \n  \nNote Our Policies: No refunds issued for workshops not attended. Walk-ins are not permitted in our Prince George’s county office. You must register to reserve your seat. \n Inclement Weather: MWBC Prince George’s County follows Bowie State University School delays and closings.
URL:https://marylandwbc.org/workshops-and-seminars/orientation-to-md-womens-business-center-supporting-resources-prince-georges-county-3/
LOCATION:About Us
CATEGORIES:Orientation,Prince George's County,Workshop
END:VEVENT
BEGIN:VEVENT
DTSTART;TZID=America/New_York:20190219T130000
DTEND;TZID=America/New_York:20190219T160000
DTSTAMP:20260425T135354
CREATED:20190118T193756Z
LAST-MODIFIED:20190118T193756Z
UID:10002065-1550581200-1550592000@marylandwbc.org
SUMMARY:Group Business Counseling: Staying on Track - Frederick County
DESCRIPTION:[su_button url=”https://mdwbc.ecenterdirect.com/events/787415″ background=”#ef2d3b” size=”12″ center=”yes”]CLICK HERE TO REGISTER![/su_button] \n  \nJoin other female entrepreneurs in a facilitated discussion led by a MWBC counselor where participants seek and share advice\, feedback\, and resources to grow your business! Explore topics such as expanding your client base\, enhancing key marketing strategies\, and increasing sales volume. Come prepared to discuss your business challenges while sharing tips and tricks with fellow entrepreneurs. This session is free. \n*Intended Audience: Growth \n  \nNote Our Policies: No refunds issued for workshops not attended. Walk-ins are not permitted in our Frederick county office. You must register so that we can save a place for you in the workshop. \nInclement Weather: MWBC Frederick County follows Frederick County government delays and closings. \n  \n  \n 
URL:https://marylandwbc.org/workshops-and-seminars/group-business-counseling-staying-on-track-frederick-county-3/
LOCATION:our-mission
CATEGORIES:Business Development Strategies,Frederick County,Managing a Business,Workshop
END:VEVENT
BEGIN:VEVENT
DTSTART;TZID=America/New_York:20190222T100000
DTEND;TZID=America/New_York:20190222T120000
DTSTAMP:20260425T135354
CREATED:20190118T204038Z
LAST-MODIFIED:20190118T204038Z
UID:10001670-1550829600-1550836800@marylandwbc.org
SUMMARY:Develop a Marketing Plan for Small Business Owners - Montgomery County
DESCRIPTION:[su_button url=”https://mdwbc.ecenterdirect.com/events/787434″ background=”#ef2d3b” size=”12″ center=”yes”]CLICK HERE TO REGISTER![/su_button] \n  \nMarketing your products or services is a critical component of a successful business and differentiates your company from the competition. During this workshop\, you will create a step-by-step plan to develop a marketing strategy\, including: \n\nCrafting your marketing goals\nIdentifying the ideal target audience\nResearching competition\nSetting a realistic budget\n\n*Intended Audience: Pre-venture\, Startup \n  \nNote Our Policies: No refunds issued for workshops not attended. Walk-ins are accepted in our Montgomery county location (credit cards payment only). \nInclement Weather: MWBC Montgomery County follows Rockville City government closings and delays.
URL:https://marylandwbc.org/workshops-and-seminars/develop-a-marketing-plan-for-small-business-owners-montgomery-county-2/
CATEGORIES:Marketing,Montgomery County,Workshop
END:VEVENT
BEGIN:VEVENT
DTSTART;TZID=America/New_York:20190226T093000
DTEND;TZID=America/New_York:20190226T123000
DTSTAMP:20260425T135354
CREATED:20190117T035459Z
LAST-MODIFIED:20190117T035459Z
UID:10002063-1551173400-1551184200@marylandwbc.org
SUMMARY:How to Manage Your Finances Using Quickbooks Online™ - Prince George's County
DESCRIPTION:[su_button url=”https://mdwbc.ecenterdirect.com/events/787428″ background=”#ef2d3b” size=”12″ center=”yes”]CLICK HERE TO REGISTER![/su_button] \n  \nAre you or a staff member completely overwhelmed with how to get your Quickbooks Online file up and running? \nAre you constantly making errors because you don’t know how to record things properly? \nAre you tired of using excel to track your numbers because they don’t tell you how your business is doing? \nCould a no non-sense expert help you get your numbers right and help you run reports that will assist you with growing your business? \nSherrell Martin\, Chief Financial Solutions Officer of Nitram Financial Solutions\, will teach you the foundational elements of the QuickBooks system and empower you to independently naviate your very own QuickBooks file. She’ll also help you determine which version of Quickbooks Online is best suited for your business. \nIn this workshop you will learn how to: \n\nSet up and navigate through your QuickBooks company file\nConduct data entry properly\nAppropriately classify expenses\nSet up your chart of accounts\, customers and vendors.\nConnect your bank account and manage Bank Feeds\nCreate invoices and receive payments.\nEnter and pay vendor bills and credit card statements.\nRecord miscellaneous transactions\nGenerate meaningful financial reports.\n\n  \nTarget Audience: Start-Up\, Growth\n***Participants are expected to have some basic business and accounting knowledge. \nNote Our Policies: No refunds issued for workshops not attended. Walk-ins are not permitted in our Prince George’s county office. You must register so that we can save a place for you in the workshop. \nInclement weather: MWBC Prince George’s County follows Bowie State University School closings and delays.
URL:https://marylandwbc.org/workshops-and-seminars/how-to-manage-your-finances-using-quickbooks-online-prince-georges-county/
LOCATION:About Us
CATEGORIES:Accounting/Budget,Bookkeeping,Cash Flow Management,Prince George's County,Quickbooks,Workshop
ORGANIZER;CN="Angie Duncanson%2C Prince George%E2%80%99s County":MAILTO:Angie@marylandwbc.org
END:VEVENT
BEGIN:VEVENT
DTSTART;TZID=America/New_York:20190227T130000
DTEND;TZID=America/New_York:20190227T160000
DTSTAMP:20260425T135354
CREATED:20190117T041436Z
LAST-MODIFIED:20190117T041436Z
UID:10002062-1551272400-1551283200@marylandwbc.org
SUMMARY:Dare to Sell with Persuasive Stories - Montgomery County
DESCRIPTION:[su_button url=”https://mdwbc.ecenterdirect.com/events/787429″ background=”#ef2d3b” size=”12″ center=”yes”]CLICK HERE TO REGISTER![/su_button] \n  \nOne of the finest ways to communicate and persuade a prospect to buy your ideas\, products or services is through the use of persuasive stories. When this is done strategically\, you can engage\, connect and empower in a way that is subtle\, but powerful. You know the best part? Stories are non-invasive! \nPsychologists and neuroscientists agree that storytelling is one of the best ways to emotionally connect and move people to take action. The key is to choose the right story in building rapport and helping your customers to remember you. It is worth-remembering that not every random story will work. You have to choose the stories that generate likability\, credibility and above all\, profitability. If you want to leverage the power of word-of-mouth marketing\, then this workshop if for you. \nDuring this workshop you will learn: \n\nWhere to find relatable stories to use in building your business\nThe framework for structuring your persuasive stories\nHow to master the metaphors in touching your prospects emotionally\nThe components of a good story\nThe four science-based elements of unforgettable stories\nHow to humanize and humorize your stories to connect\n\nAbout Our Presenter: Gideon F. For-mukwai is an award-winning speaker and best selling author of the book\, “The Science of Story Selling\,” an Amazon 2015 Bestseller. He’s been featured in The Boston Globe\, Wall Street Select Journal\, The Daily Astorian and other international publications/media in USA and Singapore. \nOver the last 12 years\, he has presented training programs for executives from organizations such as U.S. Social Security Administration\, Veterans Administration\, Morrison University\, Sierra Arts\, Shell Eastern Petroleum\, and the National Association of Government Communicators (NAGC). \nGideon is the creator of the Story DNA Method\, that combines both the art and science of storytelling in telling stories that captivate\, connect and uplift across cultures. \nHe currently works a corporate trainer and moonlights as a doctoral student specializing transformational learning in organizations. So far\, Gideon has presented in 19 countries and 15 US States. As a little boy growing up in Africa\, Gideon was very mischievous. Today\, his mother is very pleased that her little boy did not end up in deep trouble. \n*Intended Audience: Start-Up\, Growth \n  \nNote Our Policies: No refunds issued for workshops not attended. Walk-ins are accepted in our Montgomery county location (credit cards payment only). You must register through the link above to reserve your seat. \nInclement Weather: MWBC Montgomery County follows Rockville City government closings and delays.
URL:https://marylandwbc.org/workshops-and-seminars/dare-to-sell-with-persuasive-stories-montgomery-county/
CATEGORIES:Marketing,Montgomery County,Sales,Workshop
END:VEVENT
BEGIN:VEVENT
DTSTART;TZID=America/New_York:20190227T170000
DTEND;TZID=America/New_York:20190227T190000
DTSTAMP:20260425T135354
CREATED:20190117T045541Z
LAST-MODIFIED:20190117T045541Z
UID:10002064-1551286800-1551294000@marylandwbc.org
SUMMARY:Convert Your Online Prospects to Customers Using Google Analytics - Montgomery County
DESCRIPTION:[su_button url=”https://mdwbc.ecenterdirect.com/events/787427″ background=”#ef2d3b” size=”12″ center=”yes”]CLICK HERE TO REGISTER![/su_button] \nMost small businesses use a variety of different marketing techniques\, and it’s important to take the time to measure how successful these programs are. When it comes to your online marketing efforts\, Google Analytics is a powerful took that can provide you with mountains of data. Yet\, all the data in the world will not help if you don’t know how to use in. \nNicole Krug\, online marketing expert and Founder of Social Light\, will teach you how to approach Google Analytics to understand how effective your marketing efforts are\, and how to create more conversions online. \nThis session will cover: \n\nAn overview of Google Analytics\nAsking the right questions to hone in on the data you need\nCreating KPIs (key performance indicators) for each campaign\nSteps toward improving your performance and increasing your customer conversion rate\n\nAbout Our Speaker: Nicole Krug founded Social Light in 2009 to help make the Internet a friendlier place by providing the tools and training small business owners need for success online. Through Social Light Nicole helps clients hone their digital marketing strategies to bring more exposure to their brand while boosting the bottom line. \nPrior to Social Light\, Nicole spent 10 years in enterprise marketing and business development for brands as diverse as The North Face and BB&T Bank. From developing marketing programs and e-commerce channels to improving organizational performance and building profitable business relationships\, Nicole understands revenue goals and how to meet them. \nIntended Audience: Start-Up\, Growth \n  \nNote Our Policies: No refunds issued for workshops not attended. Walk-ins are accepted in our Montgomery county location (credit cards payment only). \nInclement Weather: MWBC Montgomery County follows Rockville City government closings and delays.
URL:https://marylandwbc.org/workshops-and-seminars/convert-your-online-prospects-to-customers-using-google-analytics-montgomery-county-2/
CATEGORIES:Marketing,Montgomery County,Technology,Workshop
END:VEVENT
BEGIN:VEVENT
DTSTART;TZID=America/New_York:20190228T093000
DTEND;TZID=America/New_York:20190228T123000
DTSTAMP:20260425T135354
CREATED:20190206T175207Z
LAST-MODIFIED:20190206T175207Z
UID:10001681-1551346200-1551357000@marylandwbc.org
SUMMARY:Group Business Counseling - Prince George's County
DESCRIPTION:[su_button url=”https://mdwbc.ecenterdirect.com/events/787438″ background=”#ef2d3b” size=”12″ center=”yes”]CLICK HERE TO REGISTER![/su_button] \n  \n  \nJoin other female entrepreneurs in a facilitated discussion led by a MWBC counselor where participants seek and share advice\, feedback\, and resources to elevate your business to the next level! Explore topics such as starting a business\, developing key marketing strategies and efficiently managing your financials. Limited clients per session. Your business must be in Prince George’s County in order to attend. This session is free. \n*Intended audience: Pre-Venture\, Startup\, Growth \n  \nNote Our Policies: No refunds issued for workshops not attended. Walk-ins are not permitted in our Prince George’s county office. You must register through www.marylandwbc.org/events to reserve your seat. \nInclement Weather: MWBC Prince George’s County follows Bowie State University School closings and delays.
URL:https://marylandwbc.org/workshops-and-seminars/group-business-counseling-prince-georges-county-2/
LOCATION:About Us
CATEGORIES:Business Finance,Cash Flow Management,Managing a Business,Marketing,Prince George's County,Starting a Business,Workshop
END:VEVENT
END:VCALENDAR