BEGIN:VCALENDAR
VERSION:2.0
PRODID:-//Maryland Women&#039;s Business Center - ECPv6.15.11//NONSGML v1.0//EN
CALSCALE:GREGORIAN
METHOD:PUBLISH
X-WR-CALNAME:Maryland Women&#039;s Business Center
X-ORIGINAL-URL:https://marylandwbc.org
X-WR-CALDESC:Events for Maryland Women&#039;s Business Center
REFRESH-INTERVAL;VALUE=DURATION:PT1H
X-Robots-Tag:noindex
X-PUBLISHED-TTL:PT1H
BEGIN:VTIMEZONE
TZID:America/New_York
BEGIN:DAYLIGHT
TZOFFSETFROM:-0500
TZOFFSETTO:-0400
TZNAME:EDT
DTSTART:20190310T070000
END:DAYLIGHT
BEGIN:STANDARD
TZOFFSETFROM:-0400
TZOFFSETTO:-0500
TZNAME:EST
DTSTART:20191103T060000
END:STANDARD
BEGIN:DAYLIGHT
TZOFFSETFROM:-0500
TZOFFSETTO:-0400
TZNAME:EDT
DTSTART:20200308T070000
END:DAYLIGHT
BEGIN:STANDARD
TZOFFSETFROM:-0400
TZOFFSETTO:-0500
TZNAME:EST
DTSTART:20201101T060000
END:STANDARD
BEGIN:DAYLIGHT
TZOFFSETFROM:-0500
TZOFFSETTO:-0400
TZNAME:EDT
DTSTART:20210314T070000
END:DAYLIGHT
BEGIN:STANDARD
TZOFFSETFROM:-0400
TZOFFSETTO:-0500
TZNAME:EST
DTSTART:20211107T060000
END:STANDARD
END:VTIMEZONE
BEGIN:VEVENT
DTSTART;TZID=America/New_York:20200421T080000
DTEND;TZID=America/New_York:20200421T093000
DTSTAMP:20260424T150847
CREATED:20200403T230355Z
LAST-MODIFIED:20200403T230355Z
UID:10002179-1587456000-1587461400@marylandwbc.org
SUMMARY:Virtual Monthly Coffee Connections Workshop & Networking Opportunity
DESCRIPTION:[su_button url=”https://mdwbc.ecenterdirect.com/events/787617″ background=”#ef2d3b” size=”12″ center=”yes”]CLICK HERE TO REGISTER![/su_button] \n  \nJoin MWBC for our monthly Coffee Connections workshop where you have the opportunity to learn from and build connections with other Maryland female entrepreneurs. You will have a chance to give a 30 second elevator pitch of your business or business idea (if you like). \nThis month’s topic: Dealing with Change\nAgenda:\n8:00-8:15: Introductions and elevator pitches\n8:15-9:15: Workshop and virtual networking \n*Intended Audience: Start-Up\, Growth \nRegistration for this workshop is limited to 15 attendees. \nYou will receive a link to the Zoom meeting upon registration. If this is your first time using Zoom\, we recommend that you log on a few minutes early as you may need to install the Zoom app.
URL:https://marylandwbc.org/workshops-and-seminars/virtual-monthly-coffee-connections-workshop-networking-opportunity/
CATEGORIES:Human Resources,Webinar,Workshop
END:VEVENT
BEGIN:VEVENT
DTSTART;TZID=America/New_York:20200423T113000
DTEND;TZID=America/New_York:20200423T130000
DTSTAMP:20260424T150847
CREATED:20200403T225848Z
LAST-MODIFIED:20200403T225848Z
UID:10002178-1587641400-1587646800@marylandwbc.org
SUMMARY:Free Webinar: Introduction to Entrepreneurship and Orientation to MWBC
DESCRIPTION:[su_button url=”https://mdwbc.ecenterdirect.com/events/787650″ background=”#ef2d3b” size=”12″ center=”yes”]CLICK HERE TO REGISTER![/su_button] \n  \n  \nBecoming a successful entrepreneur requires hard work and thorough planning. During this workshop we will: \n\nExamine the characteristics of successful entrepreneurs.\nClarify some of the myths and realities of small business ownership.\nStart a self-assessment to determine your readiness to become a small business owner.\nSet a plan of action to complete your self-assessments by seeking feedback from stakeholders\, such as family\, friends\, and potential customers.\nDescribe the services provided by the Maryland Women’s Business Center and other local resources that can aid you in starting and growing your business.\n\nIf you are just starting your entrepreneurial journey\, we recommend that you take this workshop first. \nIntended Audience: Pre-venture \nIntroduction to Entrepreneurship and MWBC is the first workshop in our “Plan and Start Your Business” series. It is recommended that you take workshops in the following order:\n1. Introduction to Entrepreneurship and MWBC\n2. Steps to Start Your Business\n3. Develop Your Business Plan\n4. Market Your Business on a Budget \n  \nNote Our Policies: Register early to guarantee a seat. Women and men are invited to attend our training workshops. You will receive a link to the Zoom meeting upon registration. If this is your first time using Zoom\, we recommend that you log on a few minutes early as you may need to install the Zoom app.
URL:https://marylandwbc.org/workshops-and-seminars/free-webinar-introduction-to-entrepreneurship-and-orientation-to-mwbc/
CATEGORIES:Starting a Business,Webinar,Workshop
END:VEVENT
BEGIN:VEVENT
DTSTART;TZID=America/New_York:20200429T090000
DTEND;TZID=America/New_York:20200429T103000
DTSTAMP:20260424T150847
CREATED:20200424T221800Z
LAST-MODIFIED:20200424T221800Z
UID:10002188-1588150800-1588156200@marylandwbc.org
SUMMARY:Free Webinar: COVID-19 Resources for Sole Proprietors\, Independent Contractors and Freelancers
DESCRIPTION:[su_button url=”https://mdwbc.ecenterdirect.com/events/787663″ background=”#ef2d3b” size=”12″ center=”yes”]CLICK HERE TO REGISTER![/su_button] \n  \n\nAre you a sole proprietor\, independent contractor\, freelancer or gig-worker wondering what resources are available to help your business impacted by COVID-19? Join the Maryland Women’s Business Center and the Maryland Small Business Development Center as we co-host a webinar on April 29 to address your pressing questions on resources available at the federal\, state\, and county levels. \nPresenters include representatives from the: \n\nU.S. Small Business Administration\nMaryland Department of Labor\, Division of Unemployment Insurance\nMaryland Women’s Business Center\nSmall Business Development Center\, Corridor Region\n\nYou must register for this event. Upon registration\, you will receive additional instructions on accessing the WebEx webinar. \nPlease note\, women and men are invited to attend this webinar.  \n\nWe encourage you to submit your pressing questions in advance of the workshop so that the speakers can customize their presentations. To submit your questions\, click HERE.
URL:https://marylandwbc.org/workshops-and-seminars/free-webinar-covid-19-resources-for-sole-proprietors-independent-contractors-and-freelancers/
CATEGORIES:Funding,Webinar,Workshop
END:VEVENT
BEGIN:VEVENT
DTSTART;TZID=America/New_York:20200429T190000
DTEND;TZID=America/New_York:20200429T210000
DTSTAMP:20260424T150847
CREATED:20200129T230903Z
LAST-MODIFIED:20200129T230903Z
UID:10001801-1588186800-1588194000@marylandwbc.org
SUMMARY:Webinar: Steps to Start Your Business (Evening Workshop)
DESCRIPTION:[su_button url=”https://mdwbc.ecenterdirect.com/events/787634″ background=”#ef2d3b” size=”12″ center=”yes”]CLICK HERE TO REGISTER![/su_button] \n  \nDiscover what it really takes to start your own business. This newly re-designed workshop walks you through the steps you need to take to get your startup up and running. Topics addressed include: \n\nWriting a business plan\nFunding your business\nLegal considerations\nRegistering your business in Maryland\nObtaining your federal tax ID\nForming a B.A.I.L. team\nManaging risk\nMarketing your business\n\nIntended Audience: Pre-Venture \nSteps to Start Your Business is the second workshop in our “Plan and Start Your Business” series. It is recommended that you take workshops in the following order: \n\nIntroduction to Entrepreneurship and MWBC\nSteps to Start Your Business\nDevelop Your Business Plan\nMarket Your Business on a Budget\n\nPre-registration is required. You will receive a link to the Zoom meeting upon registration. If this is your first time using Zoom\, we recommend that you log on a few minutes early as you may need to install the Zoom app. \nNote: MWBC recognizes that many individuals and businesses are experiencing financial hardships right now. If the cost of this workshop is a deterrent to your attendance\, please contact us to discuss scholarship opportunities. 
URL:https://marylandwbc.org/workshops-and-seminars/steps-to-start-your-business-evening-workshop-montgomery-county-2/
CATEGORIES:Core,Legal Issues,Marketing,Starting a Business,Webinar,Workshop
END:VEVENT
END:VCALENDAR