BEGIN:VCALENDAR
VERSION:2.0
PRODID:-//Maryland Women&#039;s Business Center - ECPv6.15.11//NONSGML v1.0//EN
CALSCALE:GREGORIAN
METHOD:PUBLISH
X-WR-CALNAME:Maryland Women&#039;s Business Center
X-ORIGINAL-URL:https://marylandwbc.org
X-WR-CALDESC:Events for Maryland Women&#039;s Business Center
REFRESH-INTERVAL;VALUE=DURATION:PT1H
X-Robots-Tag:noindex
X-PUBLISHED-TTL:PT1H
BEGIN:VTIMEZONE
TZID:America/New_York
BEGIN:DAYLIGHT
TZOFFSETFROM:-0500
TZOFFSETTO:-0400
TZNAME:EDT
DTSTART:20220313T070000
END:DAYLIGHT
BEGIN:STANDARD
TZOFFSETFROM:-0400
TZOFFSETTO:-0500
TZNAME:EST
DTSTART:20221106T060000
END:STANDARD
BEGIN:DAYLIGHT
TZOFFSETFROM:-0500
TZOFFSETTO:-0400
TZNAME:EDT
DTSTART:20230312T070000
END:DAYLIGHT
BEGIN:STANDARD
TZOFFSETFROM:-0400
TZOFFSETTO:-0500
TZNAME:EST
DTSTART:20231105T060000
END:STANDARD
BEGIN:DAYLIGHT
TZOFFSETFROM:-0500
TZOFFSETTO:-0400
TZNAME:EDT
DTSTART:20240310T070000
END:DAYLIGHT
BEGIN:STANDARD
TZOFFSETFROM:-0400
TZOFFSETTO:-0500
TZNAME:EST
DTSTART:20241103T060000
END:STANDARD
END:VTIMEZONE
BEGIN:VEVENT
DTSTART;TZID=America/New_York:20231007T180000
DTEND;TZID=America/New_York:20231007T200000
DTSTAMP:20260421T212811
CREATED:20231005T202416Z
LAST-MODIFIED:20231005T202428Z
UID:10002431-1696701600-1696708800@marylandwbc.org
SUMMARY:MWBC Shop Local: Decorated Candle Making and Cocktails Workshop
DESCRIPTION:BUY TICKETS\n\nImmerse yourself in an evening of candle making and craft cocktails! This exceptional event brings together the art of crafting decorated candles with the pleasure of savoring handcrafted cocktails. \nWorkshop Highlights: \nDecorated Candle Crafting: Embark on a journey of creativity as you craft your very own beautiful and unique candles. Select from an assortment of fragrant botanicals and crystals to create a one-of-a-kind candle. \nExpert Guidance: Our experienced candle-making instructors will provide step-by-step guidance and share tips for selecting the perfect combination of botanicals to infuse your candle with. \nSocializing: Connect with fellow participants in a relaxed and friendly atmosphere. Share your candle-making experiences\, learn about the world of botanicals\, and savor delightful cocktails. \nTake-Home Treasures: After the workshop\, take home your handcrafted decorated candle and a cocktail recipe to continue the sensory journey at home. \nWhat to Bring: \n\nA passion for creativity and nature\nYour favorite botanical or fragrance inspirations\nA curious palate to explore new cocktail flavors\nComfortable clothing suitable for crafting and mingling\n\nRegistration: \nSpaces for this unique workshop are limited\, so secure your spot early to embark on this aromatic journey! \nAttire: \nCasual and comfortable attire is recommended for this sensory-filled evening. \nWho Can Attend: \nThis workshop is open to participants of all experience levels\, whether you’re a seasoned candle enthusiast or simply looking for a unique night out. You must be of legal drinking age (21+) to participate in the cocktail portion of the workshop. \n  \nJoin us for an enchanting evening of creativity\, relaxation\, and cocktails. Discover the art of crafting decorated candles while sipping on carefully curated cocktails at our Decorated Candle Workshop. Reserve your spot today for a night of candle making magic! \nThe workshop is approximately 2 hrs. Your candle might need additional time to fully set before you can take it home. You can pick it up anytime at the store during our store hours.
URL:https://marylandwbc.org/workshops-and-seminars/shoplocal-candlecocktails/
LOCATION:MWBC Shop Local – Rockville Town Square\, 36 D Maryland Ave\, Rockville\, 20850
CATEGORIES:Workshop
END:VEVENT
BEGIN:VEVENT
DTSTART;TZID=America/New_York:20231020T180000
DTEND;TZID=America/New_York:20231020T200000
DTSTAMP:20260421T212811
CREATED:20231005T202704Z
LAST-MODIFIED:20231005T202704Z
UID:10002432-1697824800-1697832000@marylandwbc.org
SUMMARY:MWBC Shop Local: Skin Care and Cocktails Workshop
DESCRIPTION:BUY TICKETS\n\nIndulge in an evening of self-care and relaxation at our Skin Care and Cocktails Workshop! This exclusive event combines the art of pampering yourself with luxurious face masks and enjoying expertly crafted cocktails. \nWorkshop Highlights: \n\nCosmetic Face Mask Making: Treat your skin to the ultimate spa experience by creating your own luxurious cosmetic face mask. Choose from an array of natural and nourishing ingredients to tailor your mask to your skin’s specific needs.\nExpert Guidance: Our skilled beauty instructors will guide you through the process\, offering insights into skincare benefits and personalized recommendations.\nSocializing: Connect with fellow participants in a relaxed and friendly atmosphere\, sharing beauty and skincare tips while sipping on delightful cocktails.\nTake-Home Spa Kit: After the workshop\, take home 2 custom-made face masks and a cocktail recipe to continue the indulgence at home.\n\nWhat to Bring: \n\nA desire to relax and rejuvenate\nYour favorite skincare tips and tricks to share\nAn open mind to explore new cocktail flavors\nComfortable clothing for a relaxing evening\n\nRegistration: \nSpaces for this exclusive workshop are limited\, so reserve your spot early to pamper yourself!  \nAttire: \nCasual and comfortable attire is recommended for this evening of self-indulgence. \nWho Can Attend: \nThis workshop is open to participants of all skincare knowledge levels\, whether you’re a skincare enthusiast or new to the world of cosmetics. You must be of legal drinking age (21+) to participate in the cocktail portion of the workshop. \nJoin us for an unforgettable night of beauty\, relaxation\, and exquisite cocktails. Discover the secrets of radiant skin and enjoy a perfect blend of self-care and libations at our Cosmetic Face Mask and Cocktails Workshop. Reserve your spot today! \nHosted by Raw Blossom
URL:https://marylandwbc.org/workshops-and-seminars/shoplocal-skincare/
LOCATION:MWBC Shop Local – Rockville Town Square\, 36 D Maryland Ave\, Rockville\, 20850
CATEGORIES:Workshop
END:VEVENT
BEGIN:VEVENT
DTSTART;TZID=America/New_York:20231028T150000
DTEND;TZID=America/New_York:20231028T160000
DTSTAMP:20260421T212811
CREATED:20231025T145256Z
LAST-MODIFIED:20231025T145606Z
UID:10002438-1698505200-1698508800@marylandwbc.org
SUMMARY:MWBC Shop Local: Fused Glass Workshop
DESCRIPTION:Explore and enhance your fused glass-making skills in our hands-on workshop guided by an expert instructor. All materials\, tools\, and firings will be supplied. \nKids ages 6 and up are welcome! \nHosted by Linda Slayen.
URL:https://marylandwbc.org/workshops-and-seminars/shoplocal-glass/
LOCATION:MWBC Shop Local – Rockville Town Square\, 36 D Maryland Ave\, Rockville\, 20850
CATEGORIES:Montgomery County,Networking,Workshop
END:VEVENT
END:VCALENDAR