BEGIN:VCALENDAR
VERSION:2.0
PRODID:-//Maryland Women&#039;s Business Center - ECPv6.15.11//NONSGML v1.0//EN
CALSCALE:GREGORIAN
METHOD:PUBLISH
X-ORIGINAL-URL:https://marylandwbc.org
X-WR-CALDESC:Events for Maryland Women&#039;s Business Center
REFRESH-INTERVAL;VALUE=DURATION:PT1H
X-Robots-Tag:noindex
X-PUBLISHED-TTL:PT1H
BEGIN:VTIMEZONE
TZID:America/New_York
BEGIN:DAYLIGHT
TZOFFSETFROM:-0500
TZOFFSETTO:-0400
TZNAME:EDT
DTSTART:20170312T070000
END:DAYLIGHT
BEGIN:STANDARD
TZOFFSETFROM:-0400
TZOFFSETTO:-0500
TZNAME:EST
DTSTART:20171105T060000
END:STANDARD
BEGIN:DAYLIGHT
TZOFFSETFROM:-0500
TZOFFSETTO:-0400
TZNAME:EDT
DTSTART:20180311T070000
END:DAYLIGHT
BEGIN:STANDARD
TZOFFSETFROM:-0400
TZOFFSETTO:-0500
TZNAME:EST
DTSTART:20181104T060000
END:STANDARD
BEGIN:DAYLIGHT
TZOFFSETFROM:-0500
TZOFFSETTO:-0400
TZNAME:EDT
DTSTART:20190310T070000
END:DAYLIGHT
BEGIN:STANDARD
TZOFFSETFROM:-0400
TZOFFSETTO:-0500
TZNAME:EST
DTSTART:20191103T060000
END:STANDARD
END:VTIMEZONE
BEGIN:VEVENT
DTSTART;TZID=America/New_York:20181206T093000
DTEND;TZID=America/New_York:20181206T123000
DTSTAMP:20260425T182437
CREATED:20181116T044143Z
LAST-MODIFIED:20181116T044143Z
UID:10002041-1544088600-1544099400@marylandwbc.org
SUMMARY:Group Business Counseling - Prince George's County
DESCRIPTION:[su_button url=”https://mdwbc.ecenterdirect.com/events/787389″ background=”#ef2d3b” size=”12″ center=”yes”]CLICK HERE TO REGISTER![/su_button] \n  \nJoin other female entrepreneurs in a facilitated discussion led by a MWBC counselor where participants seek and share advice\, feedback\, and resources to elevate your business to the next level! Explore topics such as starting a business\, developing key marketing strategies and efficiently managing your financials. Limited clients per session. Your business must be in Prince George’s County in order to attend. This session is free. \n*Target audience: Pre-Venture\, Start-Up\, Growth \n  \nNote Our Policies: No refunds issued for workshops not attended. Walk-ins are not permitted in our Prince George’s county office. You must register through the link above to reserve your seat. \nInclement Weather: MWBC Prince George’s County follows Bowie State University School closings. Delays are assessed on a case-by-case basis and a final decision will be communicated to attendees no later than 2 hours in advance of the course. \n  \nThe Prince George’s County branch of the Maryland Women’s Business Center is located at Bowie State University – 14000 Jericho Park Road\, Bowie\, MD 20715. We are on the 2nd floor of the Center for Business & Graduate Studies in the Bowie Business Innovation Center (Bowie BIC): room 2312. Take the elevator to the 2nd floor. Turn right off the elevator. We are a separate entity from the University. Our office phone number is 301-383-1550 ext. 104. Parking is limited\, so allot plenty of time!
URL:https://marylandwbc.org/workshops-and-seminars/group-business-counseling-prince-georges-county/
CATEGORIES:Prince George's County,Workshop
END:VEVENT
BEGIN:VEVENT
DTSTART;TZID=America/New_York:20181206T100000
DTEND;TZID=America/New_York:20181206T130000
DTSTAMP:20260425T182437
CREATED:20181116T051508Z
LAST-MODIFIED:20181116T051508Z
UID:10002042-1544090400-1544101200@marylandwbc.org
SUMMARY:Writing a Successful Business Plan - Montgomery County
DESCRIPTION:[su_button url=”https://mdwbc.ecenterdirect.com/events/787390″ background=”#ef2d3b” size=”12″ center=”yes”]CLICK HERE TO REGISTER![/su_button] \n  \nA business plan is a road map to steer your business in the right direction and an essential component of success. It is also the key to securing funding from banks and investors. Writing your business plan requires a holistic analysis of your business\, which we will detail in this course. Topics include: \n\nBusiness mission\, vision and values\nMarket/competitive analysis\nMarketing goals\nBusiness operations and organizational structure\nFinancial analysis and sales projections\nSmall business accounting and compliance\n\n*Intended Audience: Pre-Venture\, Start-Up \n  \nNote Our Policies: No refunds issued for workshops not attended. Walk-ins are accepted in our Montgomery county location (credit cards payment only). You must register through the link above to reserve your seat. \nInclement Weather: MWBC Montgomery County follows Rockville City government closings. Delays are assessed on a case-by-case basis and a final decision will be communicated to attendees no later than 2 hours in advance of the course.
URL:https://marylandwbc.org/workshops-and-seminars/writing-a-successful-business-plan-montgomery-county-29/
CATEGORIES:Developing a Business Plan,Montgomery County,Workshop
END:VEVENT
END:VCALENDAR