BEGIN:VCALENDAR
VERSION:2.0
PRODID:-//Maryland Women&#039;s Business Center - ECPv6.15.11//NONSGML v1.0//EN
CALSCALE:GREGORIAN
METHOD:PUBLISH
X-WR-CALNAME:Maryland Women&#039;s Business Center
X-ORIGINAL-URL:https://marylandwbc.org
X-WR-CALDESC:Events for Maryland Women&#039;s Business Center
REFRESH-INTERVAL;VALUE=DURATION:PT1H
X-Robots-Tag:noindex
X-PUBLISHED-TTL:PT1H
BEGIN:VTIMEZONE
TZID:America/New_York
BEGIN:DAYLIGHT
TZOFFSETFROM:-0500
TZOFFSETTO:-0400
TZNAME:EDT
DTSTART:20180311T070000
END:DAYLIGHT
BEGIN:STANDARD
TZOFFSETFROM:-0400
TZOFFSETTO:-0500
TZNAME:EST
DTSTART:20181104T060000
END:STANDARD
BEGIN:DAYLIGHT
TZOFFSETFROM:-0500
TZOFFSETTO:-0400
TZNAME:EDT
DTSTART:20190310T070000
END:DAYLIGHT
BEGIN:STANDARD
TZOFFSETFROM:-0400
TZOFFSETTO:-0500
TZNAME:EST
DTSTART:20191103T060000
END:STANDARD
BEGIN:DAYLIGHT
TZOFFSETFROM:-0500
TZOFFSETTO:-0400
TZNAME:EDT
DTSTART:20200308T070000
END:DAYLIGHT
BEGIN:STANDARD
TZOFFSETFROM:-0400
TZOFFSETTO:-0500
TZNAME:EST
DTSTART:20201101T060000
END:STANDARD
END:VTIMEZONE
BEGIN:VEVENT
DTSTART;TZID=America/New_York:20190305T093000
DTEND;TZID=America/New_York:20190305T123000
DTSTAMP:20260425T135519
CREATED:20190212T204452Z
LAST-MODIFIED:20190212T204452Z
UID:10001683-1551778200-1551789000@marylandwbc.org
SUMMARY:Writing a Successful Business Plan - Prince George's County
DESCRIPTION:[su_button url=”https://mdwbc.ecenterdirect.com/events/787444″ background=”#ef2d3b” size=”12″ center=”yes”]CLICK HERE TO REGISTER![/su_button] \n  \nWriting a Successful Business Plan  \nA business plan is a road map to steer your business in the right direction and an essential component of success. It is also the key to securing funding from banks and investors. Writing your business plan requires a holistic analysis of your business\, which we will detail in this course. Topics include: \n\nBusiness mission\, vision and values\nMarket/competitive analysis\nMarketing goals\nBusiness operations and organizational structure\nFinancial analysis and sales projections\nSmall business accounting and compliance\n\n*Intended Audience: pre-venture\, startup \n  \nNote Our Policies: This workshop will take place at Bowie City Hall. Walk-ins are not permitted. No registrations allowed after 12 noon on the day prior to the workshop. No refunds issued for workshops not attended. You must register to reserve your seat. \nInclement Weather: MWBC Prince George’s County follows Bowie State University School delays and closings.
URL:https://marylandwbc.org/workshops-and-seminars/writing-a-successful-business-plan-prince-georges-county-30/
CATEGORIES:Accounting/Budget,Developing a Business Plan,Marketing,Prince George's County,Starting a Business,Workshop
END:VEVENT
BEGIN:VEVENT
DTSTART;TZID=America/New_York:20190305T130000
DTEND;TZID=America/New_York:20190305T160000
DTSTAMP:20260425T135519
CREATED:20190226T232023Z
LAST-MODIFIED:20190226T232023Z
UID:10002075-1551790800-1551801600@marylandwbc.org
SUMMARY:Group Business Counseling: New Business - Frederick County
DESCRIPTION:[su_button url=”https://mdwbc.ecenterdirect.com/events/787456″ background=”#ef2d3b” size=”12″ center=”yes”]CLICK HERE TO REGISTER![/su_button] \n  \nJoin other new female entrepreneurs in a facilitated discussion led by a MWBC counselor where participants share advice\, feedback and resources to help get your business off the ground! Come prepared to discuss your business ideas and startup challenges while sharing lessons that you’ve learned along the way. This session is free. \n*Intended audience: Pre-Venture\, Startup \n  \nNote Our Policies: No refunds issued for workshops not attended. Walk-ins are not permitted in our Frederick county office. You must register to reserve your seat. MWBC Frederick County follows Frederick County government delays and closings.
URL:https://marylandwbc.org/workshops-and-seminars/group-business-counseling-new-business-frederick-county-3/
LOCATION:our-mission
CATEGORIES:Business Development Strategies,Frederick County,Starting a Business,Workshop
END:VEVENT
END:VCALENDAR