BEGIN:VCALENDAR
VERSION:2.0
PRODID:-//Maryland Women&#039;s Business Center - ECPv6.15.11//NONSGML v1.0//EN
CALSCALE:GREGORIAN
METHOD:PUBLISH
X-ORIGINAL-URL:https://marylandwbc.org
X-WR-CALDESC:Events for Maryland Women&#039;s Business Center
REFRESH-INTERVAL;VALUE=DURATION:PT1H
X-Robots-Tag:noindex
X-PUBLISHED-TTL:PT1H
BEGIN:VTIMEZONE
TZID:America/New_York
BEGIN:DAYLIGHT
TZOFFSETFROM:-0500
TZOFFSETTO:-0400
TZNAME:EDT
DTSTART:20180311T070000
END:DAYLIGHT
BEGIN:STANDARD
TZOFFSETFROM:-0400
TZOFFSETTO:-0500
TZNAME:EST
DTSTART:20181104T060000
END:STANDARD
BEGIN:DAYLIGHT
TZOFFSETFROM:-0500
TZOFFSETTO:-0400
TZNAME:EDT
DTSTART:20190310T070000
END:DAYLIGHT
BEGIN:STANDARD
TZOFFSETFROM:-0400
TZOFFSETTO:-0500
TZNAME:EST
DTSTART:20191103T060000
END:STANDARD
BEGIN:DAYLIGHT
TZOFFSETFROM:-0500
TZOFFSETTO:-0400
TZNAME:EDT
DTSTART:20200308T070000
END:DAYLIGHT
BEGIN:STANDARD
TZOFFSETFROM:-0400
TZOFFSETTO:-0500
TZNAME:EST
DTSTART:20201101T060000
END:STANDARD
END:VTIMEZONE
BEGIN:VEVENT
DTSTART;TZID=America/New_York:20190402T093000
DTEND;TZID=America/New_York:20190402T103000
DTSTAMP:20260425T124158
CREATED:20190311T133405Z
LAST-MODIFIED:20190311T133405Z
UID:10002084-1554197400-1554201000@marylandwbc.org
SUMMARY:Orientation to MD Women's Business Center & Supporting Resources - Prince George's County
DESCRIPTION:[su_button url=”https://mdwbc.ecenterdirect.com/events/787460″ background=”#ef2d3b” size=”12″ center=”yes”]CLICK HERE TO REGISTER![/su_button] \n  \nDiscover how the Maryland Women’s Business Center can support you through business startup and growth. During this orientation\, you will learn about the services and resources we provide to entrepreneurs throughout the state and how we can help YOU grow your business! \n*Intended Audience: Pre-Venture\, Startup\, Growth\, anyone new to the Maryland Women’s Business Center! \n  \nNote Our Policies: No refunds issued for workshops not attended. Walk-ins are not permitted in our Prince George’s county office. You must register to reserve your seat.
URL:https://marylandwbc.org/workshops-and-seminars/orientation-to-md-womens-business-center-supporting-resources-prince-georges-county-5/
LOCATION:About Us
CATEGORIES:Orientation,Prince George's County,Workshop
END:VEVENT
BEGIN:VEVENT
DTSTART;TZID=America/New_York:20190402T130000
DTEND;TZID=America/New_York:20190402T160000
DTSTAMP:20260425T124158
CREATED:20190311T132958Z
LAST-MODIFIED:20190311T132958Z
UID:10002083-1554210000-1554220800@marylandwbc.org
SUMMARY:Group Business Counseling: New Business - Frederick County
DESCRIPTION:[su_button url=”https://mdwbc.ecenterdirect.com/events/787463″ background=”#ef2d3b” size=”12″ center=”yes”]CLICK HERE TO REGISTER![/su_button] \n  \nJoin other new female entrepreneurs in a facilitated discussion led by a MWBC counselor where participants share advice\, feedback and resources to help get your business off the ground! Come prepared to discuss your business ideas and startup challenges while sharing lessons that you’ve learned along the way. This session is free. \n*Intended audience: Pre-Venture\, Startup \n  \nNote Our Policies: No refunds issued for workshops not attended. Walk-ins are not permitted in our Frederick county office. You must register to reserve your seat.
URL:https://marylandwbc.org/workshops-and-seminars/group-business-counseling-new-business-frederick-county-4/
LOCATION:our-mission
CATEGORIES:Business Development Strategies,Frederick County,Starting a Business,Workshop
END:VEVENT
END:VCALENDAR