BEGIN:VCALENDAR
VERSION:2.0
PRODID:-//Maryland Women&#039;s Business Center - ECPv6.15.11//NONSGML v1.0//EN
CALSCALE:GREGORIAN
METHOD:PUBLISH
X-ORIGINAL-URL:https://marylandwbc.org
X-WR-CALDESC:Events for Maryland Women&#039;s Business Center
REFRESH-INTERVAL;VALUE=DURATION:PT1H
X-Robots-Tag:noindex
X-PUBLISHED-TTL:PT1H
BEGIN:VTIMEZONE
TZID:America/New_York
BEGIN:DAYLIGHT
TZOFFSETFROM:-0500
TZOFFSETTO:-0400
TZNAME:EDT
DTSTART:20180311T070000
END:DAYLIGHT
BEGIN:STANDARD
TZOFFSETFROM:-0400
TZOFFSETTO:-0500
TZNAME:EST
DTSTART:20181104T060000
END:STANDARD
BEGIN:DAYLIGHT
TZOFFSETFROM:-0500
TZOFFSETTO:-0400
TZNAME:EDT
DTSTART:20190310T070000
END:DAYLIGHT
BEGIN:STANDARD
TZOFFSETFROM:-0400
TZOFFSETTO:-0500
TZNAME:EST
DTSTART:20191103T060000
END:STANDARD
BEGIN:DAYLIGHT
TZOFFSETFROM:-0500
TZOFFSETTO:-0400
TZNAME:EDT
DTSTART:20200308T070000
END:DAYLIGHT
BEGIN:STANDARD
TZOFFSETFROM:-0400
TZOFFSETTO:-0500
TZNAME:EST
DTSTART:20201101T060000
END:STANDARD
END:VTIMEZONE
BEGIN:VEVENT
DTSTART;TZID=America/New_York:20190409T093000
DTEND;TZID=America/New_York:20190409T113000
DTSTAMP:20260425T124201
CREATED:20190311T134728Z
LAST-MODIFIED:20190311T134728Z
UID:10002086-1554802200-1554809400@marylandwbc.org
SUMMARY:You the Brand - Prince George's County
DESCRIPTION:[su_button url=”https://mdwbc.ecenterdirect.com/events/787466″ background=”#ef2d3b” size=”12″ center=”yes”]CLICK HERE TO REGISTER![/su_button] \n  \nEveryone is a “Brand” – a message that has been created\, consciously or unconsciously\, and is the brand called “You.” This workshop will focus on your value proposition\, your visibility and relevance\, your power and equity within your industry and your future brand strategy. You will understand how to think holistically and strategically about what is projected about yourself\, and your business. \n*Intended Audience: Pre-Venture\, Startup\, Growth \n  \nAbout Our Speaker: Abigail Pennington is an accomplished entrepreneur and workshop facilitator who has been impacting the DMV small business community for many years. With a passion for small business growth and education\, and extensive experience from the non-profit field as a business plan trainer and communications instructor\, she brings over 10 years of training\, administrative\, and HR support to the business arena. Her company\, Message Believers Business Support\, LLC assists small businesses and startups achieve clarity of vision and purpose to accelerate more strategic and focused growth\, and offerings include: coaching\, virtual administrative services\, workshops\, and more. \n  \nNote Our Policies: No refunds issued for workshops not attended. Walk-ins are not permitted in our Prince George’s county office. You must register at www.marylandwbc.org/events so that we can save a place for you in the workshop.
URL:https://marylandwbc.org/workshops-and-seminars/you-the-brand-prince-georges-county/
LOCATION:About Us
CATEGORIES:Marketing,Prince George's County,Sales,Workshop
END:VEVENT
BEGIN:VEVENT
DTSTART;TZID=America/New_York:20190409T100000
DTEND;TZID=America/New_York:20190409T120000
DTSTAMP:20260425T124201
CREATED:20190308T062307Z
LAST-MODIFIED:20190308T062307Z
UID:10002081-1554804000-1554811200@marylandwbc.org
SUMMARY:State Certification: Benefits of Becoming a Certified Minority Business Enterprise (MBE) through the State of Maryland - Montgomery County
DESCRIPTION:[su_button url=”https://mdwbc.ecenterdirect.com/events/787464″ background=”#ef2d3b” size=”12″ center=”yes”]CLICK HERE TO REGISTER![/su_button] \n  \n\nHave you considered becoming certified women-owned business but don’t know where to start?\nAre you looking for opportunities to pursue business deals with hundreds of state and local government entities?\nDo you want to know more about the criteria to become a recognized minority business owner in the state of Maryland?\n\nJoin us for a presentation and discussion with the Maryland Department of Transportation’s (MDOT) Office of Minority Business Enterprise (OMBE) and Montgomery County Office of Procurement. \nA representative from MDOT will address the benefits and process to apply for Minority Business Enterprise (MBE) certification\, specifically: \n\nThe five eligibility standards\nThe complete application process\nThe most common application questions​\nHow to connect to business opportunities with the State of Maryland\nMarketing and business development tips when working with the State of Maryland\n\nA representative from the Montgomery County Office of Procurement will explain how the MDOT MBE certification flows into the County’s Minority\, Female and Disabled-Owned Business (MFD) Program. Also addressed will be how vendors can gain access to preference programs and the benefits of this access. \n  \nNote Our Policies: No refunds issued for workshops not attended. Walk-ins are accepted in our Montgomery county location (credit card payment only). You must register to reserve your seat.
URL:https://marylandwbc.org/workshops-and-seminars/state-certification-benefits-of-becoming-a-certified-minority-business-enterprise-mbe-through-the-state-of-maryland-montgomery-county-2/
CATEGORIES:Montgomery County,Procurement/Government Contracting,Woman-Owned and Minority Certifications,Workshop
END:VEVENT
END:VCALENDAR