BEGIN:VCALENDAR
VERSION:2.0
PRODID:-//Maryland Women&#039;s Business Center - ECPv6.15.11//NONSGML v1.0//EN
CALSCALE:GREGORIAN
METHOD:PUBLISH
X-ORIGINAL-URL:https://marylandwbc.org
X-WR-CALDESC:Events for Maryland Women&#039;s Business Center
REFRESH-INTERVAL;VALUE=DURATION:PT1H
X-Robots-Tag:noindex
X-PUBLISHED-TTL:PT1H
BEGIN:VTIMEZONE
TZID:America/New_York
BEGIN:DAYLIGHT
TZOFFSETFROM:-0500
TZOFFSETTO:-0400
TZNAME:EDT
DTSTART:20180311T070000
END:DAYLIGHT
BEGIN:STANDARD
TZOFFSETFROM:-0400
TZOFFSETTO:-0500
TZNAME:EST
DTSTART:20181104T060000
END:STANDARD
BEGIN:DAYLIGHT
TZOFFSETFROM:-0500
TZOFFSETTO:-0400
TZNAME:EDT
DTSTART:20190310T070000
END:DAYLIGHT
BEGIN:STANDARD
TZOFFSETFROM:-0400
TZOFFSETTO:-0500
TZNAME:EST
DTSTART:20191103T060000
END:STANDARD
BEGIN:DAYLIGHT
TZOFFSETFROM:-0500
TZOFFSETTO:-0400
TZNAME:EDT
DTSTART:20200308T070000
END:DAYLIGHT
BEGIN:STANDARD
TZOFFSETFROM:-0400
TZOFFSETTO:-0500
TZNAME:EST
DTSTART:20201101T060000
END:STANDARD
END:VTIMEZONE
BEGIN:VEVENT
DTSTART;TZID=America/New_York:20190801T093000
DTEND;TZID=America/New_York:20190801T113000
DTSTAMP:20260425T063400
CREATED:20190703T045540Z
LAST-MODIFIED:20190703T045540Z
UID:10002120-1564651800-1564659000@marylandwbc.org
SUMMARY:What's Next? - Prince George's County
DESCRIPTION:[su_button url=”https://mdwbc.ecenterdirect.com/events/787533″ background=”#ef2d3b” size=”12″ center=”yes”]CLICK HERE TO REGISTER![/su_button] \n  \nEveryone gets stuck. We all have problems to solve\, energy slumps\, roadblocks\, and self-sabotaging tendencies. It’s all a part of life but looks very different when you work for\, and by yourself. \nThis workshop will help participants take a step back to analyze habits\, review the basics\, and revise or re-create a plan to get moving forward again\, and smoothly transition to the next level. Some of the areas we will focus on are: Reasons\, Relationships\, Real-Time Mastery\, Services\, Scheduling\, Mindset\, Motivation\, etc. \n*Intended Audience: Start-up\, Growth \n  \nNote Our Policies: Refunds or comps are available for workshops cancelled by MWBC. All other refunds are not provided. MWBC only accepts credit card payments for training sessions. Attendees will not be permitted to enter the classroom until payment is received. Walks-in registrations are accepted only at the Montgomery County location. Register early to guarantee a seat. Woman and men are invited to attend our workshops.
URL:https://marylandwbc.org/workshops-and-seminars/understanding-your-financial-documents-prince-georges-county-4/
LOCATION:About Us
CATEGORIES:Customer Relationships,Human Resources,Prince George's County,Workshop
END:VEVENT
END:VCALENDAR