BEGIN:VCALENDAR
VERSION:2.0
PRODID:-//Maryland Women&#039;s Business Center - ECPv6.15.11//NONSGML v1.0//EN
CALSCALE:GREGORIAN
METHOD:PUBLISH
X-WR-CALNAME:Maryland Women&#039;s Business Center
X-ORIGINAL-URL:https://marylandwbc.org
X-WR-CALDESC:Events for Maryland Women&#039;s Business Center
REFRESH-INTERVAL;VALUE=DURATION:PT1H
X-Robots-Tag:noindex
X-PUBLISHED-TTL:PT1H
BEGIN:VTIMEZONE
TZID:America/New_York
BEGIN:DAYLIGHT
TZOFFSETFROM:-0500
TZOFFSETTO:-0400
TZNAME:EDT
DTSTART:20220313T070000
END:DAYLIGHT
BEGIN:STANDARD
TZOFFSETFROM:-0400
TZOFFSETTO:-0500
TZNAME:EST
DTSTART:20221106T060000
END:STANDARD
BEGIN:DAYLIGHT
TZOFFSETFROM:-0500
TZOFFSETTO:-0400
TZNAME:EDT
DTSTART:20230312T070000
END:DAYLIGHT
BEGIN:STANDARD
TZOFFSETFROM:-0400
TZOFFSETTO:-0500
TZNAME:EST
DTSTART:20231105T060000
END:STANDARD
BEGIN:DAYLIGHT
TZOFFSETFROM:-0500
TZOFFSETTO:-0400
TZNAME:EDT
DTSTART:20240310T070000
END:DAYLIGHT
BEGIN:STANDARD
TZOFFSETFROM:-0400
TZOFFSETTO:-0500
TZNAME:EST
DTSTART:20241103T060000
END:STANDARD
END:VTIMEZONE
BEGIN:VEVENT
DTSTART;TZID=America/New_York:20231020T180000
DTEND;TZID=America/New_York:20231020T200000
DTSTAMP:20260421T230236
CREATED:20231005T202704Z
LAST-MODIFIED:20231005T202704Z
UID:10002432-1697824800-1697832000@marylandwbc.org
SUMMARY:MWBC Shop Local: Skin Care and Cocktails Workshop
DESCRIPTION:BUY TICKETS\n\nIndulge in an evening of self-care and relaxation at our Skin Care and Cocktails Workshop! This exclusive event combines the art of pampering yourself with luxurious face masks and enjoying expertly crafted cocktails. \nWorkshop Highlights: \n\nCosmetic Face Mask Making: Treat your skin to the ultimate spa experience by creating your own luxurious cosmetic face mask. Choose from an array of natural and nourishing ingredients to tailor your mask to your skin’s specific needs.\nExpert Guidance: Our skilled beauty instructors will guide you through the process\, offering insights into skincare benefits and personalized recommendations.\nSocializing: Connect with fellow participants in a relaxed and friendly atmosphere\, sharing beauty and skincare tips while sipping on delightful cocktails.\nTake-Home Spa Kit: After the workshop\, take home 2 custom-made face masks and a cocktail recipe to continue the indulgence at home.\n\nWhat to Bring: \n\nA desire to relax and rejuvenate\nYour favorite skincare tips and tricks to share\nAn open mind to explore new cocktail flavors\nComfortable clothing for a relaxing evening\n\nRegistration: \nSpaces for this exclusive workshop are limited\, so reserve your spot early to pamper yourself!  \nAttire: \nCasual and comfortable attire is recommended for this evening of self-indulgence. \nWho Can Attend: \nThis workshop is open to participants of all skincare knowledge levels\, whether you’re a skincare enthusiast or new to the world of cosmetics. You must be of legal drinking age (21+) to participate in the cocktail portion of the workshop. \nJoin us for an unforgettable night of beauty\, relaxation\, and exquisite cocktails. Discover the secrets of radiant skin and enjoy a perfect blend of self-care and libations at our Cosmetic Face Mask and Cocktails Workshop. Reserve your spot today! \nHosted by Raw Blossom
URL:https://marylandwbc.org/workshops-and-seminars/shoplocal-skincare/
LOCATION:MWBC Shop Local – Rockville Town Square\, 36 D Maryland Ave\, Rockville\, 20850
CATEGORIES:Workshop
END:VEVENT
END:VCALENDAR