BEGIN:VCALENDAR
VERSION:2.0
PRODID:-//Maryland Women&#039;s Business Center - ECPv6.15.11//NONSGML v1.0//EN
CALSCALE:GREGORIAN
METHOD:PUBLISH
X-WR-CALNAME:Maryland Women&#039;s Business Center
X-ORIGINAL-URL:https://marylandwbc.org
X-WR-CALDESC:Events for Maryland Women&#039;s Business Center
REFRESH-INTERVAL;VALUE=DURATION:PT1H
X-Robots-Tag:noindex
X-PUBLISHED-TTL:PT1H
BEGIN:VTIMEZONE
TZID:America/New_York
BEGIN:DAYLIGHT
TZOFFSETFROM:-0500
TZOFFSETTO:-0400
TZNAME:EDT
DTSTART:20220313T070000
END:DAYLIGHT
BEGIN:STANDARD
TZOFFSETFROM:-0400
TZOFFSETTO:-0500
TZNAME:EST
DTSTART:20221106T060000
END:STANDARD
BEGIN:DAYLIGHT
TZOFFSETFROM:-0500
TZOFFSETTO:-0400
TZNAME:EDT
DTSTART:20230312T070000
END:DAYLIGHT
BEGIN:STANDARD
TZOFFSETFROM:-0400
TZOFFSETTO:-0500
TZNAME:EST
DTSTART:20231105T060000
END:STANDARD
BEGIN:DAYLIGHT
TZOFFSETFROM:-0500
TZOFFSETTO:-0400
TZNAME:EDT
DTSTART:20240310T070000
END:DAYLIGHT
BEGIN:STANDARD
TZOFFSETFROM:-0400
TZOFFSETTO:-0500
TZNAME:EST
DTSTART:20241103T060000
END:STANDARD
END:VTIMEZONE
BEGIN:VEVENT
DTSTART;TZID=America/New_York:20231130T100000
DTEND;TZID=America/New_York:20231130T113000
DTSTAMP:20260421T213328
CREATED:20231025T193917Z
LAST-MODIFIED:20231025T194326Z
UID:10002439-1701338400-1701343800@marylandwbc.org
SUMMARY:Coffee & Connections Frederick County: Let's Get Creative!
DESCRIPTION:REGISTER\n\nIt’s our last Coffee and Connections of 2023! Let’s get together and have fun by being creative! \nJoin Karen Kalantzis from the MWBC and Tina Harper from Dream Free Art at Delizia Café for a hands-on creative event! Stretching your creative muscles can help you with your business because it teaches you to think differently to solve problems or grow your business. \nTina will be walking us through a Water Marbling project and you’ll get to take home your masterpiece. After a short lesson on the history of marbling in art\, we’ll practice creating marbled paper and then we’ll each marble an ornament using acrylic paint. There is a small materials fee for this event. All art supplies will be provided including a box to shepherd your project home safely. Attendees will also receive a discount coupon to visit Tina’s new and enlarged splatter paint studio in Frederick\, MD. Please come early and order coffee or a bite from the café to support our local business. \n*Example image\nRegister today! A limited number of tickets will be available.
URL:https://marylandwbc.org/workshops-and-seminars/ccfc-nov2023/
LOCATION:Delizia Café\, 14 E Patrick St\, Frederick\, MD\, 21701\, United States
CATEGORIES:Frederick County,Orientation,Workshop
ORGANIZER;CN="Karen Kalantzis%2C Senior Business Consultant%2C MWBC Frederick County":MAILTO:karen@marylandwbc.org
END:VEVENT
END:VCALENDAR