BEGIN:VCALENDAR
VERSION:2.0
PRODID:-//Maryland Women&#039;s Business Center - ECPv6.15.11//NONSGML v1.0//EN
CALSCALE:GREGORIAN
METHOD:PUBLISH
X-WR-CALNAME:Maryland Women&#039;s Business Center
X-ORIGINAL-URL:https://marylandwbc.org
X-WR-CALDESC:Events for Maryland Women&#039;s Business Center
REFRESH-INTERVAL;VALUE=DURATION:PT1H
X-Robots-Tag:noindex
X-PUBLISHED-TTL:PT1H
BEGIN:VTIMEZONE
TZID:America/New_York
BEGIN:DAYLIGHT
TZOFFSETFROM:-0500
TZOFFSETTO:-0400
TZNAME:EDT
DTSTART:20210314T070000
END:DAYLIGHT
BEGIN:STANDARD
TZOFFSETFROM:-0400
TZOFFSETTO:-0500
TZNAME:EST
DTSTART:20211107T060000
END:STANDARD
BEGIN:DAYLIGHT
TZOFFSETFROM:-0500
TZOFFSETTO:-0400
TZNAME:EDT
DTSTART:20220313T070000
END:DAYLIGHT
BEGIN:STANDARD
TZOFFSETFROM:-0400
TZOFFSETTO:-0500
TZNAME:EST
DTSTART:20221106T060000
END:STANDARD
BEGIN:DAYLIGHT
TZOFFSETFROM:-0500
TZOFFSETTO:-0400
TZNAME:EDT
DTSTART:20230312T070000
END:DAYLIGHT
BEGIN:STANDARD
TZOFFSETFROM:-0400
TZOFFSETTO:-0500
TZNAME:EST
DTSTART:20231105T060000
END:STANDARD
END:VTIMEZONE
BEGIN:VTIMEZONE
TZID:UTC
BEGIN:STANDARD
TZOFFSETFROM:+0000
TZOFFSETTO:+0000
TZNAME:UTC
DTSTART:20210101T000000
END:STANDARD
END:VTIMEZONE
BEGIN:VEVENT
DTSTART;TZID=America/New_York:20220111T123000
DTEND;TZID=America/New_York:20220111T133000
DTSTAMP:20260420T150214
CREATED:20220107T195457Z
LAST-MODIFIED:20220107T212604Z
UID:10002281-1641904200-1641907800@marylandwbc.org
SUMMARY:¡Todo lo que necesita saber sobre la aplicación del Child Care Stabilization Grant (2nd Ronda)!
DESCRIPTION:CLICK HERE TO REGISTER!\n\n\n¿Tiene preguntas sobre el Child Care Stabilization Grant? ¡Bueno\, estamos aquí para ayudarle! Martha Jiménez y Nestor Gavidia del Maryland Women’s Business Center responderán a todas sus preguntas e inquietudes sobre la solicitud y los requisitos para el Stabilization Grant (2nd Ronda). ¡¡No espere!! La aplicación cierra el 23 de enero del 2022 a las 6:00 p.m \n\n 
URL:https://marylandwbc.org/workshops-and-seminars/todo-lo-que-necesita-saber-sobre-la-aplicacion-del-child-care-stabilization-grant-2nd-ronda/
LOCATION:MD
CATEGORIES:Child Care,Workshop
END:VEVENT
BEGIN:VEVENT
DTSTART;TZID=America/New_York:20220112T123000
DTEND;TZID=America/New_York:20220112T133000
DTSTAMP:20260420T150214
CREATED:20220107T195754Z
LAST-MODIFIED:20220107T212637Z
UID:10002282-1641990600-1641994200@marylandwbc.org
SUMMARY:¡Todo lo que necesita saber sobre la aplicación del Child Care Stabilization Grant (2nd Ronda)!
DESCRIPTION:CLICK HERE TO REGISTER!\n\n\n¿Tiene preguntas sobre el Child Care Stabilization Grant? ¡Bueno\, estamos aquí para ayudarle! Martha Jiménez y Nestor Gavidia del Maryland Women’s Business Center responderán a todas sus preguntas e inquietudes sobre la solicitud y los requisitos para el Stabilization Grant (2nd Ronda). ¡¡No espere!! La aplicación cierra el 23 de enero del 2022 a las 6:00 p.m \n\n 
URL:https://marylandwbc.org/workshops-and-seminars/todo-lo-que-necesita-saber-sobre-la-aplicacion-del-child-care-stabilization-grant-2nd-ronda-2/
LOCATION:MD
CATEGORIES:Child Care,Workshop
END:VEVENT
BEGIN:VEVENT
DTSTART;TZID=UTC:20220120T100000
DTEND;TZID=UTC:20220120T113000
DTSTAMP:20260420T150214
CREATED:20220113T210901Z
LAST-MODIFIED:20220113T210901Z
UID:10002286-1642672800-1642678200@marylandwbc.org
SUMMARY:Coffee and Discussion: A full 360 Degrees View of Your Business
DESCRIPTION:CLICK HERE TO REGISTER!\n\nWelcome to a new year of Coffee and Discussion Prince George’s County! Meet with fellow female entrepreneurs to network and gain insights to help you grow your business in 2022. Valuable connections were made last year within this group – don’t miss out on these networking opportunities. We meet virtually the third Thursday of every month at 10 AM. Make this event recurring in your calendar and be sure to sign up each month to get the zoom link. \n  \n“Get Focused on your Business\,” presented by MWBC Consultant Angie Duncanson. Angie will present the GrowthWheel 360 Screening Tool to help you assess the 20 areas of running a business so you don’t leave anything out when deciding on what to focus on next. You’ll be able to assess your current business\, assess your opportunities and possibilities\, or assess your skills. With the results\, you’ll be able to map out your next steps to success. Sign up today!
URL:https://marylandwbc.org/workshops-and-seminars/coffee-discussions/
LOCATION:MD
CATEGORIES:Business Development Strategies,Managing a Business,Prince George's County
END:VEVENT
BEGIN:VEVENT
DTSTART;TZID=America/New_York:20220121T100000
DTEND;TZID=America/New_York:20220121T110000
DTSTAMP:20260420T150214
CREATED:20220105T223145Z
LAST-MODIFIED:20220105T223145Z
UID:10001911-1642759200-1642762800@marylandwbc.org
SUMMARY:Entrepreneur\, are you ready for a correct report of your 2021 taxes?
DESCRIPTION:CLICK HERE TO REGISTER!\n\n\nIf your business was active with sales\, loans\, grants\, unemployment\, and more\, you should take this free class. \nFor one hour Mr. Samir Garcia one of our pro bono CPAs will explain what and how you should be prepared. \n\n 
URL:https://marylandwbc.org/workshops-and-seminars/entrepreneur-are-you-ready-for-a-correct-report-of-your-2021-taxes/
LOCATION:MD
CATEGORIES:Business Finance,Tax Planning,Webinar,Workshop
END:VEVENT
BEGIN:VEVENT
DTSTART;TZID=America/New_York:20220121T100000
DTEND;TZID=America/New_York:20220121T110000
DTSTAMP:20260420T150214
CREATED:20220105T223744Z
LAST-MODIFIED:20220105T223744Z
UID:10002280-1642759200-1642762800@marylandwbc.org
SUMMARY:¿Empresario\, está usted listo para reportar correctamente los impuestos del año 2021?
DESCRIPTION:CLICK HERE TO REGISTER!\n\n\nSi su negocio estuvo activo en el ano 2021\, y tuvo ventas\, obtuvo prestamos o subsidio del gobierno o quizá recibió beneficios del desempleo\, usted debería tomar esta clase gratuita en donde \nel CPA Samir Garcia\, explicara por una hora\, todo lo que usted debe saber para reportar correctamente sus impuestos. \n\n 
URL:https://marylandwbc.org/workshops-and-seminars/empresario-esta-usted-listo-para-reportar-correctamente-los-impuestos-del-ano-2021/
LOCATION:MD
CATEGORIES:Business Finance,Tax Planning,Webinar,Workshop
END:VEVENT
BEGIN:VEVENT
DTSTART;TZID=America/New_York:20220125T100000
DTEND;TZID=America/New_York:20220125T113000
DTSTAMP:20260420T150214
CREATED:20220113T203724Z
LAST-MODIFIED:20220113T203724Z
UID:10002284-1643104800-1643110200@marylandwbc.org
SUMMARY:Steps to Start Your Business
DESCRIPTION:CLICK HERE TO REGISTER!\n\nDiscover what it really takes to start your own business. This newly re-designed workshop walks you through the steps you need to take to get your startup up and running. Topics addressed include:\n• Writing a business plan\n• Funding your business\n• Legal considerations\n• Registering your business in Maryland\n• Obtaining your federal tax ID\n• Forming a B.A.I.L. team\n• Managing risk\n• Marketing your business\n*Intended Audience: Pre-Venture \nSteps to Start Your Business is the second workshop in our “Plan and Start Your Business” series. It is recommended that you take workshops in the following order:\n1. Introduction to Entrepreneurship and MWBC\n2. Steps to Start Your Business\n3. Develop Your Business Plan\n4. Market Your Business on a Budget \n 
URL:https://marylandwbc.org/workshops-and-seminars/steps-to-start-your-business-2/
LOCATION:MD
CATEGORIES:Core,Legal Issues,Marketing,Starting a Business,Webinar,Workshop
END:VEVENT
BEGIN:VEVENT
DTSTART;TZID=UTC:20220127T093000
DTEND;TZID=UTC:20220127T113000
DTSTAMP:20260420T150214
CREATED:20220113T204935Z
LAST-MODIFIED:20220113T204935Z
UID:10002285-1643275800-1643283000@marylandwbc.org
SUMMARY:Develop Your Business Plan
DESCRIPTION:CLICK HERE TO REGISTER!\n\nA business plan is a road map to steer your business in the right direction and an essential component of success. It is also the key to securing funding from banks and investors. Writing your business plan requires a holistic analysis of your business\, which we will detail in this course. Topics include:\n• Business mission\, vision and values\n• Market/competitive analysis\n• Marketing goals\n• Business operations and organizational structure\n• Financial analysis and sales projections\n• Small business accounting and compliance \n*Intended Audience: pre-venture\, start-up \nDevelop Your Business Plan is the third workshop in our “Plan and Start Your Business” series. It is recommended that you take workshops in the following order:\n1. Introduction to Entrepreneurship and MWBC\n2. Steps to Start Your Business\n3. Develop Your Business Plan\n4. Market Your Business on a Budget \nPre-registration is required. You will receive a link to the Zoom meeting upon registration. If this is your first time using Zoom\, we recommend that you log on a few minutes early as you may need to install the Zoom app. \nNote: MWBC recognizes that many individuals and businesses are experiencing financial hardships right now. If the cost of this workshop is a deterrent to your attendance\, please contact us to discuss scholarship opportunities.  \n 
URL:https://marylandwbc.org/workshops-and-seminars/develop-your-business-plan-3/
LOCATION:MD
CATEGORIES:Business Development Strategies,Developing a Business Plan
END:VEVENT
BEGIN:VEVENT
DTSTART;TZID=UTC:20220127T100000
DTEND;TZID=UTC:20220127T110000
DTSTAMP:20260420T150214
CREATED:20220111T000740Z
LAST-MODIFIED:20220113T205739Z
UID:10002283-1643277600-1643281200@marylandwbc.org
SUMMARY:Coffee & Connections: Frederick County
DESCRIPTION:CLICK HERE TO REGISTER!\n\nWelcome to a new year of Coffee and Connections Frederick County! Meet with fellow female entrepreneurs to network and gain insights to help you grow your business in 2022. Valuable connections were made last year within this group – don’t miss out on these networking opportunities. We meet virtually the last Thursday of every month at 10 AM. Make this event recurring in your calendar and be sure to sign up each month to get the zoom link. \nJanuary 27 session: “Get Focused on your Business\,” presented by MWBC Consultant Karen Kalantzis. Karen will present the GrowthWheel 360 Screening Tool to help you assess the 20 areas of running a business so you don’t leave anything out when deciding on what to focus on next. You’ll be able to assess your current business\, assess your opportunities and possibilities\, or assess your skills. With the results\, you’ll be able to map out your next steps to success. Sign up today!
URL:https://marylandwbc.org/workshops-and-seminars/coffee-connections/
LOCATION:MD
CATEGORIES:Business Development Strategies,Frederick County,Managing a Business
END:VEVENT
END:VCALENDAR