BEGIN:VCALENDAR
VERSION:2.0
PRODID:-//Maryland Women&#039;s Business Center - ECPv6.15.11//NONSGML v1.0//EN
CALSCALE:GREGORIAN
METHOD:PUBLISH
X-WR-CALNAME:Maryland Women&#039;s Business Center
X-ORIGINAL-URL:https://marylandwbc.org
X-WR-CALDESC:Events for Maryland Women&#039;s Business Center
REFRESH-INTERVAL;VALUE=DURATION:PT1H
X-Robots-Tag:noindex
X-PUBLISHED-TTL:PT1H
BEGIN:VTIMEZONE
TZID:UTC
BEGIN:STANDARD
TZOFFSETFROM:+0000
TZOFFSETTO:+0000
TZNAME:UTC
DTSTART:20210101T000000
END:STANDARD
END:VTIMEZONE
BEGIN:VEVENT
DTSTART;TZID=UTC:20220222T110000
DTEND;TZID=UTC:20220222T120000
DTSTAMP:20260420T132015
CREATED:20220214T182549Z
LAST-MODIFIED:20220214T182549Z
UID:10002287-1645527600-1645531200@marylandwbc.org
SUMMARY:The Importance of Emotional Intelligence in Business
DESCRIPTION:CLICK HERE TO REGISTER!\n\nJoin us for a 60- minute workshop to understand the importance our emotional intelligence and the impact on your business or career. During the discussion we will: \n\nDefine self-awareness & self-management\nShare best practices for elevating our business /career through self-awareness specifically while in a hybrid environment\nProvide resources for learning more about emotional intelligence\n\n  \nWith over 20 years of experience\, Shaneiree “Shay” Dames has become a subject matter expert in emotional intelligence\, which she aligns with coaching leaders to enhance the effectiveness of their teams and their organizations. \nAs an innovative perspective coach\, she helps people solve problems through unpacking other perspectives to get to effective dialogue and communication. She does this through training design\, coaching and team development. \nShay takes a strategic approach to: \n\nonboarding processes\,\nleadership development\, and\ndeveloping personalized training programs.\n\nShe includes online learning platforms and virtual training modalities – something she has done for over 20 years within several industries\, including BIG-4 accounting\, non-profit\, hospitality\, and the legal industry. \nHer ability to empower individuals and provide practical consulting sets The Dames Group apart in its transformational approach to leadership development and business growth.
URL:https://marylandwbc.org/workshops-and-seminars/the-importance-of-emotional-intelligence/
LOCATION:MD
CATEGORIES:Business Development Strategies,Human Resources,Managing a Business
END:VEVENT
BEGIN:VEVENT
DTSTART;TZID=UTC:20220224T100000
DTEND;TZID=UTC:20220224T110000
DTSTAMP:20260420T132015
CREATED:20220211T005832Z
LAST-MODIFIED:20220211T005903Z
UID:10002288-1645696800-1645700400@marylandwbc.org
SUMMARY:Coffee & Connections: Frederick County
DESCRIPTION:CLICK HERE TO REGISTER!\n\nJoin Maryland Women’s Business Center for a monthly networking group created just for Frederick County entrepreneurs facilitated by your MWBC Business Consultant\, Karen Kalantzis! \nDuring the coming year\, we’ll:\n– Network with each other\n– Learn from one another and\,\n– Build a supportive community. \nThe virtual meeting will be on the last Thursday of every month through 2022. The more often you attend\, the more relationships you will build\, and the stronger your business will become! Join us on Thursday\, February 24 at 10 AM over Zoom. \nHere is the agenda for February 24: \nHow to Make Business Metrics Work for You \nIf someone gave you a key to unleash your business potential would you take it? Business metrics are key to focusing your attention on underlying trends in your business and can point the way toward success.  It is no different than being lost in the woods without trail markers.  Find your way toward a better business outcome in 2022! \n· Speaker:  Faith Klareich\, CEO\, Sheeler Klareich Associates\, LLC\, Strategic Advising for Small Business & Nonprofits \n·Break out rooms with an exercise and discussion \n·Sharing time with the group \n·Announcements and wrap up
URL:https://marylandwbc.org/workshops-and-seminars/coffee-connections-frederick-county/
LOCATION:MD
CATEGORIES:Business Development Strategies,Frederick County,Managing a Business
END:VEVENT
END:VCALENDAR