BEGIN:VCALENDAR
VERSION:2.0
PRODID:-//Maryland Women&#039;s Business Center - ECPv6.15.11//NONSGML v1.0//EN
CALSCALE:GREGORIAN
METHOD:PUBLISH
X-ORIGINAL-URL:https://marylandwbc.org
X-WR-CALDESC:Events for Maryland Women&#039;s Business Center
REFRESH-INTERVAL;VALUE=DURATION:PT1H
X-Robots-Tag:noindex
X-PUBLISHED-TTL:PT1H
BEGIN:VTIMEZONE
TZID:America/New_York
BEGIN:DAYLIGHT
TZOFFSETFROM:-0500
TZOFFSETTO:-0400
TZNAME:EDT
DTSTART:20210314T070000
END:DAYLIGHT
BEGIN:STANDARD
TZOFFSETFROM:-0400
TZOFFSETTO:-0500
TZNAME:EST
DTSTART:20211107T060000
END:STANDARD
BEGIN:DAYLIGHT
TZOFFSETFROM:-0500
TZOFFSETTO:-0400
TZNAME:EDT
DTSTART:20220313T070000
END:DAYLIGHT
BEGIN:STANDARD
TZOFFSETFROM:-0400
TZOFFSETTO:-0500
TZNAME:EST
DTSTART:20221106T060000
END:STANDARD
BEGIN:DAYLIGHT
TZOFFSETFROM:-0500
TZOFFSETTO:-0400
TZNAME:EDT
DTSTART:20230312T070000
END:DAYLIGHT
BEGIN:STANDARD
TZOFFSETFROM:-0400
TZOFFSETTO:-0500
TZNAME:EST
DTSTART:20231105T060000
END:STANDARD
END:VTIMEZONE
BEGIN:VTIMEZONE
TZID:UTC
BEGIN:STANDARD
TZOFFSETFROM:+0000
TZOFFSETTO:+0000
TZNAME:UTC
DTSTART:20210101T000000
END:STANDARD
END:VTIMEZONE
BEGIN:VEVENT
DTSTART;TZID=America/New_York:20220412T100000
DTEND;TZID=America/New_York:20220412T113000
DTSTAMP:20260420T101532
CREATED:20220317T174145Z
LAST-MODIFIED:20220317T174201Z
UID:10002298-1649757600-1649763000@marylandwbc.org
SUMMARY:Great Resignation: What’s Happening and What’s Next (The Impact and Implications for Your Business
DESCRIPTION:CLICK HERE TO REGISTER!\n\nYour organization\, like many small businesses\, has most likely been impacted by The Great Resignation.  Attend this workshop to learn what The Great Resignation really is; what are the pros and cons for you and your employees; what are the short-term and long-term implications of The Great Resignation on your business.  You’ll walk away with a better understanding of what is going on\, how to cope and not just survive The Great Resignation\, but thrive amid and beyond. \nVeronica L. Matthews is a certified Leadership Coach\, Human Resources Consultant\, Corporate Trainer\, Speaker\, and Author.  She is a native of Prince George’s County\, MD\, and a proud Bison of Howard University earning her Bachelor of Business Administration degree with honors.  Veronica has extensive experience as a Human Resources Executive for several public and private entities throughout the Washington\, DC metropolitan area.  Her passion is leadership and professional development as she enjoys helping people identify\, achieve\, and live up to their fullest potential.  Veronica provides corporate essential skills training\, coaching\, and HR Consulting services to start-up and small businesses that want to grow and sustain their organizations through their most valuable resource\, their people. \nSocial media links and booking information: \nLinkedIn:  www.linkedin.com/in/veronicamatthews \nFacebook:  @vlmcoaching \nInstagram:  @vlmcoaching \nTwitter:  @vlmcoaching \nWebsite:  www.vlmcoaching.com \nEmail:  veronica@vlmcoaching.com
URL:https://marylandwbc.org/workshops-and-seminars/great-resignation-whats-happening-and-whats-next-the-impact-and-implications-for-your-business/
LOCATION:MD
CATEGORIES:Business Development Strategies,Disaster Planning,Focus Area,Human Resources,Managing a Business
END:VEVENT
BEGIN:VEVENT
DTSTART;TZID=America/New_York:20220418T100000
DTEND;TZID=America/New_York:20220418T113000
DTSTAMP:20260420T101532
CREATED:20220322T221616Z
LAST-MODIFIED:20220322T221616Z
UID:10002301-1650276000-1650281400@marylandwbc.org
SUMMARY:Introduction to Entrepreneurship to MWBC
DESCRIPTION:CLICK HERE TO REGISTER!\n\n  \nMWBC presents Introduction to Entrepreneurship. \nBecoming a successful entrepreneur requires hard work and thorough planning. During this workshop we will:\n• Examine the characteristics of successful entrepreneurs.\n• Clarify some of the myths and realities of small business ownership.\n• Start a self-assessment to determine your readiness to become a small business owner.\n• Set a plan of action to complete your self-assessment by seeking feedback from stakeholders\, such as family\, friends\, and potential customers.\n• Describe the services provided by the Maryland Women’s Business Center that can aid you in starting and growing your business. \nIf you are just starting your entrepreneurial journey\, we recommended that you take this workshop first. It is recommended that you take workshops in the following order:\n1. Introduction to Entrepreneurship and MWBC\n2. Steps to Start Your Business\n3. Develop Your Business Plan\n4. Market Your Business on a Budget \n  \nNote Our Policies: Women and men are invited to attend our training workshops. The Zoom link is provided by MCPL\, please visit the link when it is time for the webinar to begin.  If this is your first time using Zoom\, we recommend that you log on a few minutes early as you may need to install the Zoom app.
URL:https://marylandwbc.org/workshops-and-seminars/introduction-to-entrepreneurship-to-mwbc-2/
LOCATION:MD
CATEGORIES:Starting a Business,Webinar,Workshop
END:VEVENT
BEGIN:VEVENT
DTSTART;TZID=UTC:20220419T100000
DTEND;TZID=UTC:20220419T113000
DTSTAMP:20260420T101532
CREATED:20220216T202535Z
LAST-MODIFIED:20220419T195706Z
UID:10002293-1650362400-1650367800@marylandwbc.org
SUMMARY:Introduction to Entrepreneurship Series (in Spanish)
DESCRIPTION:CLICK HERE TO REGISTER!\n\nIn partnership with Montgomery County Public Libraries\, we present a FREE INTRODUCTION TO ENTREPRENEURSHIP \n  \nConvertirse en un emprendedor exitoso requiere un trabajo arduo y una planificación minuciosa. Durante este taller: \n• Examinar las características de los empresarios exitosos. \n• Aclare algunos de los mitos y realidades de la propiedad de pequeñas empresas. \n• Inicie una autoevaluación para determinar si está preparado para convertirse en propietario de una pequeña empresa. \n• Establezca un plan de acción para completar sus autoevaluaciones buscando comentarios de las partes interesadas\, como familiares\, amigos y clientes potenciales. \n• Describir los servicios proporcionados por Maryland Women’s Business Center que pueden ayudarla a iniciar y hacer crecer su negocio. \n  \nTenga en cuenta nuestras políticas: Se invita a hombres y mujeres a asistir a nuestros talleres de capacitación. Se requiere preinscripción. Recibirá un enlace a la reunión de Zoom al registrarse. Si es la primera vez que usa Zoom\, le recomendamos que inicie sesión unos minutos antes\, ya que es posible que deba instalar la aplicación Zoom.
URL:https://marylandwbc.org/workshops-and-seminars/introduction-to-entrepreneurship-series-in-spanish-4/
LOCATION:MD
CATEGORIES:Business Development Strategies,Developing a Business Plan,Starting a Business,Workshop
END:VEVENT
BEGIN:VEVENT
DTSTART;TZID=UTC:20220421T100000
DTEND;TZID=UTC:20220421T113000
DTSTAMP:20260420T101532
CREATED:20220316T174408Z
LAST-MODIFIED:20220316T174408Z
UID:10002297-1650535200-1650540600@marylandwbc.org
SUMMARY:Coffee & Connections: Can We Talk? - About Your Numbers (Revenue)
DESCRIPTION:CLICK HERE TO REGISTER!\n\nJoin Maryland Women’s Business Center for a monthly networking group created for entrepreneurs facilitated by your MWBC Business Consultant\, Angie Duncanson! \nDescription: \nThis presentation will discuss selecting the most fitting revenue sources\, as well as future price increases\, to include: \n\nRevenue Model Mix\nRevenue Model Fan\nPrice Point\nPrice Plan\nPrice Evaluation
URL:https://marylandwbc.org/workshops-and-seminars/coffee-connections-can-we-talk-about-your-numbers-revenue/
LOCATION:MD
CATEGORIES:Business Development Strategies,Managing a Business,Prince George's County
END:VEVENT
BEGIN:VEVENT
DTSTART;TZID=America/New_York:20220425T100000
DTEND;TZID=America/New_York:20220425T113000
DTSTAMP:20260420T101532
CREATED:20220322T222356Z
LAST-MODIFIED:20220322T222356Z
UID:10002302-1650880800-1650886200@marylandwbc.org
SUMMARY:Steps to Start Your Business
DESCRIPTION:CLICK HERE TO REGISTER!\n\nDiscover what it really takes to start your own business. This newly re-designed workshop walks you through the steps you need to take to get your startup up and running. Topics addressed include:\n• Writing a business plan\n• Funding your business\n• Legal considerations\n• Registering your business in Maryland\n• Obtaining your federal tax ID\n• Forming a B.A.I.L. team\n• Managing risk\n• Marketing your business\n*Intended Audience: Pre-Venture \nSteps to Start Your Business is the second workshop in our “Plan and Start Your Business” series. It is recommended that you take workshops in the following order:\n1. Introduction to Entrepreneurship and MWBC\n2. Steps to Start Your Business\n3. Develop Your Business Plan\n4. Market Your Business on a Budget \n 
URL:https://marylandwbc.org/workshops-and-seminars/steps-to-start-your-business-3/
LOCATION:MD
CATEGORIES:Core,Legal Issues,Marketing,Starting a Business,Webinar,Workshop
END:VEVENT
BEGIN:VEVENT
DTSTART;TZID=UTC:20220428T100000
DTEND;TZID=UTC:20220428T113000
DTSTAMP:20260420T101532
CREATED:20220317T174913Z
LAST-MODIFIED:20220317T174913Z
UID:10002299-1651140000-1651145400@marylandwbc.org
SUMMARY:Coffee & Connections: Frederick County
DESCRIPTION:CLICK HERE TO REGISTER!\n\nJoin Maryland Women’s Business Center for a monthly networking group created just for Frederick County entrepreneurs facilitated by your MWBC Business Consultant\, Karen Kalantzis! \nDuring the coming year\, we’ll:\n– Network with each other\n– Learn from one another and\,\n– Build a supportive community. \nThe virtual meeting will be on the last Thursday of every month through 2022. The more often you attend\, the more relationships you will build\, and the stronger your business will become! \nHere is the agenda for April 28: \nWriting Your Elevator Speech \nWe’ll utilize a worksheet to tease out the best few sentences that describe your business. Then\, plan to meet IRL in June to practice with other members of the group. \n· Speaker:  Karen Kalantzis\, Associate Business Consultant\, Maryland Women’s Business Center \n·Break out rooms with an exercise and discussion \n·Sharing time with the group \n·Announcements and wrap up
URL:https://marylandwbc.org/workshops-and-seminars/coffee-connections-frederick-county-3/
LOCATION:MD
CATEGORIES:Business Development Strategies,Frederick County,Managing a Business,Networking
END:VEVENT
END:VCALENDAR